Workbook

Sheet Totaaloverzicht
A1: volgnr. | B1: dag | C1: datum | D1: tijdstip | E1: team THUIS | F1: team UIT | G1: lettercode | H1: zaalcode | I1: zaalnaam | J1: plaats | K1: uitslag | L1: scheidsrechter | M1: teller | N1: zaalwacht
A2: ='NH1'!A10 -> A | B2: ='NH1'!B10 -> zaterdag | C2: ='NH1'!C10 -> 46270 | D2: ='NH1'!D10 -> 16:00 | E2: ='NH1'!E10 -> VC Fortutas HS 1 | F2: ='NH1'!F10 -> VC Landgraaf-VC FUROS HS 2 | G2: ='NH1'!G10 -> BH1B15-AB | H2: ='NH1'!H10 -> NDWBE | ... N2: ='NH1'!N10 -> 0
A3: ='MB1'!A11 -> 1 | B3: ='MB1'!B11 -> zaterdag | C3: ='MB1'!C11 -> 46277 | D3: ='MB1'!D11 -> 12:30 | E3: ='MB1'!E11 -> Jokers VC MB 2 | F3: ='MB1'!F11 -> VC Fortutas MB 1 | G3: ='MB1'!G11 -> MB3M1-BE | H3: ='MB1'!H11 -> MTTHE | ... N3: ='MB1'!N11 -> 0
A4: ='NH1'!A11 -> B | B4: ='NH1'!B11 -> woensdag | C4: ='NH1'!C11 -> 46281 | D4: ='NH1'!D11 -> 20:00 | E4: ='NH1'!E11 -> Fyrfad HS 2 | F4: ='NH1'!F11 -> VC Fortutas HS 1 | G4: ='NH1'!G11 -> BH1B15-CA | H4: ='NH1'!H11 -> MTTUM | ... N4: ='NH1'!N11 -> 0
A5: ='MC1'!A11 -> 1 | B5: ='MC1'!B11 -> zaterdag | C5: ='MC1'!C11 -> 46284 | D5: ='MC1'!D11 -> 16:45 | E5: ='MC1'!E11 -> Jokers VC XC 3 | F5: ='MC1'!F11 -> VC Fortutas MC 1 | G5: ='MC1'!G11 -> XC3W1-BD | H5: ='MC1'!H11 -> MTTHE | ... N5: ='MC1'!N11 -> 0
A6: ='L5-2'!A11 -> 1 | B6: ='L5-2'!B11 -> zondag | C6: ='L5-2'!C11 -> 46285 | D6: ='L5-2'!D11 -> 10:20 | E6: ='L5-2'!E11 -> VC Fortutas L5 2 | F6: ='L5-2'!F11 -> BVC Holyoke L5 1 | G6: ='L5-2'!G11 -> VN52AD-FD | H6: ='L5-2'!H11 -> HRTDE | ... N6: ='L5-2'!N11 -> n.v.t.
A7: ='L5-1'!A11 -> 1 | B7: ='L5-1'!B11 -> zondag | C7: ='L5-1'!C11 -> 46285 | D7: ='L5-1'!D11 -> 10:55 | E7: ='L5-1'!E11 -> Accretos L5 2 | F7: ='L5-1'!F11 -> VC Fortutas L5 1 | G7: ='L5-1'!G11 -> VN52AC-AD | H7: ='L5-1'!H11 -> BLOKA | ... N7: ='L5-1'!N11 -> n.v.t.
A8: ='L5-2'!A12 -> 1 | B8: ='L5-2'!B12 -> zondag | C8: ='L5-2'!C12 -> 46285 | D8: ='L5-2'!D12 -> 11:00 | E8: ='L5-2'!E12 -> VC Fortutas L5 2 | F8: ='L5-2'!F12 -> Revoc/VCB L5 3 | G8: ='L5-2'!G12 -> VN52AD-FG | H8: ='L5-2'!H12 -> HRTDE | ... N8: ='L5-2'!N12 -> n.v.t.
A9: ='L5-1'!A12 -> 1 | B9: ='L5-1'!B12 -> zondag | C9: ='L5-1'!C12 -> 46285 | D9: ='L5-1'!D12 -> 11:35 | E9: ='L5-1'!E12 -> VC Fortutas L5 1 | F9: ='L5-1'!F12 -> Olsredlem L5 1 | G9: ='L5-1'!G12 -> VN52AC-DB | H9: ='L5-1'!H12 -> BLOKA | ... N9: ='L5-1'!N12 -> n.v.t.
A10: ='L5-2'!A13 -> 1 | B10: ='L5-2'!B13 -> zondag | C10: ='L5-2'!C13 -> 46285 | D10: ='L5-2'!D13 -> 11:40 | E10: ='L5-2'!E13 -> Hovoc L5 2 | F10: ='L5-2'!F13 -> VC Fortutas L5 2 | G10: ='L5-2'!G13 -> VN52AD-AF | H10: ='L5-2'!H13 -> HRTDE | ... N10: ='L5-2'!N13 -> n.v.t.
A11: ='L5-1'!A13 -> 1 | B11: ='L5-1'!B13 -> zondag | C11: ='L5-1'!C13 -> 46285 | D11: ='L5-1'!D13 -> 11:55 | E11: ='L5-1'!E13 -> Tupos L5 3 | F11: ='L5-1'!F13 -> VC Fortutas L5 1 | G11: ='L5-1'!G13 -> VN52AC-CD | H11: ='L5-1'!H13 -> BLOKA | ... N11: ='L5-1'!N13 -> n.v.t.
A12: ='L5-2'!A14 -> 1 | B12: ='L5-2'!B14 -> zondag | C12: ='L5-2'!C14 -> 46285 | D12: ='L5-2'!D14 -> 12:00 | E12: ='L5-2'!E14 -> VC Olympia L5 3 | F12: ='L5-2'!F14 -> VC Fortutas L5 2 | G12: ='L5-2'!G14 -> VN52AD-EF | H12: ='L5-2'!H14 -> HRTDE | ... N12: ='L5-2'!N14 -> n.v.t.
A13: ='ND2'!A11 -> 1 | B13: ='ND2'!B11 -> zaterdag | C13: ='ND2'!C11 -> 46291 | D13: ='ND2'!D11 -> 16:00 | E13: ='ND2'!E11 -> VC Fortutas DS 2 | F13: ='ND2'!F11 -> VC HERO DS 3 | G13: ='ND2'!G11 -> D3L-DG | H13: ='ND2'!H11 -> NDWBE | ... N13: ='ND2'!N11 -> 0
A14: ='NH1'!A14 -> 1 | B14: ='NH1'!B14 -> zaterdag | C14: ='NH1'!C14 -> 46291 | D14: ='NH1'!D14 -> 16:00 | E14: ='NH1'!E14 -> VC Fortutas HS 1 | F14: ='NH1'!F14 -> Nuvoc HS 3 | G14: ='NH1'!G14 -> H1G-DG | H14: ='NH1'!H14 -> NDWBE | ... N14: ='NH1'!N14 -> 0
A15: ='MC1'!A12 -> 2 | B15: ='MC1'!B12 -> zaterdag | C15: ='MC1'!C12 -> 46291 | D15: ='MC1'!D12 -> 16:00 | E15: ='MC1'!E12 -> VC Fortutas MC 1 | F15: ='MC1'!F12 -> VC Heerlen MC 1 | G15: ='MC1'!G12 -> XC3W1-DE | H15: ='MC1'!H12 -> NDWBE | ... N15: ='MC1'!N12 -> 0
A16: ='ND3'!A11 -> 1 | B16: ='ND3'!B11 -> zaterdag | C16: ='ND3'!C11 -> 46291 | D16: ='ND3'!D11 -> 18:00 | E16: ='ND3'!E11 -> VC Fortutas DS 3 | F16: ='ND3'!F11 -> VC HERO DS 5 | G16: ='ND3'!G11 -> D3M-DG | H16: ='ND3'!H11 -> NDWBE | ... N16: ='ND3'!N11 -> 0
A17: ='MB1'!A12 -> 2 | B17: ='MB1'!B12 -> zaterdag | C17: ='MB1'!C12 -> 46291 | D17: ='MB1'!D12 -> 18:00 | E17: ='MB1'!E12 -> VC Fortutas MB 1 | F17: ='MB1'!F12 -> Furos MB 1 | G17: ='MB1'!G12 -> MB3M1-EA | H17: ='MB1'!H12 -> NDWBE | ... N17: ='MB1'!N12 -> 0
A18: ='L2-1'!A11 -> 1 | B18: ='L2-1'!B11 -> zondag | C18: ='L2-1'!C11 -> 46292 | D18: ='L2-1'!D11 -> 0.42361111 | E18: ='L2-1'!E11 -> VC Fortutas L2 1 | F18: ='L2-1'!F11 -> VC LIMAX L2 1 | G18: ='L2-1'!G11 -> VN22AI-CD | H18: ='L2-1'!H11 -> ELLSC | ... N18: ='L2-1'!N11 -> n.v.t.
A19: ='L2-1'!A12 -> 1 | B19: ='L2-1'!B12 -> zondag | C19: ='L2-1'!C12 -> 46292 | D19: ='L2-1'!D12 -> 0.43055556 | E19: ='L2-1'!E12 -> Bach SV L2 2 | F19: ='L2-1'!F12 -> VC Fortutas L2 1 | G19: ='L2-1'!G12 -> VN22AI-BC | H19: ='L2-1'!H12 -> ELLSC | ... N19: ='L2-1'!N12 -> n.v.t.
A20: ='L2-1'!A13 -> 1 | B20: ='L2-1'!B13 -> zondag | C20: ='L2-1'!C13 -> 46292 | D20: ='L2-1'!D13 -> 0.44444444 | E20: ='L2-1'!E13 -> VC Fortutas L2 1 | F20: ='L2-1'!F13 -> Bach SV L2 1 | G20: ='L2-1'!G13 -> VN22AI-CA | H20: ='L2-1'!H13 -> ELLSC | ... N20: ='L2-1'!N13 -> n.v.t.
A21: ='L2-1'!A14 -> 1 | B21: ='L2-1'!B14 -> zondag | C21: ='L2-1'!C14 -> 46292 | D21: ='L2-1'!D14 -> 0.46527778 | E21: ='L2-1'!E14 -> VC LIMAX L2 1 | F21: ='L2-1'!F14 -> VC Fortutas L2 1 | G21: ='L2-1'!G14 -> VN22AI-DC | H21: ='L2-1'!H14 -> ELLSC | ... N21: ='L2-1'!N14 -> n.v.t.
A22: ='L2-1'!A15 -> 1 | B22: ='L2-1'!B15 -> zondag | C22: ='L2-1'!C15 -> 46292 | D22: ='L2-1'!D15 -> 0.47222222 | E22: ='L2-1'!E15 -> VC Fortutas L2 1 | F22: ='L2-1'!F15 -> Bach SV L2 2 | G22: ='L2-1'!G15 -> VN22AI-CB | H22: ='L2-1'!H15 -> ELLSC | ... N22: ='L2-1'!N15 -> n.v.t.
A23: ='L2-1'!A16 -> 2 | B23: ='L2-1'!B16 -> zondag | C23: ='L2-1'!C16 -> 46306 | D23: ='L2-1'!D16 -> 0.39583333 | E23: ='L2-1'!E16 -> Olsredlem L2 2 | F23: ='L2-1'!F16 -> VC Fortutas L2 1 | G23: ='L2-1'!G16 -> VN22BH-AE | H23: ='L2-1'!H16 -> HRTDE | ... N23: ='L2-1'!N16 -> n.v.t.
A24: ='L2-1'!A17 -> 2 | B24: ='L2-1'!B17 -> zondag | C24: ='L2-1'!C17 -> 46306 | D24: ='L2-1'!D17 -> 0.40972222 | E24: ='L2-1'!E17 -> VC Fortutas L2 1 | F24: ='L2-1'!F17 -> Set Up L2 1 | G24: ='L2-1'!G17 -> VN22BH-EB | H24: ='L2-1'!H17 -> HRTDE | ... N24: ='L2-1'!N17 -> n.v.t.
A25: ='L2-1'!A18 -> 2 | B25: ='L2-1'!B18 -> zondag | C25: ='L2-1'!C18 -> 46306 | D25: ='L2-1'!D18 -> 0.42361111 | E25: ='L2-1'!E18 -> VC Fortutas L2 1 | F25: ='L2-1'!F18 -> Revoc/VCB L2 2 | G25: ='L2-1'!G18 -> VN22BH-ED | H25: ='L2-1'!H18 -> HRTDE | ... N25: ='L2-1'!N18 -> n.v.t.
A26: ='L2-1'!A19 -> 2 | B26: ='L2-1'!B19 -> zondag | C26: ='L2-1'!C19 -> 46306 | D26: ='L2-1'!D19 -> 0.43055556 | E26: ='L2-1'!E19 -> Revoc/VCB L2 1 | F26: ='L2-1'!F19 -> VC Fortutas L2 1 | G26: ='L2-1'!G19 -> VN22BH-CE | H26: ='L2-1'!H19 -> HRTDE | ... N26: ='L2-1'!N19 -> n.v.t.
A27: ='MC1'!A13 -> 3 | B27: ='MC1'!B13 -> zaterdag | C27: ='MC1'!C13 -> 46298 | D27: ='MC1'!D13 -> 13:00 | E27: ='MC1'!E13 -> Vakgarage Ernes & Piereij - ADC XC 2 | F27: ='MC1'!F13 -> VC Fortutas MC 1 | G27: ='MC1'!G13 -> XC3W1-CD | H27: ='MC1'!H13 -> URMOV | ... N27: ='MC1'!N13 -> 0
A28: ='NH1'!A15 -> 2 | B28: ='NH1'!B15 -> zaterdag | C28: ='NH1'!C15 -> 46298 | D28: ='NH1'!D15 -> 13:45 | E28: ='NH1'!E15 -> Ledûb Volleybal HS 2 | F28: ='NH1'!F15 -> VC Fortutas HS 1 | G28: ='NH1'!G15 -> H1G-FD | H28: ='NH1'!H15 -> BDLZU | ... N28: ='NH1'!N15 -> 0
A29: ='ND3'!A12 -> 2 | B29: ='ND3'!B12 -> zaterdag | C29: ='ND3'!C12 -> 46298 | D29: ='ND3'!D12 -> 14:00 | E29: ='ND3'!E12 -> S'62 DS 1 | F29: ='ND3'!F12 -> VC Fortutas DS 3 | G29: ='ND3'!G12 -> D3M-FD | H29: ='ND3'!H12 -> SWMSP | ... N29: ='ND3'!N12 -> 0
A30: ='ND2'!A12 -> 2 | B30: ='ND2'!B12 -> zaterdag | C30: ='ND2'!C12 -> 46298 | D30: ='ND2'!D12 -> 14:30 | E30: ='ND2'!E12 -> Hyundai Peter Janssen Stravoc DS 5 | F30: ='ND2'!F12 -> VC Fortutas DS 2 | G30: ='ND2'!G12 -> D3L-FD | H30: ='ND2'!H12 -> STPGR | ... N30: ='ND2'!N12 -> 0
A31: ='ND1'!A11 -> 1 | B31: ='ND1'!B11 -> zaterdag | C31: ='ND1'!C11 -> 46298 | D31: ='ND1'!D11 -> 16:00 | E31: ='ND1'!E11 -> Ledûb Volleybal DS 4 | F31: ='ND1'!F11 -> VC Fortutas DS 1 | G31: ='ND1'!G11 -> D2M-FD | H31: ='ND1'!H11 -> BDLZU | ... N31: ='ND1'!N11 -> 0
A32: ='L5-2'!A15 -> 2 | B32: ='L5-2'!B15 -> zondag | C32: ='L5-2'!C15 -> 46299 | D32: ='L5-2'!D15 -> 10:00 | E32: ='L5-2'!E15 -> VC Fortutas L5 2 | F32: ='L5-2'!F15 -> BVC Holyoke L5 1 | G32: ='L5-2'!G15 -> VN52AD-FD-2 | H32: ='L5-2'!H15 -> GBVHA | ... N32: ='L5-2'!N15 -> n.v.t.
A33: ='L5-2'!A16 -> 2 | B33: ='L5-2'!B16 -> zondag | C33: ='L5-2'!C16 -> 46299 | D33: ='L5-2'!D16 -> 10:40 | E33: ='L5-2'!E16 -> VC Fortutas L5 2 | F33: ='L5-2'!F16 -> Revoc/VCB L5 3 | G33: ='L5-2'!G16 -> VN52AD-FG-2 | H33: ='L5-2'!H16 -> GBVHA | ... N33: ='L5-2'!N16 -> n.v.t.
A34: ='L5-1'!A14 -> 2 | B34: ='L5-1'!B14 -> zondag | C34: ='L5-1'!C14 -> 46299 | D34: ='L5-1'!D14 -> 10:55 | E34: ='L5-1'!E14 -> VC Fortutas L5 1 | F34: ='L5-1'!F14 -> Olsredlem L5 1 | G34: ='L5-1'!G14 -> VN52AC-DB-2 | H34: ='L5-1'!H14 -> PNGPI | ... N34: ='L5-1'!N14 -> n.v.t.
A35: ='L5-2'!A17 -> 2 | B35: ='L5-2'!B17 -> zondag | C35: ='L5-2'!C17 -> 46299 | D35: ='L5-2'!D17 -> 11:20 | E35: ='L5-2'!E17 -> Hovoc L5 2 | F35: ='L5-2'!F17 -> VC Fortutas L5 2 | G35: ='L5-2'!G17 -> VN52AD-AF-2 | H35: ='L5-2'!H17 -> GBVHA | ... N35: ='L5-2'!N17 -> n.v.t.
A36: ='L5-1'!A15 -> 2 | B36: ='L5-1'!B15 -> zondag | C36: ='L5-1'!C15 -> 46299 | D36: ='L5-1'!D15 -> 11:35 | E36: ='L5-1'!E15 -> Tupos L5 3 | F36: ='L5-1'!F15 -> VC Fortutas L5 1 | G36: ='L5-1'!G15 -> VN52AC-CD-2 | H36: ='L5-1'!H15 -> PNGPI | ... N36: ='L5-1'!N15 -> n.v.t.
A37: ='L5-2'!A18 -> 2 | B37: ='L5-2'!B18 -> zondag | C37: ='L5-2'!C18 -> 46299 | D37: ='L5-2'!D18 -> 11:40 | E37: ='L5-2'!E18 -> VC Olympia L5 3 | F37: ='L5-2'!F18 -> VC Fortutas L5 2 | G37: ='L5-2'!G18 -> VN52AD-EF-2 | H37: ='L5-2'!H18 -> GBVHA | ... N37: ='L5-2'!N18 -> n.v.t.
A38: ='L5-1'!A16 -> 2 | B38: ='L5-1'!B16 -> zondag | C38: ='L5-1'!C16 -> 46299 | D38: ='L5-1'!D16 -> 11:55 | E38: ='L5-1'!E16 -> Revoc/VCB L5 2 | F38: ='L5-1'!F16 -> VC Fortutas L5 1 | G38: ='L5-1'!G16 -> VN52AC-FD | H38: ='L5-1'!H16 -> PNGPI | ... N38: ='L5-1'!N16 -> n.v.t.
A39: ='ND2'!A13 -> 3 | B39: ='ND2'!B13 -> zaterdag | C39: ='ND2'!C13 -> 46305 | D39: ='ND2'!D13 -> 16:00 | E39: ='ND2'!E13 -> VC Fortutas DS 2 | F39: ='ND2'!F13 -> VC Olympia DS 5 | G39: ='ND2'!G13 -> D3L-DE | H39: ='ND2'!H13 -> NDWBE | ... N39: ='ND2'!N13 -> 0
A40: ='NH1'!A16 -> 3 | B40: ='NH1'!B16 -> dinsdag | C40: ='NH1'!C16 -> 46305 | D40: ='NH1'!D16 -> 16:00 | E40: ='NH1'!E16 -> VC Fortutas HS 1 | F40: ='NH1'!F16 -> DKJO HS 1 | G40: ='NH1'!G16 -> H1G-DE | H40: ='NH1'!H16 -> NDWBE | ... N40: ='NH1'!N16 -> 0
A41: ='MC1'!A14 -> 4 | B41: ='MC1'!B14 -> zaterdag | C41: ='MC1'!C14 -> 46305 | D41: ='MC1'!D14 -> 16:00 | E41: ='MC1'!E14 -> VC Fortutas MC 1 | F41: ='MC1'!F14 -> Jokers VC XC 3 | G41: ='MC1'!G14 -> XC3W1-DB | H41: ='MC1'!H14 -> NDWBE | ... N41: ='MC1'!N14 -> 0
A42: ='ND1'!A12 -> 2 | B42: ='ND1'!B12 -> zaterdag | C42: ='ND1'!C12 -> 46305 | D42: ='ND1'!D12 -> 18:00 | E42: ='ND1'!E12 -> VC Fortutas DS 1 | F42: ='ND1'!F12 -> VC Polaris DS 3 | G42: ='ND1'!G12 -> D2M-DE | H42: ='ND1'!H12 -> NDWBE | ... N42: ='ND1'!N12 -> 0
A43: ='ND3'!A13 -> 3 | B43: ='ND3'!B13 -> zaterdag | C43: ='ND3'!C13 -> 46305 | D43: ='ND3'!D13 -> 18:00 | E43: ='ND3'!E13 -> VC Fortutas DS 3 | F43: ='ND3'!F13 -> VC Patrick DS 2 | G43: ='ND3'!G13 -> D3M-DE | H43: ='ND3'!H13 -> NDWBE | ... N43: ='ND3'!N13 -> 0
A44: ='MB1'!A13 -> 3 | B44: ='MB1'!B13 -> zaterdag | C44: ='MB1'!C13 -> 46305 | D44: ='MB1'!D13 -> 18:00 | E44: ='MB1'!E13 -> VC Fortutas MB 1 | F44: ='MB1'!F13 -> Jokers VC MB 2 | G44: ='MB1'!G13 -> MB3M1-EB | H44: ='MB1'!H13 -> NDWBE | ... N44: ='MB1'!N13 -> 0
A45: ='L5-1'!A17 -> 3 | B45: ='L5-1'!B17 -> zondag | C45: ='L5-1'!C17 -> 46306 | D45: ='L5-1'!D17 -> 0.43055556 | E45: ='L5-1'!E17 -> Tupos L5 2 | F45: ='L5-1'!F17 -> VC Fortutas L5 1 | G45: ='L5-1'!G17 -> VN52BB-CD | H45: ='L5-1'!H17 -> BLOKA | ... N45: ='L5-1'!N17 -> n.v.t.
A46: ='L5-1'!A18 -> 3 | B46: ='L5-1'!B18 -> zondag | C46: ='L5-1'!C18 -> 46306 | D46: ='L5-1'!D18 -> 0.44444444 | E46: ='L5-1'!E18 -> VC Fortutas L5 1 | F46: ='L5-1'!F18 -> KLAVERBLAD / HHC L5 1 | G46: ='L5-1'!G18 -> VN52BB-DB | H46: ='L5-1'!H18 -> BLOKA | ... N46: ='L5-1'!N18 -> n.v.t.
A47: ='L5-2'!A19 -> 3 | B47: ='L5-2'!B19 -> zondag | C47: ='L5-2'!C19 -> 46306 | D47: ='L5-2'!D19 -> 0.45833333 | E47: ='L5-2'!E19 -> VC Fortutas L5 2 | F47: ='L5-2'!F19 -> VC Olympia L5 3 | G47: ='L5-2'!G19 -> VN52BC-EF | H47: ='L5-2'!H19 -> BLOKA | ... N47: ='L5-2'!N19 -> n.v.t.
A48: ='L5-1'!A19 -> 3 | B48: ='L5-1'!B19 -> zondag | C48: ='L5-1'!C19 -> 46306 | D48: ='L5-1'!D19 -> 0.47222222 | E48: ='L5-1'!E19 -> Accretos L5 2 | F48: ='L5-1'!F19 -> VC Fortutas L5 1 | G48: ='L5-1'!G19 -> VN52BB-AD | H48: ='L5-1'!H19 -> BLOKA | ... N48: ='L5-1'!N19 -> n.v.t.
A49: ='L5-2'!A20 -> 3 | B49: ='L5-2'!B20 -> zondag | C49: ='L5-2'!C20 -> 46306 | D49: ='L5-2'!D20 -> 0.48611111 | E49: ='L5-2'!E20 -> VC Fortutas L5 2 | F49: ='L5-2'!F20 -> Bach SV L5 1 | G49: ='L5-2'!G20 -> VN52BC-EA | H49: ='L5-2'!H20 -> BLOKA | ... N49: ='L5-2'!N20 -> n.v.t.
A50: ='L5-2'!A21 -> 3 | B50: ='L5-2'!B21 -> zondag | C50: ='L5-2'!C21 -> 46306 | D50: ='L5-2'!D21 -> 0.5 | E50: ='L5-2'!E21 -> Olsredlem L5 1 | F50: ='L5-2'!F21 -> VC Fortutas L5 2 | G50: ='L5-2'!G21 -> VN52BC-BE | H50: ='L5-2'!H21 -> BLOKA | ... N50: ='L5-2'!N21 -> n.v.t.
A51: ='ND1'!A13 -> 3 | B51: ='ND1'!B13 -> donderdag | C51: ='ND1'!C13 -> 46310 | D51: ='ND1'!D13 -> 20:00 | E51: ='ND1'!E13 -> VC Fortutas DS 1 | F51: ='ND1'!F13 -> Set Up DS 4 | G51: ='ND1'!G13 -> D2M-DG | H51: ='ND1'!H13 -> NDWBE | ... N51: ='ND1'!N13 -> 0
A52: ='MC1'!A15 -> 5 | B52: ='MC1'!B15 -> zaterdag | C52: ='MC1'!C15 -> 46312 | D52: ='MC1'!D15 -> 16:00 | E52: ='MC1'!E15 -> VC Fortutas MC 1 | F52: ='MC1'!F15 -> Vakgarage Ernes & Piereij - ADC XC 2 | G52: ='MC1'!G15 -> XC3W1-DC | H52: ='MC1'!H15 -> NDWBE | ... N52: ='MC1'!N15 -> 0
A53: ='MC1'!A16 -> 6 | B53: ='MC1'!B16 -> zaterdag | C53: ='MC1'!C16 -> 46319 | D53: ='MC1'!D16 -> 16:00 | E53: ='MC1'!E16 -> VC Fortutas MC 1 | F53: ='MC1'!F16 -> Furos XC 1 | G53: ='MC1'!G16 -> XC3W1-DA | H53: ='MC1'!H16 -> NDWBE | ... N53: ='MC1'!N16 -> 0
A54: ='MB1'!A14 -> 4 | B54: ='MB1'!B14 -> zaterdag | C54: ='MB1'!C14 -> 46326 | D54: ='MB1'!D14 -> 13:00 | E54: ='MB1'!E14 -> Vakgarage Ernes & Piereij - ADC MB 1 | F54: ='MB1'!F14 -> VC Fortutas MB 1 | G54: ='MB1'!G14 -> MB3M1-DE | H54: ='MB1'!H14 -> URMOV | ... N54: ='MB1'!N14 -> 0
A55: ='ND2'!A14 -> 4 | B55: ='ND2'!B14 -> zaterdag | C55: ='ND2'!C14 -> 46326 | D55: ='ND2'!D14 -> 16:00 | E55: ='ND2'!E14 -> Peelpush DS 7 | F55: ='ND2'!F14 -> VC Fortutas DS 2 | G55: ='ND2'!G14 -> D3L-JD | H55: ='ND2'!H14 -> MEIKO | ... N55: ='ND2'!N14 -> 0
A56: ='ND1'!A14 -> 4 | B56: ='ND1'!B14 -> zaterdag | C56: ='ND1'!C14 -> 46326 | D56: ='ND1'!D14 -> 18:00 | E56: ='ND1'!E14 -> Livoc Liessel DS 1 | F56: ='ND1'!F14 -> VC Fortutas DS 1 | G56: ='ND1'!G14 -> D2M-JD | H56: ='ND1'!H14 -> LSLSM | ... N56: ='ND1'!N14 -> 0
A57: ='NH1'!A17 -> 4 | B57: ='NH1'!B17 -> zaterdag | C57: ='NH1'!C17 -> 46326 | D57: ='NH1'!D17 -> 19:00 | E57: ='NH1'!E17 -> VC Maasdal HS 1 | F57: ='NH1'!F17 -> VC Fortutas HS 1 | G57: ='NH1'!G17 -> H1G-JD | H57: ='NH1'!H17 -> WEMTU | ... N57: ='NH1'!N17 -> 0
A58: ='L5-1'!A20 -> 4 | B58: ='L5-1'!B20 -> zondag | C58: ='L5-1'!C20 -> 46327 | D58: ='L5-1'!D20 -> 0.41666667 | E58: ='L5-1'!E20 -> VC Fortutas L5 1 | F58: ='L5-1'!F20 -> Accretos L5 2 | G58: ='L5-1'!G20 -> VN52BB-DA | H58: ='L5-1'!H20 -> VELVI | ... N58: ='L5-1'!N20 -> n.v.t.
A59: ='L5-1'!A21 -> 4 | B59: ='L5-1'!B21 -> zondag | C59: ='L5-1'!C21 -> 46327 | D59: ='L5-1'!D21 -> 0.43055556 | E59: ='L5-1'!E21 -> BVC Holyoke L5 1 | F59: ='L5-1'!F21 -> VC Fortutas L5 1 | G59: ='L5-1'!G21 -> VN52BB-ED | H59: ='L5-1'!H21 -> VELVI | ... N59: ='L5-1'!N21 -> n.v.t.
A60: ='L5-2'!A22 -> 4 | B60: ='L5-2'!B22 -> zondag | C60: ='L5-2'!C22 -> 46327 | D60: ='L5-2'!D22 -> 0.44444444 | E60: ='L5-2'!E22 -> BVC Holyoke L5 2 | F60: ='L5-2'!F22 -> VC Fortutas L5 2 | G60: ='L5-2'!G22 -> VN52BC-CE | H60: ='L5-2'!H22 -> VELVI | ... N60: ='L5-2'!N22 -> n.v.t.
A61: ='L5-1'!A22 -> 4 | B61: ='L5-1'!B22 -> zondag | C61: ='L5-1'!C22 -> 46327 | D61: ='L5-1'!D22 -> 0.45833333 | E61: ='L5-1'!E22 -> VC Fortutas L5 1 | F61: ='L5-1'!F22 -> VC Olympia L5 2 | G61: ='L5-1'!G22 -> VN52BB-DF | H61: ='L5-1'!H22 -> VELVI | ... N61: ='L5-1'!N22 -> n.v.t.
A62: ='L5-2'!A23 -> 4 | B62: ='L5-2'!B23 -> zondag | C62: ='L5-2'!C23 -> 46327 | D62: ='L5-2'!D23 -> 0.47222222 | E62: ='L5-2'!E23 -> VC Fortutas L5 2 | F62: ='L5-2'!F23 -> Tupos L5 3 | G62: ='L5-2'!G23 -> VN52BC-ED | H62: ='L5-2'!H23 -> VELVI | ... N62: ='L5-2'!N23 -> n.v.t.
A63: ='L5-2'!A24 -> 4 | B63: ='L5-2'!B24 -> zondag | C63: ='L5-2'!C24 -> 46327 | D63: ='L5-2'!D24 -> 0.48611111 | E63: ='L5-2'!E24 -> VC Olympia L5 3 | F63: ='L5-2'!F24 -> VC Fortutas L5 2 | G63: ='L5-2'!G24 -> VN52BC-FE | H63: ='L5-2'!H24 -> VELVI | ... N63: ='L5-2'!N24 -> n.v.t.
A64: ='ND3'!A14 -> 4 | B64: ='ND3'!B14 -> zaterdag | C64: ='ND3'!C14 -> 46333 | D64: ='ND3'!D14 -> 12:00 | E64: ='ND3'!E14 -> VC Sittardia DS 1 | F64: ='ND3'!F14 -> VC Fortutas DS 3 | G64: ='ND3'!G14 -> D3M-CD | H64: ='ND3'!H14 -> STDKL | ... N64: ='ND3'!N14 -> 0
A65: ='MC1'!A17 -> 7 | B65: ='MC1'!B17 -> zaterdag | C65: ='MC1'!C17 -> 46333 | D65: ='MC1'!D17 -> 0.5 | E65: ='MC1'!E17 -> Furos XC 1 | F65: ='MC1'!F17 -> VC Fortutas MC 1 | G65: ='MC1'!G17 -> XC3W1-AD | H65: ='MC1'!H17 -> KRDRO | ... N65: ='MC1'!N17 -> 0
A66: ='ND1'!A15 -> 5 | B66: ='ND1'!B15 -> zaterdag | C66: ='ND1'!C15 -> 46333 | D66: ='ND1'!D15 -> 16:00 | E66: ='ND1'!E15 -> VC Trivia DS 4 | F66: ='ND1'!F15 -> VC Fortutas DS 1 | G66: ='ND1'!G15 -> D2M-CD | H66: ='ND1'!H15 -> METSP | ... N66: ='ND1'!N15 -> 0
A67: ='NH1'!A18 -> 5 | B67: ='NH1'!B18 -> zaterdag | C67: ='NH1'!C18 -> 46333 | D67: ='NH1'!D18 -> 16:00 | E67: ='NH1'!E18 -> Were-Di HS 1 | F67: ='NH1'!F18 -> VC Fortutas HS 1 | G67: ='NH1'!G18 -> H1G-CD | H67: ='NH1'!H18 -> GMTMO | ... N67: ='NH1'!N18 -> 0
A68: ='ND2'!A15 -> 5 | B68: ='ND2'!B15 -> zaterdag | C68: ='ND2'!C15 -> 46333 | D68: ='ND2'!D15 -> 16:30 | E68: ='ND2'!E15 -> Bach SV DS 2 | F68: ='ND2'!F15 -> VC Fortutas DS 2 | G68: ='ND2'!G15 -> D3L-CD | H68: ='ND2'!H15 -> ELLSC | ... N68: ='ND2'!N15 -> 0
A69: ='ND2'!A16 -> 6 | B69: ='ND2'!B16 -> zaterdag | C69: ='ND2'!C16 -> 46340 | D69: ='ND2'!D16 -> 16:00 | E69: ='ND2'!E16 -> VC Fortutas DS 2 | F69: ='ND2'!F16 -> Civitas DS 3 | G69: ='ND2'!G16 -> D3L-DB | H69: ='ND2'!H16 -> NDWBE | ... N69: ='ND2'!N16 -> 0
A70: ='NH1'!A19 -> 6 | B70: ='NH1'!B19 -> zaterdag | C70: ='NH1'!C19 -> 46340 | D70: ='NH1'!D19 -> 16:00 | E70: ='NH1'!E19 -> VC Fortutas HS 1 | F70: ='NH1'!F19 -> Civitas HS 2 | G70: ='NH1'!G19 -> H1G-DB | H70: ='NH1'!H19 -> NDWBE | ... N70: ='NH1'!N19 -> 0
A71: ='MC1'!A18 -> 8 | B71: ='MC1'!B18 -> zaterdag | C71: ='MC1'!C18 -> 46340 | D71: ='MC1'!D18 -> 16:00 | E71: ='MC1'!E18 -> VC Fortutas MC 1 | F71: ='MC1'!F18 -> VC Sittardia XC 1 | G71: ='MC1'!G18 -> XC3W1-DF | H71: ='MC1'!H18 -> NDWBE | ... N71: ='MC1'!N18 -> 0
A72: ='ND3'!A15 -> 5 | B72: ='ND3'!B15 -> zaterdag | C72: ='ND3'!C15 -> 46340 | D72: ='ND3'!D15 -> 18:00 | E72: ='ND3'!E15 -> VC Fortutas DS 3 | F72: ='ND3'!F15 -> Accretos DS 2 | G72: ='ND3'!G15 -> D3M-DB | H72: ='ND3'!H15 -> NDWBE | ... N72: ='ND3'!N15 -> 0
A73: ='MB1'!A15 -> 5 | B73: ='MB1'!B15 -> zaterdag | C73: ='MB1'!C15 -> 46340 | D73: ='MB1'!D15 -> 18:00 | E73: ='MB1'!E15 -> VC Fortutas MB 1 | F73: ='MB1'!F15 -> Vakgarage Ernes & Piereij - ADC MB 1 | G73: ='MB1'!G15 -> MB3M1-ED | H73: ='MB1'!H15 -> NDWBE | ... N73: ='MB1'!N15 -> 0
A74: ='ND1'!A16 -> 6 | B74: ='ND1'!B16 -> zaterdag | C74: ='ND1'!C16 -> 46340 | D74: ='ND1'!D16 -> 18:00 | E74: ='ND1'!E16 -> VC Fortutas DS 1 | F74: ='ND1'!F16 -> Hovoc DS 3 | G74: ='ND1'!G16 -> D2M-DB | H74: ='ND1'!H16 -> NDWBE | ... N74: ='ND1'!N16 -> 0
A75: ='MB1'!A16 -> 6 | B75: ='MB1'!B16 -> zaterdag | C75: ='MB1'!C16 -> 46347 | D75: ='MB1'!D16 -> 0.45833333 | E75: ='MB1'!E16 -> Furos MB 1 | F75: ='MB1'!F16 -> VC Fortutas MB 1 | G75: ='MB1'!G16 -> MB3M1-AE | H75: ='MB1'!H16 -> KRDRO | ... N75: ='MB1'!N16 -> 0
A76: ='ND1'!A17 -> 7 | B76: ='ND1'!B17 -> zaterdag | C76: ='ND1'!C17 -> 46347 | D76: ='ND1'!D17 -> 14:30 | E76: ='ND1'!E17 -> VC Athos '70 DS 2 | F76: ='ND1'!F17 -> VC Fortutas DS 1 | G76: ='ND1'!G17 -> D2M-AD | H76: ='ND1'!H17 -> SVMKR | ... N76: ='ND1'!N17 -> 0
A77: ='ND3'!A16 -> 6 | B77: ='ND3'!B16 -> zaterdag | C77: ='ND3'!C16 -> 46347 | D77: ='ND3'!D16 -> 19:00 | E77: ='ND3'!E16 -> Revoc/VCB DS 3 | F77: ='ND3'!F16 -> VC Fortutas DS 3 | G77: ='ND3'!G16 -> D3M-AD | H77: ='ND3'!H16 -> REVSC | ... N77: ='ND3'!N16 -> 0
A78: ='MC1'!A19 -> 9 | B78: ='MC1'!B19 -> zaterdag | C78: ='MC1'!C19 -> 46354 | D78: ='MC1'!D19 -> 0.5 | E78: ='MC1'!E19 -> VC Sittardia XC 1 | F78: ='MC1'!F19 -> VC Fortutas MC 1 | G78: ='MC1'!G19 -> XC3W1-FD | H78: ='MC1'!H19 -> STDKL | ... N78: ='MC1'!N19 -> 0
A79: ='ND2'!A17 -> 7 | B79: ='ND2'!B17 -> zaterdag | C79: ='ND2'!C17 -> 46354 | D79: ='ND2'!D17 -> 16:00 | E79: ='ND2'!E17 -> VC Fortutas DS 2 | F79: ='ND2'!F17 -> Hovoc DS 5 | G79: ='ND2'!G17 -> D3L-DI | H79: ='ND2'!H17 -> NDWBE | ... N79: ='ND2'!N17 -> 0
A80: ='NH1'!A20 -> 7 | B80: ='NH1'!B20 -> zaterdag | C80: ='NH1'!C20 -> 46354 | D80: ='NH1'!D20 -> 16:00 | E80: ='NH1'!E20 -> VC Fortutas HS 1 | F80: ='NH1'!F20 -> Nuvo'68 HS 3 | G80: ='NH1'!G20 -> H1G-DI | H80: ='NH1'!H20 -> NDWBE | ... N80: ='NH1'!N20 -> 0
A81: ='ND3'!A17 -> 7 | B81: ='ND3'!B17 -> zaterdag | C81: ='ND3'!C17 -> 46354 | D81: ='ND3'!D17 -> 18:00 | E81: ='ND3'!E17 -> VC Fortutas DS 3 | F81: ='ND3'!F17 -> Furos DS 4 | G81: ='ND3'!G17 -> D3M-DI | H81: ='ND3'!H17 -> NDWBE | ... N81: ='ND3'!N17 -> 0
A82: ='MB1'!A17 -> 7 | B82: ='MB1'!B17 -> zaterdag | C82: ='MB1'!C17 -> 46354 | D82: ='MB1'!D17 -> 18:00 | E82: ='MB1'!E17 -> VC Fortutas MB 1 | F82: ='MB1'!F17 -> Hyundai Peter Janssen Stravoc MB 2 | G82: ='MB1'!G17 -> MB3M1-EC | H82: ='MB1'!H17 -> NDWBE | ... N82: ='MB1'!N17 -> 0
A83: ='ND1'!A18 -> 8 | B83: ='ND1'!B18 -> zaterdag | C83: ='ND1'!C18 -> 46354 | D83: ='ND1'!D18 -> 18:00 | E83: ='ND1'!E18 -> VC Fortutas DS 1 | F83: ='ND1'!F18 -> Peelpush DS 5 | G83: ='ND1'!G18 -> D2M-DI | H83: ='ND1'!H18 -> NDWBE | ... N83: ='ND1'!N18 -> 0
A84: ='MB1'!A18 -> 8 | B84: ='MB1'!B18 -> zaterdag | C84: ='MB1'!C18 -> 46368 | D84: ='MB1'!D18 -> 12:30 | E84: ='MB1'!E18 -> Hyundai Peter Janssen Stravoc MB 2 | F84: ='MB1'!F18 -> VC Fortutas MB 1 | G84: ='MB1'!G18 -> MB3M1-CE | H84: ='MB1'!H18 -> STPGR | ... N84: ='MB1'!N18 -> 0
A85: ='ND1'!A19 -> 9 | B85: ='ND1'!B19 -> zaterdag | C85: ='ND1'!C19 -> 46368 | D85: ='ND1'!D19 -> 13:00 | E85: ='ND1'!E19 -> Van Hoorn Carbide VC Weert DS 3 | F85: ='ND1'!F19 -> VC Fortutas DS 1 | G85: ='ND1'!G19 -> D2M-HD | H85: ='ND1'!H19 -> WRTBR | ... N85: ='ND1'!N19 -> 0
A86: ='ND3'!A18 -> 8 | B86: ='ND3'!B18 -> zaterdag | C86: ='ND3'!C18 -> 46368 | D86: ='ND3'!D18 -> 15:30 | E86: ='ND3'!E18 -> Van Hoorn Carbide VC Weert DS 5 | F86: ='ND3'!F18 -> VC Fortutas DS 3 | G86: ='ND3'!G18 -> D3M-HD | H86: ='ND3'!H18 -> WRTBR | ... N86: ='ND3'!N18 -> 0
A87: ='MC1'!A20 -> 10 | B87: ='MC1'!B20 -> zaterdag | C87: ='MC1'!C20 -> 46368 | D87: ='MC1'!D20 -> 17:45 | E87: ='MC1'!E20 -> VC Heerlen MC 1 | F87: ='MC1'!F20 -> VC Fortutas MC 1 | G87: ='MC1'!G20 -> XC3W1-ED | H87: ='MC1'!H20 -> HRLGB | ... N87: ='MC1'!N20 -> 0
A88: ='NH1'!A21 -> 8 | B88: ='NH1'!B21 -> zaterdag | C88: ='NH1'!C21 -> 46368 | D88: ='NH1'!D21 -> 19:00 | E88: ='NH1'!E21 -> Shock '82 Cuijk HS 1 | F88: ='NH1'!F21 -> VC Fortutas HS 1 | G88: ='NH1'!G21 -> H1G-HD | H88: ='NH1'!H21 -> CUYKW | ... N88: ='NH1'!N21 -> 0
A89: ='ND2'!A18 -> 8 | B89: ='ND2'!B18 -> zaterdag | C89: ='ND2'!C18 -> 46375 | D89: ='ND2'!D18 -> 16:00 | E89: ='ND2'!E18 -> Olsredlem DS 3 | F89: ='ND2'!F18 -> VC Fortutas DS 2 | G89: ='ND2'!G18 -> D3L-AD | H89: ='ND2'!H18 -> MDOBE | ... N89: ='ND2'!N18 -> 0
A90: ='ND2'!A19 -> 9 | B90: ='ND2'!B19 -> zaterdag | C90: ='ND2'!C19 -> 46396 | D90: ='ND2'!D19 -> 16:00 | E90: ='ND2'!E19 -> VC Fortutas DS 2 | F90: ='ND2'!F19 -> Hyundai Peter Janssen Stravoc DS 5 | G90: ='ND2'!G19 -> D3L-DF | H90: ='ND2'!H19 -> NDWBE | ... N90: ='ND2'!N19 -> 0
A91: ='ND3'!A19 -> 9 | B91: ='ND3'!B19 -> zaterdag | C91: ='ND3'!C19 -> 46396 | D91: ='ND3'!D19 -> 18:00 | E91: ='ND3'!E19 -> VC Fortutas DS 3 | F91: ='ND3'!F19 -> S'62 DS 1 | G91: ='ND3'!G19 -> D3M-DF | H91: ='ND3'!H19 -> NDWBE | ... N91: ='ND3'!N19 -> 0
A92: ='NH1'!A22 -> 9 | B92: ='NH1'!B22 -> zaterdag | C92: ='NH1'!C22 -> 46403 | D92: ='NH1'!D22 -> 0.75 | E92: ='NH1'!E22 -> VC Fortutas HS 1 | F92: ='NH1'!F22 -> Ledûb Volleybal HS 2 | G92: ='NH1'!G22 -> H1G-DF | H92: ='NH1'!H22 -> NDWBE | ... N92: ='NH1'!N22 -> 0
A93: ='ND1'!A20 -> 10 | B93: ='ND1'!B20 -> zaterdag | C93: ='ND1'!C20 -> 46403 | D93: ='ND1'!D20 -> 18:00 | E93: ='ND1'!E20 -> VC Fortutas DS 1 | F93: ='ND1'!F20 -> Ledûb Volleybal DS 4 | G93: ='ND1'!G20 -> D2M-DF | H93: ='ND1'!H20 -> NDWBE | ... N93: ='ND1'!N20 -> 0
A94: ='ND1'!A21 -> 11 | B94: ='ND1'!B21 -> zaterdag | C94: ='ND1'!C21 -> 46417 | D94: ='ND1'!D21 -> 15:00 | E94: ='ND1'!E21 -> VC Polaris DS 3 | F94: ='ND1'!F21 -> VC Fortutas DS 1 | G94: ='ND1'!G21 -> D2M-ED | H94: ='ND1'!H21 -> HMDHO | ... N94: ='ND1'!N21 -> 0
A95: ='ND3'!A20 -> 10 | B95: ='ND3'!B20 -> zaterdag | C95: ='ND3'!C20 -> 46417 | D95: ='ND3'!D20 -> 15:30 | E95: ='ND3'!E20 -> VC Patrick DS 2 | F95: ='ND3'!F20 -> VC Fortutas DS 3 | G95: ='ND3'!G20 -> D3M-ED | H95: ='ND3'!H20 -> ECHBA | ... N95: ='ND3'!N20 -> 0
A96: ='NH1'!A23 -> 10 | B96: ='NH1'!B23 -> zaterdag | C96: ='NH1'!C23 -> 46417 | D96: ='NH1'!D23 -> 18:30 | E96: ='NH1'!E23 -> DKJO HS 1 | F96: ='NH1'!F23 -> VC Fortutas HS 1 | G96: ='NH1'!G23 -> H1G-ED | H96: ='NH1'!H23 -> MRLWE | ... N96: ='NH1'!N23 -> 0
A97: ='ND2'!A20 -> 10 | B97: ='ND2'!B20 -> zaterdag | C97: ='ND2'!C20 -> 46417 | D97: ='ND2'!D20 -> 19:00 | E97: ='ND2'!E20 -> VC Olympia DS 5 | F97: ='ND2'!F20 -> VC Fortutas DS 2 | G97: ='ND2'!G20 -> D3L-ED | H97: ='ND2'!H20 -> PNGPI | ... N97: ='ND2'!N20 -> 0
A98: ='ND2'!A21 -> 11 | B98: ='ND2'!B21 -> zaterdag | C98: ='ND2'!C21 -> 46438 | D98: ='ND2'!D21 -> 16:00 | E98: ='ND2'!E21 -> VC Fortutas DS 2 | F98: ='ND2'!F21 -> Peelpush DS 7 | G98: ='ND2'!G21 -> D3L-DJ | H98: ='ND2'!H21 -> NDWBE | ... N98: ='ND2'!N21 -> 0
A99: ='NH1'!A24 -> 11 | B99: ='NH1'!B24 -> zaterdag | C99: ='NH1'!C24 -> 46438 | D99: ='NH1'!D24 -> 16:00 | E99: ='NH1'!E24 -> VC Fortutas HS 1 | F99: ='NH1'!F24 -> VC Maasdal HS 1 | G99: ='NH1'!G24 -> H1G-DJ | H99: ='NH1'!H24 -> NDWBE | ... N99: ='NH1'!N24 -> 0
A100: ='ND1'!A22 -> 12 | B100: ='ND1'!B22 -> zaterdag | C100: ='ND1'!C22 -> 46438 | D100: ='ND1'!D22 -> 18:00 | E100: ='ND1'!E22 -> VC Fortutas DS 1 | F100: ='ND1'!F22 -> Livoc Liessel DS 1 | G100: ='ND1'!G22 -> D2M-DJ | H100: ='ND1'!H22 -> NDWBE | ... N100: ='ND1'!N22 -> 0
...

Sheet ND1
C1: Dames 1 | D1: A | E1: VC Athos '70 DS2 | F1: G | G1: Set Up DS4
C2: KL. D2M | D2: B | E2: Hovoc DS3 | F2: H | G2: VC Weert DS3
D3: C | E3: VC Trivia DS4 | F3: I | G3: Peelpush DS5
D4: D | E4: VC Fortutas DS1 | F4: J | G4: Livoc Liessel DS1
D5: E | E5: VC Polaris DS3 | F5: K
D6: F | E6: Ledûb Volleybal DS4 | F6: L
A8: volgnr. | B8: dag | C8: datum | D8: tijdstip | E8: team THUIS | F8: team UIT | G8: lettercode | H8: zaalcode | I8: sporthal | J8: plaats | K8: uitslag | L8: scheidsrechter | M8: teller
A11: 1 | B11: =TEXT(C11,"dddd") -> zaterdag | C11: 46298 | D11: 16:00 | E11: Ledûb Volleybal DS 4 | F11: VC Fortutas DS 1 | G11: D2M-FD | H11: BDLZU | I11: Zuiderpoort | J11: Budel | L11: n.v.t. | M11: n.v.t.
A12: 2 | B12: =TEXT(C12,"dddd") -> zaterdag | C12: 46305 | D12: 18:00 | E12: VC Fortutas DS 1 | F12: VC Polaris DS 3 | G12: D2M-DE | H12: NDWBE | I12: Sport- en squashcentrum | J12: Nederweert | L12: Thijs Kessels | M12: Bodine Lempens & Isa van den Haterd
A13: 3 | B13: =TEXT(C13,"dddd") -> donderdag | C13: 46310 | D13: 20:00 | E13: VC Fortutas DS 1 | F13: Set Up DS 4 | G13: D2M-DG | H13: NDWBE | I13: Sport- en squashcentrum | J13: Nederweert | L13: Stef Janssen | M13: Guus Götzen
A14: 4 | B14: =TEXT(C14,"dddd") -> zaterdag | C14: 46326 | D14: 18:00 | E14: Livoc Liessel DS 1 | F14: VC Fortutas DS 1 | G14: D2M-JD | H14: LSLSM | I14: De Smeltkroes | J14: Liessel | L14: n.v.t. | M14: n.v.t.
A15: 5 | B15: =TEXT(C15,"dddd") -> zaterdag | C15: 46333 | D15: 16:00 | E15: VC Trivia DS 4 | F15: VC Fortutas DS 1 | G15: D2M-CD | H15: METSP | I15: Sportcentrum De Speulhof | J15: Meterik | L15: n.v.t. | M15: n.v.t.
A16: 6 | B16: =TEXT(C16,"dddd") -> zaterdag | C16: 46340 | D16: 18:00 | E16: VC Fortutas DS 1 | F16: Hovoc DS 3 | G16: D2M-DB | H16: NDWBE | I16: Sport- en squashcentrum | J16: Nederweert | L16: Jules Jacobs | M16: Maud van den Homberg & Tineke Kersten
A17: 7 | B17: =TEXT(C17,"dddd") -> zaterdag | C17: 46347 | D17: 14:30 | E17: VC Athos '70 DS 2 | F17: VC Fortutas DS 1 | G17: D2M-AD | H17: SVMKR | I17: De Kruisweide | J17: Sevenum | L17: n.v.t. | M17: n.v.t.
A18: 8 | B18: =TEXT(C18,"dddd") -> zaterdag | C18: 46354 | D18: 18:00 | E18: VC Fortutas DS 1 | F18: Peelpush DS 5 | G18: D2M-DI | H18: NDWBE | I18: Sport- en squashcentrum | J18: Nederweert | L18: Rita de Leeuw | M18: Renske Janssen & Teun van den Tillaar
A19: 9 | B19: =TEXT(C19,"dddd") -> zaterdag | C19: 46368 | D19: 13:00 | E19: Van Hoorn Carbide VC Weert DS 3 | F19: VC Fortutas DS 1 | G19: D2M-HD | H19: WRTBR | I19: Aan de bron | J19: Weert | L19: n.v.t. | M19: n.v.t.
A20: 10 | B20: =TEXT(C20,"dddd") -> zaterdag | C20: 46403 | D20: 18:00 | E20: VC Fortutas DS 1 | F20: Ledûb Volleybal DS 4 | G20: D2M-DF | H20: NDWBE | I20: Sport- en squashcentrum | J20: Nederweert | L20: John van Wijk | M20: Isa van den Haterd & Senna van der Putten
A21: 11 | B21: =TEXT(C21,"dddd") -> zaterdag | C21: 46417 | D21: 15:00 | E21: VC Polaris DS 3 | F21: VC Fortutas DS 1 | G21: D2M-ED | H21: HMDHO | I21: 't Hout | J21: Helmond | L21: n.v.t. | M21: n.v.t.
A22: 12 | B22: =TEXT(C22,"dddd") -> zaterdag | C22: 46438 | D22: 18:00 | E22: VC Fortutas DS 1 | F22: Livoc Liessel DS 1 | G22: D2M-DJ | H22: NDWBE | I22: Sport- en squashcentrum | J22: Nederweert | L22: Thijs Kessels | M22: Lara de Goey & Mees van de Kerkhof
... A28: 18 | B28: =TEXT(C28,"dddd") -> zaterdag | C28: 46494 | D28: 16:00 | E28: Set Up DS 4 | F28: VC Fortutas DS 1 | G28: D2M-GD | H28: MLOBR | I28: 't Brugeind | J28: Meerlo | L28: n.v.t. | M28: n.v.t.

Sheet ND2
C1: Dames 2 | D1: A | E1: Olsredlem DS3 | F1: G | G1: VC HERO DS3
C2: KL. D3L | D2: B | E2: Civitas DS3 | F2: H | G2: Hovoc DS5
D3: C | E3: Bach SV DS2 | F3: I | G3: Peelpush DS7
D4: D | E4: VC Fortutas DS2 | F4: J
D5: E | E5: VC Olympia DS5 | F5: K
D6: F | E6: Stravoc DS5 | F6: L
A8: volgnr. | B8: dag | C8: datum | D8: tijdstip | E8: team THUIS | F8: team UIT | G8: lettercode | H8: zaalcode | I8: sporthal | J8: plaats | K8: uitslag | L8: scheidsrechter | M8: teller
A11: 1 | B11: =TEXT(C11,"dddd") -> zaterdag | C11: 46291 | D11: 16:00 | E11: VC Fortutas DS 2 | F11: VC HERO DS 3 | G11: D3L-DG | H11: NDWBE | I11: Sport- en squashcentrum | J11: Nederweert | L11: Manon Janssen | M11: Hilde van de Kerkhof
A12: 2 | B12: =TEXT(C12,"dddd") -> zaterdag | C12: 46298 | D12: 14:30 | E12: Hyundai Peter Janssen Stravoc DS 5 | F12: VC Fortutas DS 2 | G12: D3L-FD | H12: STPGR | I12: De Grenslibel | J12: Stramproy | L12: n.v.t. | M12: n.v.t.
A13: 3 | B13: zaterdag | C13: 46305 | D13: 16:00 | E13: VC Fortutas DS 2 | F13: VC Olympia DS 5 | G13: D3L-DE | H13: NDWBE | I13: Sport- en squashcentrum | J13: Nederweert | L13: Gert-Jan Adema | M13: Wendy Gielen & Sam Smolenaers
A14: 4 | B14: =TEXT(C14,"dddd") -> zaterdag | C14: 46326 | D14: 16:00 | E14: Peelpush DS 7 | F14: VC Fortutas DS 2 | G14: D3L-JD | H14: MEIKO | I14: De Korref | J14: Meijel | L14: n.v.t. | M14: n.v.t.
A15: 5 | B15: =TEXT(C15,"dddd") -> zaterdag | C15: 46333 | D15: 16:30 | E15: Bach SV DS 2 | F15: VC Fortutas DS 2 | G15: D3L-CD | H15: ELLSC | I15: Gymzaal Scheyvenstraat | J15: Ell | L15: n.v.t. | M15: n.v.t.
A16: 6 | B16: =TEXT(C16,"dddd") -> zaterdag | C16: 46340 | D16: 16:00 | E16: VC Fortutas DS 2 | F16: Civitas DS 3 | G16: D3L-DB | H16: NDWBE | I16: Sport- en squashcentrum | J16: Nederweert | L16: Gert-Jan Adema | M16: Peter Hoonings & Imke Rademaker
A17: 7 | B17: =TEXT(C17,"dddd") -> zaterdag | C17: 46354 | D17: 16:00 | E17: VC Fortutas DS 2 | F17: Hovoc DS 5 | G17: D3L-DI | H17: NDWBE | I17: Sport- en squashcentrum | J17: Nederweert | L17: Ava Geraats | M17: Pieter Lempens & Sjoukje van Oudheusden
A18: 8 | B18: =TEXT(C18,"dddd") -> zaterdag | C18: 46375 | D18: 16:00 | E18: Olsredlem DS 3 | F18: VC Fortutas DS 2 | G18: D3L-AD | H18: MDOBE | I18: MFC De Zwingel | J18: Melderslo | L18: n.v.t. | M18: n.v.t.
A19: 9 | B19: =TEXT(C19,"dddd") -> zaterdag | C19: 46396 | D19: 16:00 | E19: VC Fortutas DS 2 | F19: Hyundai Peter Janssen Stravoc DS 5 | G19: D3L-DF | H19: NDWBE | I19: Sport- en squashcentrum | J19: Nederweert | L19: Kyra van Schendel | M19: Marleen Verdonschot & Milou Olislagers
A20: 10 | B20: =TEXT(C20,"dddd") -> zaterdag | C20: 46417 | D20: 19:00 | E20: VC Olympia DS 5 | F20: VC Fortutas DS 2 | G20: D3L-ED | H20: PNGPI | I20: Piushof | J20: Panningen | L20: n.v.t. | M20: n.v.t.
A21: 11 | B21: =TEXT(C21,"dddd") -> zaterdag | C21: 46438 | D21: 16:00 | E21: VC Fortutas DS 2 | F21: Peelpush DS 7 | G21: D3L-DJ | H21: NDWBE | I21: Sport- en squashcentrum | J21: Nederweert | L21: Gert-Jan Adema | M21: Cobi van Herten
A22: 12 | B22: =TEXT(C22,"dddd") -> zaterdag | C22: 46445 | D22: 16:00 | E22: VC Fortutas DS 2 | F22: Bach SV DS 2 | G22: D3L-DC | H22: NDWBE | I22: Sport- en squashcentrum | J22: Nederweert | L22: Kelly Nies | M22: Pieter Lempens
A23: 13 | B23: =TEXT(C23,"dddd") -> zaterdag | C23: 46459 | D23: 16:45 | E23: Civitas DS 3 | F23: VC Fortutas DS 2 | G23: D3L-BD | H23: VLOHA | I23: Ruben Kogeldans Sporthal | J23: Venlo | L23: n.v.t. | M23: n.v.t.
A24: 14 | B24: zaterdag | C24: 46466 | D24: 16:00 | E24: VC Fortutas DS 2 | F24: Olsredlem DS 3 | G24: D3L-DA | H24: NDWBE | I24: Sport- en squashcentrum | J24: Nederweert | L24: Rachelle Meijer | M24: Peter Hoonings
A25: 15 | B25: =TEXT(C25,"dddd") -> zaterdag | C25: 46480 | D25: 16:30 | E25: Hovoc DS 5 | F25: VC Fortutas DS 2 | G25: D3L-ID | H25: HRTDE | I25: Dendron Sporthal | J25: Horst | L25: n.v.t. | M25: n.v.t.
A26: 16 | B26: =TEXT(C26,"dddd") -> zaterdag | C26: 46494 | D26: 19:30 | E26: VC HERO DS 3 | F26: VC Fortutas DS 2 | G26: D3L-GD | H26: HENHH | I26: Herteheym | J26: Herten | L26: n.v.t. | M26: n.v.t.

Sheet ND3
C1: Dames 3 | D1: A | E1: Revoc/VCB DS3 | F1: G | G1: VC HERO DS5
C2: KL. D3M | D2: B | E2: Accretos DS2 | F2: H | G2: Weert DS5
D3: C | E3: VC Sittardia DS1 | F3: I | G3: Furos DS4
D4: D | E4: VC Fortutas DS3 | F4: J
D5: E | E5: VC Patrick DS2 | F5: K
D6: F | E6: S'62 DS1 | F6: L
A8: volgnr. | B8: dag | C8: datum | D8: tijdstip | E8: team THUIS | F8: team UIT | G8: lettercode | H8: zaalcode | I8: sporthal | J8: plaats | K8: uitslag | L8: scheidsrechter | M8: teller
A11: 1 | B11: =TEXT(C11,"dddd") -> zaterdag | C11: 46291 | D11: 18:00 | E11: VC Fortutas DS 3 | F11: VC HERO DS 5 | G11: D3M-DG | H11: NDWBE | I11: Sport- en squashcentrum | J11: Nederweert | L11: Jules Jacobs | M11: ouders
A12: 2 | B12: =TEXT(C12,"dddd") -> zaterdag | C12: 46298 | D12: 14:00 | E12: S'62 DS 1 | F12: VC Fortutas DS 3 | G12: D3M-FD | H12: SWMSP | I12: Sportcentrum Swalmen | J12: Swalmen | L12: n.v.t. | M12: n.v.t.
A13: 3 | B13: zaterdag | C13: 46305 | D13: 18:00 | E13: VC Fortutas DS 3 | F13: VC Patrick DS 2 | G13: D3M-DE | H13: NDWBE | I13: Sport- en squashcentrum | J13: Nederweert | L13: Margo Saes | M13: ouders
A14: 4 | B14: =TEXT(C14,"dddd") -> zaterdag | C14: 46333 | D14: 12:00 | E14: VC Sittardia DS 1 | F14: VC Fortutas DS 3 | G14: D3M-CD | H14: STDKL | I14: Kleesj | J14: Sittard | L14: n.v.t. | M14: n.v.t.
A15: 5 | B15: =TEXT(C15,"dddd") -> zaterdag | C15: 46340 | D15: 18:00 | E15: VC Fortutas DS 3 | F15: Accretos DS 2 | G15: D3M-DB | H15: NDWBE | I15: Sport- en squashcentrum | J15: Nederweert | L15: Djez Gruijters | M15: ouders
A16: 6 | B16: =TEXT(C16,"dddd") -> zaterdag | C16: 46347 | D16: 19:00 | E16: Revoc/VCB DS 3 | F16: VC Fortutas DS 3 | G16: D3M-AD | H16: REVSC | I16: De Schans | J16: Reuver | L16: n.v.t. | M16: n.v.t.
A17: 7 | B17: =TEXT(C17,"dddd") -> zaterdag | C17: 46354 | D17: 18:00 | E17: VC Fortutas DS 3 | F17: Furos DS 4 | G17: D3M-DI | H17: NDWBE | I17: Sport- en squashcentrum | J17: Nederweert | L17: Roy Gijsen | M17: ouders
A18: 8 | B18: =TEXT(C18,"dddd") -> zaterdag | C18: 46368 | D18: 15:30 | E18: Van Hoorn Carbide VC Weert DS 5 | F18: VC Fortutas DS 3 | G18: D3M-HD | H18: WRTBR | I18: Aan de bron | J18: Weert | L18: n.v.t. | M18: n.v.t.
A19: 9 | B19: =TEXT(C19,"dddd") -> zaterdag | C19: 46396 | D19: 18:00 | E19: VC Fortutas DS 3 | F19: S'62 DS 1 | G19: D3M-DF | H19: NDWBE | I19: Sport- en squashcentrum | J19: Nederweert | L19: Stef Janssen | M19: ouders
A20: 10 | B20: =TEXT(C20,"dddd") -> zaterdag | C20: 46417 | D20: 15:30 | E20: VC Patrick DS 2 | F20: VC Fortutas DS 3 | G20: D3M-ED | H20: ECHBA | I20: In de Bandert | J20: Echt | L20: n.v.t. | M20: n.v.t.
A21: 11 | B21: =TEXT(C21,"dddd") -> zaterdag | C21: 46445 | D21: 18:00 | E21: VC Fortutas DS 3 | F21: VC Sittardia DS 1 | G21: D3M-DC | H21: NDWBE | I21: Sport- en squashcentrum | J21: Nederweert | L21: Ramino Peters | M21: ouders
A22: 12 | B22: =TEXT(C22,"dddd") -> zaterdag | C22: 46459 | D22: 15:30 | E22: Accretos DS 2 | F22: VC Fortutas DS 3 | G22: D3M-BD | H22: NERMV | I22: Het Maasveld | J22: Neer | L22: n.v.t. | M22: n.v.t.
A23: 13 | B23: =TEXT(C23,"dddd") -> zaterdag | C23: 46466 | D23: 18:00 | E23: VC Fortutas DS 3 | F23: Revoc/VCB DS 3 | G23: D3M-DA | H23: NDWBE | I23: Sport- en squashcentrum | J23: Nederweert | L23: Rob Janssen | M23: ouders
A24: 14 | B24: zaterdag | C24: 46480 | D24: 0.45833333 | E24: Furos DS 4 | F24: VC Fortutas DS 3 | G24: D3M-ID | H24: KRDRO | I24: Rolduc | J24: Kerkrade | L24: n.v.t. | M24: n.v.t.
A25: 15 | B25: =TEXT(C25,"dddd") -> zaterdag | C25: 46487 | D25: 18:00 | E25: VC Fortutas DS 3 | F25: Van Hoorn Carbide VC Weert DS 5 | G25: D3M-DH | H25: NDWBE | I25: Sport- en squashcentrum | J25: Nederweert | L25: Sander Verstappen | M25: ouders
A26: 16 | B26: =TEXT(C26,"dddd") -> zaterdag | C26: 46494 | D26: 15:00 | E26: VC HERO DS 5 | F26: VC Fortutas DS 3 | G26: D3M-GD | H26: HENHH | I26: Herteheym | J26: Herten | L26: n.v.t. | M26: n.v.t.

Sheet NH1
C1: Heren 1 | D1: A | E1: Civitas HS2 | F1: G | G1: Shock '82 HS1
C2: KL. H1G | D2: B | E2: Were-Di HS1 | F2: H | G2: Nuvo'68 HS3
D3: C | E3: Fortutas HS1 | F3: I | G3: VC Maasdal HS1
D4: D | E4: DKJO HS1 | F4: J
D5: E | E5: Ledûb HS2 | F5: K
D6: F | E6: Nuvoc HS3 | F6: L
A8: volgnr. | B8: dag | C8: datum | D8: tijdstip | E8: team THUIS | F8: team UIT | G8: lettercode | H8: zaalcode | I8: sporthal | J8: plaats | K8: uitslag | L8: scheidsrechter | M8: teller
A9: Beker
A10: A | B10: =TEXT(C10,"dddd") -> zaterdag | C10: 46270 | D10: 16:00 | E10: VC Fortutas HS 1 | F10: VC Landgraaf-VC FUROS HS 2 | G10: BH1B15-AB | H10: NDWBE | I10: Sport- en squashcentrum | J10: Nederweert | K10: 2-3 | L10: Jeroen Eekhout | M10: André Verstappen & Tessa Verstappen
A11: B | B11: =TEXT(C11,"dddd") -> woensdag | C11: 46281 | D11: 20:00 | E11: Fyrfad HS 2 | F11: VC Fortutas HS 1 | G11: BH1B15-CA | H11: MTTUM | I11: Universitair Sportcentrum UM Sports | J11: Maastricht | K11: 46082 | L11: n.v.t. | M11: n.v.t.
A13: Competitie
A14: 1 | B14: =TEXT(C14,"dddd") -> zaterdag | C14: 46291 | D14: 16:00 | E14: VC Fortutas HS 1 | F14: Nuvoc HS 3 | G14: H1G-DG | H14: NDWBE | I14: Sport- en squashcentrum | J14: Nederweert | L14: John van Wijk | M14: Marleen Verdonschot
A15: 2 | B15: =TEXT(C15,"dddd") -> zaterdag | C15: 46298 | D15: 13:45 | E15: Ledûb Volleybal HS 2 | F15: VC Fortutas HS 1 | G15: H1G-FD | H15: BDLZU | I15: Zuiderpoort | J15: Budel | L15: n.v.t. | M15: n.v.t.
A16: 3 | B16: dinsdag | C16: 46305 | D16: 16:00 | E16: VC Fortutas HS 1 | F16: DKJO HS 1 | G16: H1G-DE | H16: NDWBE | I16: Sport- en squashcentrum | J16: Nederweert | L16: Ingrid Strijdveen | M16: Bryan Eggels & Sietske van Oudheusden
A17: 4 | B17: =TEXT(C17,"dddd") -> zaterdag | C17: 46326 | D17: 19:00 | E17: VC Maasdal HS 1 | F17: VC Fortutas HS 1 | G17: H1G-JD | H17: WEMTU | I17: De Tump | J17: Wessem | L17: n.v.t. | M17: n.v.t.
A18: 5 | B18: =TEXT(C18,"dddd") -> zaterdag | C18: 46333 | D18: 16:00 | E18: Were-Di HS 1 | F18: VC Fortutas HS 1 | G18: H1G-CD | H18: GMTMO | I18: Sportcentrum Molenbroek | J18: Gemert | L18: n.v.t. | M18: n.v.t.
A19: 6 | B19: =TEXT(C19,"dddd") -> zaterdag | C19: 46340 | D19: 16:00 | E19: VC Fortutas HS 1 | F19: Civitas HS 2 | G19: H1G-DB | H19: NDWBE | I19: Sport- en squashcentrum | J19: Nederweert | L19: William Uebelgonne | M19: Cobi van Herten & Suus Nelissen
A20: 7 | B20: =TEXT(C20,"dddd") -> zaterdag | C20: 46354 | D20: 16:00 | E20: VC Fortutas HS 1 | F20: Nuvo'68 HS 3 | G20: H1G-DI | H20: NDWBE | I20: Sport- en squashcentrum | J20: Nederweert | L20: Roland Verstappen | M20: Wendy Gielen & Caley-May Meursing
A21: 8 | B21: =TEXT(C21,"dddd") -> zaterdag | C21: 46368 | D21: 19:00 | E21: Shock '82 Cuijk HS 1 | F21: VC Fortutas HS 1 | G21: H1G-HD | H21: CUYKW | I21: LACO Sportcentrum Cuijk | J21: Cuijk | L21: n.v.t. | M21: n.v.t.
A22: 9 | B22: =TEXT(C22,"dddd") -> zaterdag | C22: 46403 | D22: 0.75 | E22: VC Fortutas HS 1 | F22: Ledûb Volleybal HS 2 | G22: H1G-DF | H22: NDWBE | I22: Sport- en squashcentrum | J22: Nederweert | L22: Jeroen Eekhout | M22: Ralf van der Zanden & Rosi Gillessen
A23: 10 | B23: =TEXT(C23,"dddd") -> zaterdag | C23: 46417 | D23: 18:30 | E23: DKJO HS 1 | F23: VC Fortutas HS 1 | G23: H1G-ED | H23: MRLWE | I23: De Weijer | J23: Mierlo | L23: n.v.t. | M23: n.v.t.
A24: 11 | B24: =TEXT(C24,"dddd") -> zaterdag | C24: 46438 | D24: 16:00 | E24: VC Fortutas HS 1 | F24: VC Maasdal HS 1 | G24: H1G-DJ | H24: NDWBE | I24: Sport- en squashcentrum | J24: Nederweert | L24: Roland Verstappen | M24: Melissa Mans & Mein Leenen
A25: 12 | B25: =TEXT(C25,"dddd") -> zaterdag | C25: 46445 | D25: 16:00 | E25: VC Fortutas HS 1 | F25: Were-Di HS 1 | G25: H1G-DC | H25: NDWBE | I25: Sport- en squashcentrum | J25: Nederweert | L25: William Uebelgonne | M25: Bryan Eggels & Madelon Eekhout
A26: 13 | B26: =TEXT(C26,"dddd") -> zaterdag | C26: 46459 | D26: 16:45 | E26: Civitas HS 2 | F26: VC Fortutas HS 1 | G26: H1G-BD | H26: VLOHA | I26: Ruben Kogeldans Sporthal | J26: Venlo | L26: n.v.t. | M26: n.v.t.
A27: 14 | B27: =TEXT(C27,"dddd") -> zaterdag | C27: 46480 | D27: 16:00 | E27: Nuvo'68 HS 3 | F27: VC Fortutas HS 1 | G27: H1G-ID | H27: NNNHO | I27: De Hongerman | J27: Nuenen | L27: n.v.t. | M27: n.v.t.
A28: 15 | B28: =TEXT(C28,"dddd") -> zaterdag | C28: 46487 | D28: 16:00 | E28: VC Fortutas HS 1 | F28: Shock '82 Cuijk HS 1 | G28: H1G-DH | H28: NDWBE | I28: Sport- en squashcentrum | J28: Nederweert | L28: William Uebelgonne | M28: Melissa Mans
A29: 16 | B29: =TEXT(C29,"dddd") -> zaterdag | C29: 46494 | D29: 14:30 | E29: Nuvoc HS 3 | F29: VC Fortutas HS 1 | G29: H1G-GD | H29: VHVNU | I29: Nuvochal | J29: Veldhoven | L29: n.v.t. | M29: n.v.t.

Sheet MB1
C1: Meisjes B1 | D1: A | E1: Furos MB1 | G1: Meisjes B1 | H1: A
C2: MB3M1 | D2: B | E2: Jokers VC MB2 | H2: B
D3: C | E3: Stravoc MB2 | H3: C
D4: D | E4: ADC MB1 | H4: D
D5: E | E5: VC Fortutas MB1 | H5: E
H6: F
A8: volgnr. | B8: dag | C8: datum | D8: tijdstip | E8: team THUIS | F8: team UIT | G8: lettercode | H8: zaalcode | I8: sporthal | J8: plaats | K8: uitslag | L8: scheidsrechter | M8: teller
A10: 1e HELFT
A11: 1 | B11: =TEXT(C11,"dddd") -> zaterdag | C11: 46277 | D11: 12:30 | E11: Jokers VC MB 2 | F11: VC Fortutas MB 1 | G11: MB3M1-BE | H11: MTTHE | I11: De Heeg | J11: Maastricht | K11: 46025 | L11: n.v.t. | M11: n.v.t.
A12: 2 | B12: =TEXT(C12,"dddd") -> zaterdag | C12: 46291 | D12: 18:00 | E12: VC Fortutas MB 1 | F12: Furos MB 1 | G12: MB3M1-EA | H12: NDWBE | I12: Sport- en squashcentrum | J12: Nederweert | L12: Raff Smits | M12: ouders
A13: 3 | B13: =TEXT(C13,"dddd") -> zaterdag | C13: 46305 | D13: 18:00 | E13: VC Fortutas MB 1 | F13: Jokers VC MB 2 | G13: MB3M1-EB | H13: NDWBE | I13: Sport- en squashcentrum | J13: Nederweert | L13: Ramino Peters | M13: ouders
A14: 4 | B14: =TEXT(C14,"dddd") -> zaterdag | C14: 46326 | D14: 13:00 | E14: Vakgarage Ernes & Piereij - ADC MB 1 | F14: VC Fortutas MB 1 | G14: MB3M1-DE | H14: URMOV | I14: Overmunthe | J14: Urmond | L14: n.v.t. | M14: n.v.t.
A15: 5 | B15: =TEXT(C15,"dddd") -> zaterdag | C15: 46340 | D15: 18:00 | E15: VC Fortutas MB 1 | F15: Vakgarage Ernes & Piereij - ADC MB 1 | G15: MB3M1-ED | H15: NDWBE | I15: Sport- en squashcentrum | J15: Nederweert | L15: Rob Janssen | M15: ouders
A16: 6 | B16: =TEXT(C16,"dddd") -> zaterdag | C16: 46347 | D16: 0.45833333 | E16: Furos MB 1 | F16: VC Fortutas MB 1 | G16: MB3M1-AE | H16: KRDRO | I16: Rolduc | J16: Kerkrade | L16: n.v.t. | M16: n.v.t.
A17: 7 | B17: =TEXT(C17,"dddd") -> zaterdag | C17: 46354 | D17: 18:00 | E17: VC Fortutas MB 1 | F17: Hyundai Peter Janssen Stravoc MB 2 | G17: MB3M1-EC | H17: NDWBE | I17: Sport- en squashcentrum | J17: Nederweert | L17: Nel Ronken | M17: ouders
A18: 8 | B18: =TEXT(C18,"dddd") -> zaterdag | C18: 46368 | D18: 12:30 | E18: Hyundai Peter Janssen Stravoc MB 2 | F18: VC Fortutas MB 1 | G18: MB3M1-CE | H18: STPGR | I18: De Grenslibel | J18: Stramproy | L18: n.v.t. | M18: n.v.t.
A21: 2e HELFT
A22: 9
A23: 10
A24: 11
A25: 12
A26: 13
A27: 14
A28: 15
A29: 16

Sheet MC1
C1: Meisjes C1 | D1: A | E1: Furos XC1 | G1: Meisjes C1 | H1: A
C2: XC3W1 | D2: B | E2: Jokers VC XC3 | H2: B
D3: C | E3: ADC XC2 | H3: C
D4: D | E4: VC Fortutas MC1 | H4: D
D5: E | E5: VC Heerlen MC1 | H5: E
D6: F | E6: VC Sittardia XC1 | H6: F
A8: volgnr. | B8: dag | C8: datum | D8: tijdstip | E8: team THUIS | F8: team UIT | G8: lettercode | H8: zaalcode | I8: sporthal | J8: plaats | K8: uitslag | L8: scheidsrechter | M8: teller
A10: 1e HELFT
A11: 1 | B11: =TEXT(C11,"dddd") -> zaterdag | C11: 46284 | D11: 16:45 | E11: Jokers VC XC 3 | F11: VC Fortutas MC 1 | G11: XC3W1-BD | H11: MTTHE | I11: De Heeg | J11: Maastricht | K11: 0-4 | L11: n.v.t. | M11: n.v.t.
A12: 2 | B12: =TEXT(C12,"dddd") -> zaterdag | C12: 46291 | D12: 16:00 | E12: VC Fortutas MC 1 | F12: VC Heerlen MC 1 | G12: XC3W1-DE | H12: NDWBE | I12: Sport- en squashcentrum | J12: Nederweert | L12: Ralf van der Zanden | M12: ouders
A13: 3 | B13: =TEXT(C13,"dddd") -> zaterdag | C13: 46298 | D13: 13:00 | E13: Vakgarage Ernes & Piereij - ADC XC 2 | F13: VC Fortutas MC 1 | G13: XC3W1-CD | H13: URMOV | I13: Overmunthe | J13: Urmond | L13: n.v.t. | M13: n.v.t.
A14: 4 | B14: =TEXT(C14,"dddd") -> zaterdag | C14: 46305 | D14: 16:00 | E14: VC Fortutas MC 1 | F14: Jokers VC XC 3 | G14: XC3W1-DB | H14: NDWBE | I14: Sport- en squashcentrum | J14: Nederweert | L14: Kelly Nies | M14: ouders
A15: 5 | B15: =TEXT(C15,"dddd") -> zaterdag | C15: 46312 | D15: 16:00 | E15: VC Fortutas MC 1 | F15: Vakgarage Ernes & Piereij - ADC XC 2 | G15: XC3W1-DC | H15: NDWBE | I15: Sport- en squashcentrum | J15: Nederweert | L15: Jamy Rademakers | M15: ouders
A16: 6 | B16: =TEXT(C16,"dddd") -> zaterdag | C16: 46319 | D16: 16:00 | E16: VC Fortutas MC 1 | F16: Furos XC 1 | G16: XC3W1-DA | H16: NDWBE | I16: Sport- en squashcentrum | J16: Nederweert | L16: John van Wijk | M16: ouders
A17: 7 | B17: =TEXT(C17,"dddd") -> zaterdag | C17: 46333 | D17: 0.5 | E17: Furos XC 1 | F17: VC Fortutas MC 1 | G17: XC3W1-AD | H17: KRDRO | I17: Rolduc | J17: Kerkrade | L17: n.v.t. | M17: n.v.t.
A18: 8 | B18: =TEXT(C18,"dddd") -> zaterdag | C18: 46340 | D18: 16:00 | E18: VC Fortutas MC 1 | F18: VC Sittardia XC 1 | G18: XC3W1-DF | H18: NDWBE | I18: Sport- en squashcentrum | J18: Nederweert | L18: Tessa Verstappen | M18: ouders
A19: 9 | B19: =TEXT(C19,"dddd") -> zaterdag | C19: 46354 | D19: 0.5 | E19: VC Sittardia XC 1 | F19: VC Fortutas MC 1 | G19: XC3W1-FD | H19: STDKL | I19: Kleesj | J19: Sittard | L19: n.v.t. | M19: n.v.t.
A20: 10 | B20: =TEXT(C20,"dddd") -> zaterdag | C20: 46368 | D20: 17:45 | E20: VC Heerlen MC 1 | F20: VC Fortutas MC 1 | G20: XC3W1-ED | H20: HRLGB | I20: A Gene Bek | J20: Heerlen | L20: n.v.t. | M20: n.v.t.
A22: 2e HELFT
A23: 11
A24: 12
A25: 13
A26: 14
A27: 15
A28: 16
A29: 17
A30: 18
A31: 19
A32: 20

Sheet L5-1
A1: L5-1 | B1: A | C1: Accretos L5 2 | D1: G | E1: Olympia L5 2 | G1: A | I1: G
A2: VN52AC | B2: B | C2: VC Fortutas L5 1 | D2: H | E2: BVC Holyoke L5 1 | G2: B | I2: H
A3: VN52BB | B3: C | C3: Tupos L5 3 | D3: I | G3: C | I3: I
B4: D | C4: Revoc/VCB L5 2 | D4: J | G4: D | I4: J
B5: E | C5: Olsredlem L5 1 | G5: E
B6: F | C6: Klaverblad / HHC L5 1 | G6: F
A8: volgnr. | B8: dag | C8: datum | D8: tijdstip | E8: team THUIS | F8: team UIT | G8: lettercode | H8: zaalcode | I8: sporthal | J8: plaats | K8: uitslag | L8: scheidsrechter | M8: teller | N8: Zaalwacht
A10: Blok 1
A11: 1 | B11: =TEXT(C11,"dddd") -> zondag | C11: 46285 | D11: 10:55 | E11: Accretos L5 2 | F11: VC Fortutas L5 1 | G11: VN52AC-AD | H11: BLOKA | I11: De Kazing | J11: Baarlo LB | K11: 4-0 | L11: n.v.t. | M11: n.v.t. | N11: n.v.t.
A12: 1 | B12: =TEXT(C12,"dddd") -> zondag | C12: 46285 | D12: 11:35 | E12: VC Fortutas L5 1 | F12: Olsredlem L5 1 | G12: VN52AC-DB | H12: BLOKA | I12: De Kazing | J12: Baarlo LB | K12: 0-4 | L12: n.v.t. | M12: n.v.t. | N12: n.v.t.
A13: 1 | B13: =TEXT(C13,"dddd") -> zondag | C13: 46285 | D13: 11:55 | E13: Tupos L5 3 | F13: VC Fortutas L5 1 | G13: VN52AC-CD | H13: BLOKA | I13: De Kazing | J13: Baarlo LB | K13: 4-0 | L13: n.v.t. | M13: n.v.t. | N13: n.v.t.
A14: 2 | B14: =TEXT(C14,"dddd") -> zondag | C14: 46299 | D14: 10:55 | E14: VC Fortutas L5 1 | F14: Olsredlem L5 1 | G14: VN52AC-DB-2 | H14: PNGPI | I14: Piushof | J14: Panningen | L14: n.v.t. | M14: n.v.t. | N14: n.v.t.
A15: 2 | B15: =TEXT(C15,"dddd") -> zondag | C15: 46299 | D15: 11:35 | E15: Tupos L5 3 | F15: VC Fortutas L5 1 | G15: VN52AC-CD-2 | H15: PNGPI | I15: Piushof | J15: Panningen | L15: n.v.t. | M15: n.v.t. | N15: n.v.t.
A16: 2 | B16: =TEXT(C16,"dddd") -> zondag | C16: 46299 | D16: 11:55 | E16: Revoc/VCB L5 2 | F16: VC Fortutas L5 1 | G16: VN52AC-FD | H16: PNGPI | I16: Piushof | J16: Panningen | L16: n.v.t. | M16: n.v.t. | N16: n.v.t.
A17: 3 | B17: =TEXT(C17,"dddd") -> zondag | C17: 46306 | D17: 0.43055556 | E17: Tupos L5 2 | F17: VC Fortutas L5 1 | G17: VN52BB-CD | H17: BLOKA | I17: De Kazing | J17: Baarlo LB | L17: n.v.t. | M17: n.v.t. | N17: n.v.t.
A18: 3 | B18: =TEXT(C18,"dddd") -> zondag | C18: 46306 | D18: 0.44444444 | E18: VC Fortutas L5 1 | F18: KLAVERBLAD / HHC L5 1 | G18: VN52BB-DB | H18: BLOKA | I18: De Kazing | J18: Baarlo LB | L18: n.v.t. | M18: n.v.t. | N18: n.v.t.
A19: 3 | B19: =TEXT(C19,"dddd") -> zondag | C19: 46306 | D19: 0.47222222 | E19: Accretos L5 2 | F19: VC Fortutas L5 1 | G19: VN52BB-AD | H19: BLOKA | I19: De Kazing | J19: Baarlo LB | L19: n.v.t. | M19: n.v.t. | N19: n.v.t.
A20: 4 | B20: =TEXT(C20,"dddd") -> zondag | C20: 46327 | D20: 0.41666667 | E20: VC Fortutas L5 1 | F20: Accretos L5 2 | G20: VN52BB-DA | H20: VELVI | I20: De Vilgaard | J20: Velden | L20: n.v.t. | M20: n.v.t. | N20: n.v.t.
A21: 4 | B21: =TEXT(C21,"dddd") -> zondag | C21: 46327 | D21: 0.43055556 | E21: BVC Holyoke L5 1 | F21: VC Fortutas L5 1 | G21: VN52BB-ED | H21: VELVI | I21: De Vilgaard | J21: Velden | L21: n.v.t. | M21: n.v.t. | N21: n.v.t.
A22: 4 | B22: =TEXT(C22,"dddd") -> zondag | C22: 46327 | D22: 0.45833333 | E22: VC Fortutas L5 1 | F22: VC Olympia L5 2 | G22: VN52BB-DF | H22: VELVI | I22: De Vilgaard | J22: Velden | L22: n.v.t. | M22: n.v.t. | N22: n.v.t.

Sheet L5-2
A1: L5-2 | B1: A | C1: VC Fortutas L5 2 | D1: G | E1: Olsredlem L5 1 | G1: A | I1: G
A2: VN52AD | B2: B | C2: BVC Holyoke L5 1 | D2: H | E2: Tupos L5 3 | G2: B | I2: H
A3: VN52BC | B3: C | C3: Revoc/VCB L5 3 | D3: I | G3: C | I3: I
B4: D | C4: Hovoc L5 2 | D4: J | G4: D | I4: J
B5: E | C5: VC Olympia L5 3 | G5: E
B6: F | C6: Bach SV L5 1 | G6: F
A8: veld | B8: dag | C8: datum | D8: tijdstip | E8: team THUIS | F8: team UIT | G8: lettercode | H8: zaalcode | I8: sporthal | J8: plaats | K8: uitslag | L8: scheidsrechter | M8: teller | N8: Zaalwacht
A10: Blok 1
A11: 1 | B11: =TEXT(C11,"dddd") -> zondag | C11: 46285 | D11: 10:20 | E11: VC Fortutas L5 2 | F11: BVC Holyoke L5 1 | G11: VN52AD-FD | H11: HRTDE | I11: Dendron Sporthal | J11: Horst | K11: 0-4 | L11: n.v.t. | M11: n.v.t. | N11: n.v.t.
A12: 1 | B12: =TEXT(C12,"dddd") -> zondag | C12: 46285 | D12: 11:00 | E12: VC Fortutas L5 2 | F12: Revoc/VCB L5 3 | G12: VN52AD-FG | H12: HRTDE | I12: Dendron Sporthal | J12: Horst | K12: 0-4 | L12: n.v.t. | M12: n.v.t. | N12: n.v.t.
A13: 1 | B13: =TEXT(C13,"dddd") -> zondag | C13: 46285 | D13: 11:40 | E13: Hovoc L5 2 | F13: VC Fortutas L5 2 | G13: VN52AD-AF | H13: HRTDE | I13: Dendron Sporthal | J13: Horst | K13: 4-0 | L13: n.v.t. | M13: n.v.t. | N13: n.v.t.
A14: 1 | B14: =TEXT(C14,"dddd") -> zondag | C14: 46285 | D14: 12:00 | E14: VC Olympia L5 3 | F14: VC Fortutas L5 2 | G14: VN52AD-EF | H14: HRTDE | I14: Dendron Sporthal | J14: Horst | K14: 4-0 | L14: n.v.t. | M14: n.v.t. | N14: n.v.t.
A15: 2 | B15: =TEXT(C15,"dddd") -> zondag | C15: 46299 | D15: 10:00 | E15: VC Fortutas L5 2 | F15: BVC Holyoke L5 1 | G15: VN52AD-FD-2 | H15: GBVHA | I15: 't Haeren | J15: Grubbenvorst | L15: n.v.t. | M15: n.v.t. | N15: n.v.t.
A16: 2 | B16: =TEXT(C16,"dddd") -> zondag | C16: 46299 | D16: 10:40 | E16: VC Fortutas L5 2 | F16: Revoc/VCB L5 3 | G16: VN52AD-FG-2 | H16: GBVHA | I16: 't Haeren | J16: Grubbenvorst | L16: n.v.t. | M16: n.v.t. | N16: n.v.t.
A17: 2 | B17: =TEXT(C17,"dddd") -> zondag | C17: 46299 | D17: 11:20 | E17: Hovoc L5 2 | F17: VC Fortutas L5 2 | G17: VN52AD-AF-2 | H17: GBVHA | I17: 't Haeren | J17: Grubbenvorst | L17: n.v.t. | M17: n.v.t. | N17: n.v.t.
A18: 2 | B18: =TEXT(C18,"dddd") -> zondag | C18: 46299 | D18: 11:40 | E18: VC Olympia L5 3 | F18: VC Fortutas L5 2 | G18: VN52AD-EF-2 | H18: GBVHA | I18: 't Haeren | J18: Grubbenvorst | L18: n.v.t. | M18: n.v.t. | N18: n.v.t.
A19: 3 | B19: =TEXT(C19,"dddd") -> zondag | C19: 46306 | D19: 0.45833333 | E19: VC Fortutas L5 2 | F19: VC Olympia L5 3 | G19: VN52BC-EF | H19: BLOKA | I19: De Kazing | J19: Baarlo LB | L19: n.v.t. | M19: n.v.t. | N19: n.v.t.
A20: 3 | B20: =TEXT(C20,"dddd") -> zondag | C20: 46306 | D20: 0.48611111 | E20: VC Fortutas L5 2 | F20: Bach SV L5 1 | G20: VN52BC-EA | H20: BLOKA | I20: De Kazing | J20: Baarlo LB | L20: n.v.t. | M20: n.v.t. | N20: n.v.t.
A21: 3 | B21: =TEXT(C21,"dddd") -> zondag | C21: 46306 | D21: 0.5 | E21: Olsredlem L5 1 | F21: VC Fortutas L5 2 | G21: VN52BC-BE | H21: BLOKA | I21: De Kazing | J21: Baarlo LB | L21: n.v.t. | M21: n.v.t. | N21: n.v.t.
A22: 4 | B22: =TEXT(C22,"dddd") -> zondag | C22: 46327 | D22: 0.44444444 | E22: BVC Holyoke L5 2 | F22: VC Fortutas L5 2 | G22: VN52BC-CE | H22: VELVI | I22: De Vilgaard | J22: Velden | L22: n.v.t. | M22: n.v.t. | N22: n.v.t.
A23: 4 | B23: =TEXT(C23,"dddd") -> zondag | C23: 46327 | D23: 0.47222222 | E23: VC Fortutas L5 2 | F23: Tupos L5 3 | G23: VN52BC-ED | H23: VELVI | I23: De Vilgaard | J23: Velden | L23: n.v.t. | M23: n.v.t. | N23: n.v.t.
A24: 4 | B24: =TEXT(C24,"dddd") -> zondag | C24: 46327 | D24: 0.48611111 | E24: VC Olympia L5 3 | F24: VC Fortutas L5 2 | G24: VN52BC-FE | H24: VELVI | I24: De Vilgaard | J24: Velden | L24: n.v.t. | M24: n.v.t. | N24: n.v.t.

Sheet L2-1
A1: L2-1 | B1: A | D1: G | G1: A | I1: G
A2: VN22 | B2: B | D2: H | G2: B | I2: H
B3: C | D3: I | G3: C | I3: I
B4: D | D4: J | G4: D | I4: J
B5: E | G5: E
B6: F | G6: F
A8: veld | B8: dag | C8: datum | D8: tijdstip | E8: team THUIS | F8: team UIT | G8: lettercode | H8: zaalcode | I8: sporthal | J8: plaats | K8: uitslag | L8: scheidsrechter | M8: teller | N8: Zaalwacht
A11: 1 | B11: =TEXT(C11,"dddd") -> zondag | C11: 46292 | D11: 0.42361111 | E11: VC Fortutas L2 1 | F11: VC LIMAX L2 1 | G11: VN22AI-CD | H11: ELLSC | I11: Gymzaal Scheyvenstraat | J11: Ell | L11: n.v.t. | M11: n.v.t. | N11: n.v.t.
A12: 1 | B12: =TEXT(C12,"dddd") -> zondag | C12: 46292 | D12: 0.43055556 | E12: Bach SV L2 2 | F12: VC Fortutas L2 1 | G12: VN22AI-BC | H12: ELLSC | I12: Gymzaal Scheyvenstraat | J12: Ell | L12: n.v.t. | M12: n.v.t. | N12: n.v.t.
A13: 1 | B13: =TEXT(C13,"dddd") -> zondag | C13: 46292 | D13: 0.44444444 | E13: VC Fortutas L2 1 | F13: Bach SV L2 1 | G13: VN22AI-CA | H13: ELLSC | I13: Gymzaal Scheyvenstraat | J13: Ell | L13: n.v.t. | M13: n.v.t. | N13: n.v.t.
A14: 1 | B14: =TEXT(C14,"dddd") -> zondag | C14: 46292 | D14: 0.46527778 | E14: VC LIMAX L2 1 | F14: VC Fortutas L2 1 | G14: VN22AI-DC | H14: ELLSC | I14: Gymzaal Scheyvenstraat | J14: Ell | L14: n.v.t. | M14: n.v.t. | N14: n.v.t.
A15: 1 | B15: =TEXT(C15,"dddd") -> zondag | C15: 46292 | D15: 0.47222222 | E15: VC Fortutas L2 1 | F15: Bach SV L2 2 | G15: VN22AI-CB | H15: ELLSC | I15: Gymzaal Scheyvenstraat | J15: Ell | L15: n.v.t. | M15: n.v.t. | N15: n.v.t.
A16: 2 | B16: =TEXT(C16,"dddd") -> zondag | C16: 46306 | D16: 0.39583333 | E16: Olsredlem L2 2 | F16: VC Fortutas L2 1 | G16: VN22BH-AE | H16: HRTDE | I16: Dendron Sporthal | J16: Horst | L16: n.v.t. | M16: n.v.t. | N16: n.v.t.
A17: 2 | B17: =TEXT(C17,"dddd") -> zondag | C17: 46306 | D17: 0.40972222 | E17: VC Fortutas L2 1 | F17: Set Up L2 1 | G17: VN22BH-EB | H17: HRTDE | I17: Dendron Sporthal | J17: Horst | L17: n.v.t. | M17: n.v.t. | N17: n.v.t.
A18: 2 | B18: =TEXT(C18,"dddd") -> zondag | C18: 46306 | D18: 0.42361111 | E18: VC Fortutas L2 1 | F18: Revoc/VCB L2 2 | G18: VN22BH-ED | H18: HRTDE | I18: Dendron Sporthal | J18: Horst | L18: n.v.t. | M18: n.v.t. | N18: n.v.t.
A19: 2 | B19: =TEXT(C19,"dddd") -> zondag | C19: 46306 | D19: 0.43055556 | E19: Revoc/VCB L2 1 | F19: VC Fortutas L2 1 | G19: VN22BH-CE | H19: HRTDE | I19: Dendron Sporthal | J19: Horst | L19: n.v.t. | M19: n.v.t. | N19: n.v.t.

Sheet RH1
A1: Recreanten H1 | B1: 1 | C1: VC Fortutas RH1 | D1: 6 | E1: VC Maasdal
A2: 2e klasse | B2: 2 | C2: VCM1 | D2: 7 | E2: VC Mofert
B3: 3 | C3: VCP Gem | D3: 8 | E3: VC Fortutas RH1
B4: 4 | C4: Stravoc 2
B5: 5 | C5: TVC Recreatie
A8: volgnr. | B8: dag | C8: datum | D8: tijdstip | E8: team THUIS | F8: team UIT | G8: lettercode | H8: zaalcode | I8: sporthal | J8: plaats | K8: uitslag | L8: scheidsrechter | M8: teller
A10: 1e HELFT
A11: 1 | B11: =TEXT(C11,"dddd") -> zaterdag | M11: nvt
A12: 2 | B12: =TEXT(C12,"dddd") -> zaterdag | M12: nvt
A13: 3 | B13: =TEXT(C13,"dddd") -> zaterdag | M13: nvt
A14: 4 | B14: =TEXT(C14,"dddd") -> zaterdag | M14: nvt
A15: 5 | B15: =TEXT(C15,"dddd") -> zaterdag | M15: nvt
A16: 6 | B16: =TEXT(C16,"dddd") -> zaterdag | M16: nvt
A17: 7 | B17: =TEXT(C17,"dddd") -> zaterdag | M17: nvt
A19: 2e HELFT
A20: 8 | B20: =TEXT(C20,"dddd") -> zaterdag | M20: nvt
A21: 9 | B21: =TEXT(C21,"dddd") -> zaterdag | M21: nvt
A22: 10 | B22: =TEXT(C22,"dddd") -> zaterdag | M22: nvt
A23: 11 | B23: =TEXT(C23,"dddd") -> zaterdag | M23: nvt
A24: 12 | B24: =TEXT(C24,"dddd") -> zaterdag | M24: nvt
A25: 13 | B25: =TEXT(C25,"dddd") -> zaterdag | M25: nvt
A26: 14 | B26: =TEXT(C26,"dddd") -> zaterdag | M26: nvt

Sheet RH2
A1: Recreanten H2 | B1: 1 | C1: VC Fortutas RH1 | D1: 6 | E1: VC Maasdal
A2: 2e klasse | B2: 2 | C2: VCM1 | D2: 7 | E2: VC Mofert
B3: 3 | C3: VCP Gem | D3: 8 | E3: VC Fortutas RH1
B4: 4 | C4: Stravoc 2
B5: 5 | C5: TVC Recreatie
A8: volgnr. | B8: dag | C8: datum | D8: tijdstip | E8: team THUIS | F8: team UIT | G8: lettercode | H8: zaalcode | I8: sporthal | J8: plaats | K8: uitslag | L8: scheidsrechter | M8: teller
A10: 1e HELFT | M10: nvt
A11: 1 | B11: =TEXT(C11,"dddd") -> zaterdag | M11: nvt
A12: 2 | B12: =TEXT(C12,"dddd") -> zaterdag | M12: nvt
A13: 3 | B13: =TEXT(C13,"dddd") -> zaterdag | M13: nvt
A14: 4 | B14: =TEXT(C14,"dddd") -> zaterdag | M14: nvt
A15: 5 | B15: =TEXT(C15,"dddd") -> zaterdag | M15: nvt
A16: 6 | B16: =TEXT(C16,"dddd") -> zaterdag | M16: nvt
A17: 7 | B17: =TEXT(C17,"dddd") -> zaterdag | M17: nvt
A19: 2e HELFT
A20: 8 | B20: =TEXT(C20,"dddd") -> zaterdag | M20: nvt
A21: 9 | B21: =TEXT(C21,"dddd") -> zaterdag | M21: nvt
A22: 10 | B22: =TEXT(C22,"dddd") -> zaterdag | M22: nvt
A23: 11 | B23: =TEXT(C23,"dddd") -> zaterdag | M23: nvt
A24: 12 | B24: =TEXT(C24,"dddd") -> zaterdag | M24: nvt
A25: 13 | B25: =TEXT(C25,"dddd") -> zaterdag | M25: nvt
A26: 14 | B26: =TEXT(C26,"dddd") -> zaterdag | M26: nvt

Sheet RD1
A1: Recreanten D1 | B1: 1 | C1: VC Fortutas RD1 | D1: 6 | E1: Govoc
A2: 2e klasse | B2: 2 | C2: SV Ludentes D | D2: 7 | E2: Molenbeersel 2
B3: 3 | C3: VC Weert/VCB 1 | D3: 8 | E3: Molenbeersel 1
B4: 4 | C4: VC Weert/VCB 2
B5: 5 | C5: VC Maasdal
A8: volgnr. | B8: dag | C8: datum | D8: tijdstip | E8: team THUIS | F8: team UIT | G8: lettercode | H8: zaalcode | I8: sporthal | J8: plaats | K8: uitslag | L8: scheidsrechter | M8: teller
A10: 1e HELFT
A11: 1 | B11: =TEXT(C11,"dddd") -> zaterdag | M11: nvt
A12: 2 | B12: =TEXT(C12,"dddd") -> zaterdag | M12: nvt
A13: 3 | B13: =TEXT(C13,"dddd") -> zaterdag | M13: nvt
A14: 4 | B14: =TEXT(C14,"dddd") -> zaterdag | M14: nvt
A15: 5 | B15: =TEXT(C15,"dddd") -> zaterdag | M15: nvt
A16: 6 | B16: =TEXT(C16,"dddd") -> zaterdag | M16: nvt
A17: 7 | B17: =TEXT(C17,"dddd") -> zaterdag | M17: nvt
A19: 2e HELFT
A20: 8 | B20: =TEXT(C20,"dddd") -> zaterdag | M20: nvt
A21: 9 | B21: =TEXT(C21,"dddd") -> zaterdag | M21: nvt
A22: 10 | B22: =TEXT(C22,"dddd") -> zaterdag | M22: nvt
A23: 11 | B23: =TEXT(C23,"dddd") -> zaterdag | M23: nvt
A24: 12 | B24: =TEXT(C24,"dddd") -> zaterdag | M24: nvt
A25: 13 | B25: =TEXT(C25,"dddd") -> zaterdag | M25: nvt
A26: 14 | B26: =TEXT(C26,"dddd") -> zaterdag | M26: nvt
