Workbook

Sheet Totaaloverzicht
A1: volgnr. | B1: dag | C1: datum | D1: tijdstip | E1: team THUIS | F1: team UIT | G1: lettercode | H1: zaalcode | I1: zaalnaam | J1: plaats | K1: uitslag | L1: scheidsrechter | M1: teller | N1: zaalwacht
A2: ='NH1'!A10 -> A | B2: ='NH1'!B10 -> zaterdag | C2: ='NH1'!C10 -> 46270 | D2: ='NH1'!D10 -> 16:00 | E2: ='NH1'!E10 -> VC Fortutas HS 1 | F2: ='NH1'!F10 -> VC Landgraaf-VC FUROS HS 2 | G2: ='NH1'!G10 -> BH1B15-AB | H2: ='NH1'!H10 -> NDWBE | ... N2: ='NH1'!N10 -> 0
A3: ='MB1'!A11 -> 1 | B3: ='MB1'!B11 -> zaterdag | C3: ='MB1'!C11 -> 46277 | D3: ='MB1'!D11 -> 12:30 | E3: ='MB1'!E11 -> Jokers VC MB 2 | F3: ='MB1'!F11 -> VC Fortutas MB 1 | G3: ='MB1'!G11 -> MB3M1-BE | H3: ='MB1'!H11 -> MTTHE | ... N3: ='MB1'!N11 -> 0
A4: ='NH1'!A11 -> B | B4: ='NH1'!B11 -> woensdag | C4: ='NH1'!C11 -> 46281 | D4: ='NH1'!D11 -> 20:00 | E4: ='NH1'!E11 -> Fyrfad HS 2 | F4: ='NH1'!F11 -> VC Fortutas HS 1 | G4: ='NH1'!G11 -> BH1B15-CA | H4: ='NH1'!H11 -> MTTUM | ... N4: ='NH1'!N11 -> 0
A5: ='MC1'!A11 -> 1 | B5: ='MC1'!B11 -> zaterdag | C5: ='MC1'!C11 -> 46284 | D5: ='MC1'!D11 -> 16:45 | E5: ='MC1'!E11 -> Jokers VC XC 3 | F5: ='MC1'!F11 -> VC Fortutas MC 1 | G5: ='MC1'!G11 -> XC3W1-BD | H5: ='MC1'!H11 -> MTTHE | ... N5: ='MC1'!N11 -> 0
A6: ='L5-1'!A11 -> 1 | B6: ='L5-1'!B11 -> zondag | C6: ='L5-1'!C11 -> 46285 | D6: ='L5-1'!D11 -> 10:55 | E6: ='L5-1'!E11 -> Accretos L5 2 | F6: ='L5-1'!F11 -> VC Fortutas L5 1 | G6: ='L5-1'!G11 -> VN52AC-AD | H6: ='L5-1'!H11 -> BLOKA | ... N6: ='L5-1'!N11 -> n.v.t.
A7: ='L5-1'!A12 -> 1 | B7: ='L5-1'!B12 -> zondag | C7: ='L5-1'!C12 -> 46285 | D7: ='L5-1'!D12 -> 11:35 | E7: ='L5-1'!E12 -> VC Fortutas L5 1 | F7: ='L5-1'!F12 -> Olsredlem L5 1 | G7: ='L5-1'!G12 -> VN52AC-DB | H7: ='L5-1'!H12 -> BLOKA | ... N7: ='L5-1'!N12 -> n.v.t.
A8: ='L5-1'!A13 -> 1 | B8: ='L5-1'!B13 -> zondag | C8: ='L5-1'!C13 -> 46285 | D8: ='L5-1'!D13 -> 11:55 | E8: ='L5-1'!E13 -> Tupos L5 3 | F8: ='L5-1'!F13 -> VC Fortutas L5 1 | G8: ='L5-1'!G13 -> VN52AC-CD | H8: ='L5-1'!H13 -> BLOKA | ... N8: ='L5-1'!N13 -> n.v.t.
A9: ='L5-2'!A11 -> 1 | B9: ='L5-2'!B11 -> zondag | C9: ='L5-2'!C11 -> 46285 | D9: ='L5-2'!D11 -> 10:20 | E9: ='L5-2'!E11 -> VC Fortutas L5 2 | F9: ='L5-2'!F11 -> BVC Holyoke L5 1 | G9: ='L5-2'!G11 -> VN52AD-FD | H9: ='L5-2'!H11 -> HRTDE | ... N9: ='L5-2'!N11 -> n.v.t.
A10: ='L5-2'!A12 -> 1 | B10: ='L5-2'!B12 -> zondag | C10: ='L5-2'!C12 -> 46285 | D10: ='L5-2'!D12 -> 11:00 | E10: ='L5-2'!E12 -> VC Fortutas L5 2 | F10: ='L5-2'!F12 -> Revoc/VCB L5 3 | G10: ='L5-2'!G12 -> VN52AD-FG | H10: ='L5-2'!H12 -> HRTDE | ... N10: ='L5-2'!N12 -> n.v.t.
A11: ='L5-2'!A13 -> 1 | B11: ='L5-2'!B13 -> zondag | C11: ='L5-2'!C13 -> 46285 | D11: ='L5-2'!D13 -> 11:40 | E11: ='L5-2'!E13 -> Hovoc L5 2 | F11: ='L5-2'!F13 -> VC Fortutas L5 2 | G11: ='L5-2'!G13 -> VN52AD-AF | H11: ='L5-2'!H13 -> HRTDE | ... N11: ='L5-2'!N13 -> n.v.t.
A12: ='L5-2'!A14 -> 1 | B12: ='L5-2'!B14 -> zondag | C12: ='L5-2'!C14 -> 46285 | D12: ='L5-2'!D14 -> 12:00 | E12: ='L5-2'!E14 -> VC Olympia L5 3 | F12: ='L5-2'!F14 -> VC Fortutas L5 2 | G12: ='L5-2'!G14 -> VN52AD-EF | H12: ='L5-2'!H14 -> HRTDE | ... N12: ='L5-2'!N14 -> n.v.t.
A13: ='ND2'!A11 -> 1 | B13: ='ND2'!B11 -> zaterdag | C13: ='ND2'!C11 -> 46291 | D13: ='ND2'!D11 -> 16:00 | E13: ='ND2'!E11 -> VC Fortutas DS 2 | F13: ='ND2'!F11 -> VC HERO DS 3 | G13: ='ND2'!G11 -> D3L-DG | H13: ='ND2'!H11 -> NDWBE | ... N13: ='ND2'!N11 -> 0
A14: ='ND3'!A11 -> 1 | B14: ='ND3'!B11 -> zaterdag | C14: ='ND3'!C11 -> 46291 | D14: ='ND3'!D11 -> 18:00 | E14: ='ND3'!E11 -> VC Fortutas DS 3 | F14: ='ND3'!F11 -> VC HERO DS 5 | G14: ='ND3'!G11 -> D3M-DG | H14: ='ND3'!H11 -> NDWBE | ... N14: ='ND3'!N11 -> 0
A15: ='NH1'!A15 -> 1 | B15: ='NH1'!B15 -> zaterdag | C15: ='NH1'!C15 -> 46291 | D15: ='NH1'!D15 -> 16:00 | E15: ='NH1'!E15 -> VC Fortutas HS 1 | F15: ='NH1'!F15 -> Nuvoc HS 3 | G15: ='NH1'!G15 -> H1G-DG | H15: ='NH1'!H15 -> NDWBE | ... N15: ='NH1'!N15 -> 0
A16: ='MB1'!A12 -> 2 | B16: ='MB1'!B12 -> zaterdag | C16: ='MB1'!C12 -> 46291 | D16: ='MB1'!D12 -> 18:00 | E16: ='MB1'!E12 -> VC Fortutas MB 1 | F16: ='MB1'!F12 -> Furos MB 1 | G16: ='MB1'!G12 -> MB3M1-EA | H16: ='MB1'!H12 -> NDWBE | ... N16: ='MB1'!N12 -> 0
A17: ='MC1'!A12 -> 2 | B17: ='MC1'!B12 -> zaterdag | C17: ='MC1'!C12 -> 46291 | D17: ='MC1'!D12 -> 16:00 | E17: ='MC1'!E12 -> VC Fortutas MC 1 | F17: ='MC1'!F12 -> VC Heerlen MC 1 | G17: ='MC1'!G12 -> XC3W1-DE | H17: ='MC1'!H12 -> NDWBE | ... N17: ='MC1'!N12 -> 0
A18: ='L2-1'!A11 -> 1 | B18: ='L2-1'!B11 -> zondag | C18: ='L2-1'!C11 -> 46292 | D18: ='L2-1'!D11 -> 0.42361111 | E18: ='L2-1'!E11 -> VC Fortutas L2 1 | F18: ='L2-1'!F11 -> VC LIMAX L2 1 | G18: ='L2-1'!G11 -> VN22AI-CD | H18: ='L2-1'!H11 -> ELLSC | ... N18: ='L2-1'!N11 -> n.v.t.
A19: ='L2-1'!A12 -> 1 | B19: ='L2-1'!B12 -> zondag | C19: ='L2-1'!C12 -> 46292 | D19: ='L2-1'!D12 -> 0.43055556 | E19: ='L2-1'!E12 -> Bach SV L2 2 | F19: ='L2-1'!F12 -> VC Fortutas L2 1 | G19: ='L2-1'!G12 -> VN22AI-BC | H19: ='L2-1'!H12 -> ELLSC | ... N19: ='L2-1'!N12 -> n.v.t.
A20: ='L2-1'!A13 -> 1 | B20: ='L2-1'!B13 -> zondag | C20: ='L2-1'!C13 -> 46292 | D20: ='L2-1'!D13 -> 0.44444444 | E20: ='L2-1'!E13 -> VC Fortutas L2 1 | F20: ='L2-1'!F13 -> Bach SV L2 1 | G20: ='L2-1'!G13 -> VN22AI-CA | H20: ='L2-1'!H13 -> ELLSC | ... N20: ='L2-1'!N13 -> n.v.t.
A21: ='L2-1'!A14 -> 1 | B21: ='L2-1'!B14 -> zondag | C21: ='L2-1'!C14 -> 46292 | D21: ='L2-1'!D14 -> 0.46527778 | E21: ='L2-1'!E14 -> VC LIMAX L2 1 | F21: ='L2-1'!F14 -> VC Fortutas L2 1 | G21: ='L2-1'!G14 -> VN22AI-DC | H21: ='L2-1'!H14 -> ELLSC | ... N21: ='L2-1'!N14 -> n.v.t.
A22: ='L2-1'!A15 -> 1 | B22: ='L2-1'!B15 -> zondag | C22: ='L2-1'!C15 -> 46292 | D22: ='L2-1'!D15 -> 0.47222222 | E22: ='L2-1'!E15 -> VC Fortutas L2 1 | F22: ='L2-1'!F15 -> Bach SV L2 2 | G22: ='L2-1'!G15 -> VN22AI-CB | H22: ='L2-1'!H15 -> ELLSC | ... N22: ='L2-1'!N15 -> n.v.t.
A23: ='ND1'!A11 -> 1 | B23: ='ND1'!B11 -> zaterdag | C23: ='ND1'!C11 -> 46298 | D23: ='ND1'!D11 -> 16:00 | E23: ='ND1'!E11 -> Ledûb Volleybal DS 4 | F23: ='ND1'!F11 -> VC Fortutas DS 1 | G23: ='ND1'!G11 -> D2M-FD | H23: ='ND1'!H11 -> BDLZU | ... N23: ='ND1'!N11 -> 0
A24: ='ND2'!A12 -> 2 | B24: ='ND2'!B12 -> zaterdag | C24: ='ND2'!C12 -> 46298 | D24: ='ND2'!D12 -> 14:30 | E24: ='ND2'!E12 -> Hyundai Peter Janssen Stravoc DS 5 | F24: ='ND2'!F12 -> VC Fortutas DS 2 | G24: ='ND2'!G12 -> D3L-FD | H24: ='ND2'!H12 -> STPGR | ... N24: ='ND2'!N12 -> 0
A25: ='ND3'!A12 -> 2 | B25: ='ND3'!B12 -> zaterdag | C25: ='ND3'!C12 -> 46298 | D25: ='ND3'!D12 -> 14:00 | E25: ='ND3'!E12 -> S'62 DS 1 | F25: ='ND3'!F12 -> VC Fortutas DS 3 | G25: ='ND3'!G12 -> D3M-FD | H25: ='ND3'!H12 -> SWMSP | ... N25: ='ND3'!N12 -> 0
A26: ='NH1'!A16 -> 2 | B26: ='NH1'!B16 -> zaterdag | C26: ='NH1'!C16 -> 46298 | D26: ='NH1'!D16 -> 13:45 | E26: ='NH1'!E16 -> Ledûb Volleybal HS 2 | F26: ='NH1'!F16 -> VC Fortutas HS 1 | G26: ='NH1'!G16 -> H1G-FD | H26: ='NH1'!H16 -> BDLZU | ... N26: ='NH1'!N16 -> 0
A27: ='MC1'!A13 -> 3 | B27: ='MC1'!B13 -> zaterdag | C27: ='MC1'!C13 -> 46298 | D27: ='MC1'!D13 -> 13:00 | E27: ='MC1'!E13 -> Vakgarage Ernes & Piereij - ADC XC 2 | F27: ='MC1'!F13 -> VC Fortutas MC 1 | G27: ='MC1'!G13 -> XC3W1-CD | H27: ='MC1'!H13 -> URMOV | ... N27: ='MC1'!N13 -> 0
A28: ='L5-1'!A14 -> 2 | B28: ='L5-1'!B14 -> zondag | C28: ='L5-1'!C14 -> 46299 | D28: ='L5-1'!D14 -> 10:55 | E28: ='L5-1'!E14 -> VC Fortutas L5 1 | F28: ='L5-1'!F14 -> Olsredlem L5 1 | G28: ='L5-1'!G14 -> VN52AC-DB-2 | H28: ='L5-1'!H14 -> PNGPI | ... N28: ='L5-1'!N14 -> n.v.t.
A29: ='L5-1'!A15 -> 2 | B29: ='L5-1'!B15 -> zondag | C29: ='L5-1'!C15 -> 46299 | D29: ='L5-1'!D15 -> 11:35 | E29: ='L5-1'!E15 -> Tupos L5 3 | F29: ='L5-1'!F15 -> VC Fortutas L5 1 | G29: ='L5-1'!G15 -> VN52AC-CD-2 | H29: ='L5-1'!H15 -> PNGPI | ... N29: ='L5-1'!N15 -> n.v.t.
A30: ='L5-1'!A16 -> 2 | B30: ='L5-1'!B16 -> zondag | C30: ='L5-1'!C16 -> 46299 | D30: ='L5-1'!D16 -> 11:55 | E30: ='L5-1'!E16 -> Revoc/VCB L5 2 | F30: ='L5-1'!F16 -> VC Fortutas L5 1 | G30: ='L5-1'!G16 -> VN52AC-FD | H30: ='L5-1'!H16 -> PNGPI | ... N30: ='L5-1'!N16 -> n.v.t.
A31: ='L5-2'!A15 -> 2 | B31: ='L5-2'!B15 -> zondag | C31: ='L5-2'!C15 -> 46299 | D31: ='L5-2'!D15 -> 10:00 | E31: ='L5-2'!E15 -> VC Fortutas L5 2 | F31: ='L5-2'!F15 -> BVC Holyoke L5 1 | G31: ='L5-2'!G15 -> VN52AD-FD-2 | H31: ='L5-2'!H15 -> GBVHA | ... N31: ='L5-2'!N15 -> n.v.t.
A32: ='L5-2'!A16 -> 2 | B32: ='L5-2'!B16 -> zondag | C32: ='L5-2'!C16 -> 46299 | D32: ='L5-2'!D16 -> 10:40 | E32: ='L5-2'!E16 -> VC Fortutas L5 2 | F32: ='L5-2'!F16 -> Revoc/VCB L5 3 | G32: ='L5-2'!G16 -> VN52AD-FG-2 | H32: ='L5-2'!H16 -> GBVHA | ... N32: ='L5-2'!N16 -> n.v.t.
A33: ='L5-2'!A17 -> 2 | B33: ='L5-2'!B17 -> zondag | C33: ='L5-2'!C17 -> 46299 | D33: ='L5-2'!D17 -> 11:20 | E33: ='L5-2'!E17 -> Hovoc L5 2 | F33: ='L5-2'!F17 -> VC Fortutas L5 2 | G33: ='L5-2'!G17 -> VN52AD-AF-2 | H33: ='L5-2'!H17 -> GBVHA | ... N33: ='L5-2'!N17 -> n.v.t.
A34: ='L5-2'!A18 -> 2 | B34: ='L5-2'!B18 -> zondag | C34: ='L5-2'!C18 -> 46299 | D34: ='L5-2'!D18 -> 11:40 | E34: ='L5-2'!E18 -> VC Olympia L5 3 | F34: ='L5-2'!F18 -> VC Fortutas L5 2 | G34: ='L5-2'!G18 -> VN52AD-EF-2 | H34: ='L5-2'!H18 -> GBVHA | ... N34: ='L5-2'!N18 -> n.v.t.
A35: ='ND1'!A12 -> 2 | B35: ='ND1'!B12 -> zaterdag | C35: ='ND1'!C12 -> 46305 | D35: ='ND1'!D12 -> 18:00 | E35: ='ND1'!E12 -> VC Fortutas DS 1 | F35: ='ND1'!F12 -> VC Polaris DS 3 | G35: ='ND1'!G12 -> D2M-DE | H35: ='ND1'!H12 -> NDWBE | ... N35: ='ND1'!N12 -> 0
A36: ='ND2'!A13 -> 3 | B36: ='ND2'!B13 -> zaterdag | C36: ='ND2'!C13 -> 46305 | D36: ='ND2'!D13 -> 16:00 | E36: ='ND2'!E13 -> VC Fortutas DS 2 | F36: ='ND2'!F13 -> VC Olympia DS 5 | G36: ='ND2'!G13 -> D3L-DE | H36: ='ND2'!H13 -> NDWBE | ... N36: ='ND2'!N13 -> 0
A37: ='ND3'!A13 -> 3 | B37: ='ND3'!B13 -> zaterdag | C37: ='ND3'!C13 -> 46305 | D37: ='ND3'!D13 -> 18:00 | E37: ='ND3'!E13 -> VC Fortutas DS 3 | F37: ='ND3'!F13 -> VC Patrick DS 2 | G37: ='ND3'!G13 -> D3M-DE | H37: ='ND3'!H13 -> NDWBE | ... N37: ='ND3'!N13 -> 0
A38: ='NH1'!A17 -> 3 | B38: ='NH1'!B17 -> zaterdag | C38: ='NH1'!C17 -> 46305 | D38: ='NH1'!D17 -> 16:00 | E38: ='NH1'!E17 -> VC Fortutas HS 1 | F38: ='NH1'!F17 -> DKJO HS 1 | G38: ='NH1'!G17 -> H1G-DE | H38: ='NH1'!H17 -> NDWBE | ... N38: ='NH1'!N17 -> 0
A39: ='MB1'!A13 -> 3 | B39: ='MB1'!B13 -> zaterdag | C39: ='MB1'!C13 -> 46305 | D39: ='MB1'!D13 -> 18:00 | E39: ='MB1'!E13 -> VC Fortutas MB 1 | F39: ='MB1'!F13 -> Jokers VC MB 2 | G39: ='MB1'!G13 -> MB3M1-EB | H39: ='MB1'!H13 -> NDWBE | ... N39: ='MB1'!N13 -> 0
A40: ='L5-1'!A17 -> 3 | B40: ='L5-1'!B17 -> zondag | C40: ='L5-1'!C17 -> 46306 | D40: ='L5-1'!D17 -> 0.43055556 | E40: ='L5-1'!E17 -> Tupos L5 2 | F40: ='L5-1'!F17 -> VC Fortutas L5 1 | G40: ='L5-1'!G17 -> VN52BB-CD | H40: ='L5-1'!H17 -> BLOKA | ... N40: ='L5-1'!N17 -> n.v.t.
A41: ='L5-1'!A18 -> 3 | B41: ='L5-1'!B18 -> zondag | C41: ='L5-1'!C18 -> 46306 | D41: ='L5-1'!D18 -> 0.44444444 | E41: ='L5-1'!E18 -> VC Fortutas L5 1 | F41: ='L5-1'!F18 -> KLAVERBLAD / HHC L5 1 | G41: ='L5-1'!G18 -> VN52BB-DB | H41: ='L5-1'!H18 -> BLOKA | ... N41: ='L5-1'!N18 -> n.v.t.
A42: ='L5-1'!A19 -> 3 | B42: ='L5-1'!B19 -> zondag | C42: ='L5-1'!C19 -> 46306 | D42: ='L5-1'!D19 -> 0.47222222 | E42: ='L5-1'!E19 -> Accretos L5 2 | F42: ='L5-1'!F19 -> VC Fortutas L5 1 | G42: ='L5-1'!G19 -> VN52BB-AD | H42: ='L5-1'!H19 -> BLOKA | ... N42: ='L5-1'!N19 -> n.v.t.
A43: ='L5-2'!A19 -> 3 | B43: ='L5-2'!B19 -> zondag | C43: ='L5-2'!C19 -> 46306 | D43: ='L5-2'!D19 -> 0.45833333 | E43: ='L5-2'!E19 -> VC Fortutas L5 2 | F43: ='L5-2'!F19 -> VC Olympia L5 3 | G43: ='L5-2'!G19 -> VN52BC-EF | H43: ='L5-2'!H19 -> BLOKA | ... N43: ='L5-2'!N19 -> n.v.t.
A44: ='L5-2'!A20 -> 3 | B44: ='L5-2'!B20 -> zondag | C44: ='L5-2'!C20 -> 46306 | D44: ='L5-2'!D20 -> 0.48611111 | E44: ='L5-2'!E20 -> VC Fortutas L5 2 | F44: ='L5-2'!F20 -> Bach SV L5 1 | G44: ='L5-2'!G20 -> VN52BC-EA | H44: ='L5-2'!H20 -> BLOKA | ... N44: ='L5-2'!N20 -> n.v.t.
A45: ='L5-2'!A21 -> 3 | B45: ='L5-2'!B21 -> zondag | C45: ='L5-2'!C21 -> 46306 | D45: ='L5-2'!D21 -> 0.5 | E45: ='L5-2'!E21 -> Olsredlem L5 1 | F45: ='L5-2'!F21 -> VC Fortutas L5 2 | G45: ='L5-2'!G21 -> VN52BC-BE | H45: ='L5-2'!H21 -> BLOKA | ... N45: ='L5-2'!N21 -> n.v.t.
A46: ='L2-1'!A16 -> 2 | B46: ='L2-1'!B16 -> zondag | C46: ='L2-1'!C16 -> 46306 | D46: ='L2-1'!D16 -> 0.39583333 | E46: ='L2-1'!E16 -> Olsredlem L2 2 | F46: ='L2-1'!F16 -> VC Fortutas L2 1 | G46: ='L2-1'!G16 -> VN22BH-AE | H46: ='L2-1'!H16 -> HRTDE | ... N46: ='L2-1'!N16 -> n.v.t.
A47: ='L2-1'!A17 -> 2 | B47: ='L2-1'!B17 -> zondag | C47: ='L2-1'!C17 -> 46306 | D47: ='L2-1'!D17 -> 0.40972222 | E47: ='L2-1'!E17 -> VC Fortutas L2 1 | F47: ='L2-1'!F17 -> Set Up L2 1 | G47: ='L2-1'!G17 -> VN22BH-EB | H47: ='L2-1'!H17 -> HRTDE | ... N47: ='L2-1'!N17 -> n.v.t.
A48: ='L2-1'!A18 -> 2 | B48: ='L2-1'!B18 -> zondag | C48: ='L2-1'!C18 -> 46306 | D48: ='L2-1'!D18 -> 0.42361111 | E48: ='L2-1'!E18 -> VC Fortutas L2 1 | F48: ='L2-1'!F18 -> Revoc/VCB L2 2 | G48: ='L2-1'!G18 -> VN22BH-ED | H48: ='L2-1'!H18 -> HRTDE | ... N48: ='L2-1'!N18 -> n.v.t.
A49: ='L2-1'!A19 -> 2 | B49: ='L2-1'!B19 -> zondag | C49: ='L2-1'!C19 -> 46306 | D49: ='L2-1'!D19 -> 0.43055556 | E49: ='L2-1'!E19 -> Revoc/VCB L2 1 | F49: ='L2-1'!F19 -> VC Fortutas L2 1 | G49: ='L2-1'!G19 -> VN22BH-CE | H49: ='L2-1'!H19 -> HRTDE | ... N49: ='L2-1'!N19 -> n.v.t.
A50: ='NH1'!A12 -> C | B50: ='NH1'!B12 -> zaterdag | C50: ='NH1'!C12 -> 46312 | D50: ='NH1'!D12 -> 0.72916667 | E50: ='NH1'!E12 -> Numidia VC Limax HS 3 | F50: ='NH1'!F12 -> VC Fortutas HS 1 | G50: ='NH1'!G12 -> BH2B01-16 | H50: ='NH1'!H12 -> HENHH | ... N50: ='NH1'!N12 -> 0
A51: ='MC1'!A14 -> 5 | B51: ='MC1'!B14 -> zaterdag | C51: ='MC1'!C14 -> 46312 | D51: ='MC1'!D14 -> 16:00 | E51: ='MC1'!E14 -> VC Fortutas MC 1 | F51: ='MC1'!F14 -> Vakgarage Ernes & Piereij - ADC XC 2 | G51: ='MC1'!G14 -> XC3W1-DC | H51: ='MC1'!H14 -> NDWBE | ... N51: ='MC1'!N14 -> 0
A52: ='MC1'!A15 -> 6 | B52: ='MC1'!B15 -> zaterdag | C52: ='MC1'!C15 -> 46319 | D52: ='MC1'!D15 -> 16:00 | E52: ='MC1'!E15 -> VC Fortutas MC 1 | F52: ='MC1'!F15 -> Furos XC 1 | G52: ='MC1'!G15 -> XC3W1-DA | H52: ='MC1'!H15 -> NDWBE | ... N52: ='MC1'!N15 -> 0
A53: ='RH2'!A11 -> 1 | B53: ='RH2'!B11 -> maandag | C53: ='RH2'!C11 -> 46321 | D53: ='RH2'!D11 -> 0.83333333 | E53: ='RH2'!E11 -> VC Fortutas RH2 | F53: ='RH2'!F11 -> Stravoc 2 | G53: ='RH2'!G11 -> 0 | H53: ='RH2'!H11 -> 0 | ... N53: ='RH2'!N11 -> 0
A54: ='RD1'!A11 -> 1 | B54: ='RD1'!B11 -> vrijdag | C54: ='RD1'!C11 -> 46325 | D54: ='RD1'!D11 -> 0.875 | E54: ='RD1'!E11 -> Molenbeersel 2 | F54: ='RD1'!F11 -> VC Fortutas RD1 | G54: ='RD1'!G11 -> 0 | H54: ='RD1'!H11 -> 0 | ... N54: ='RD1'!N11 -> 0
A55: ='ND3'!A14 -> 4 | B55: ='ND3'!B14 -> zaterdag | C55: ='ND3'!C14 -> 46326 | D55: ='ND3'!D14 -> 0.625 | E55: ='ND3'!E14 -> VC HERO DS 5 | F55: ='ND3'!F14 -> VC Fortutas DS 3 | G55: ='ND3'!G14 -> D3M-GD-2 | H55: ='ND3'!H14 -> HENHH | ... M55: ='ND3'!M14 -> n.v.t.
A56: ='ND1'!A13 -> 4 | B56: ='ND1'!B13 -> zaterdag | C56: ='ND1'!C13 -> 46326 | D56: ='ND1'!D13 -> 18:00 | E56: ='ND1'!E13 -> Livoc Liessel DS 1 | F56: ='ND1'!F13 -> VC Fortutas DS 1 | G56: ='ND1'!G13 -> D2M-JD | H56: ='ND1'!H13 -> LSLSM | ... N56: ='ND1'!N13 -> 0
A57: ='ND2'!A14 -> 4 | B57: ='ND2'!B14 -> zaterdag | C57: ='ND2'!C14 -> 46326 | D57: ='ND2'!D14 -> 16:00 | E57: ='ND2'!E14 -> Peelpush DS 7 | F57: ='ND2'!F14 -> VC Fortutas DS 2 | G57: ='ND2'!G14 -> D3L-JD | H57: ='ND2'!H14 -> MEIKO | ... N57: ='ND2'!N14 -> 0
A58: ='NH1'!A18 -> 4 | B58: ='NH1'!B18 -> zaterdag | C58: ='NH1'!C18 -> 46326 | D58: ='NH1'!D18 -> 19:00 | E58: ='NH1'!E18 -> VC Maasdal HS 1 | F58: ='NH1'!F18 -> VC Fortutas HS 1 | G58: ='NH1'!G18 -> H1G-JD | H58: ='NH1'!H18 -> WEMTU | ... N58: ='NH1'!N18 -> 0
A59: ='MB1'!A14 -> 4 | B59: ='MB1'!B14 -> zaterdag | C59: ='MB1'!C14 -> 46326 | D59: ='MB1'!D14 -> 13:00 | E59: ='MB1'!E14 -> Vakgarage Ernes & Piereij - ADC MB 1 | F59: ='MB1'!F14 -> VC Fortutas MB 1 | G59: ='MB1'!G14 -> MB3M1-DE | H59: ='MB1'!H14 -> URMOV | ... N59: ='MB1'!N14 -> 0
A60: ='L5-1'!A20 -> 4 | B60: ='L5-1'!B20 -> zondag | C60: ='L5-1'!C20 -> 46327 | D60: ='L5-1'!D20 -> 0.41666667 | E60: ='L5-1'!E20 -> VC Fortutas L5 1 | F60: ='L5-1'!F20 -> Accretos L5 2 | G60: ='L5-1'!G20 -> VN52BB-DA | H60: ='L5-1'!H20 -> VELVI | ... N60: ='L5-1'!N20 -> n.v.t.
A61: ='L5-1'!A21 -> 4 | B61: ='L5-1'!B21 -> zondag | C61: ='L5-1'!C21 -> 46327 | D61: ='L5-1'!D21 -> 0.43055556 | E61: ='L5-1'!E21 -> BVC Holyoke L5 1 | F61: ='L5-1'!F21 -> VC Fortutas L5 1 | G61: ='L5-1'!G21 -> VN52BB-ED | H61: ='L5-1'!H21 -> VELVI | ... N61: ='L5-1'!N21 -> n.v.t.
A62: ='L5-1'!A22 -> 4 | B62: ='L5-1'!B22 -> zondag | C62: ='L5-1'!C22 -> 46327 | D62: ='L5-1'!D22 -> 0.45833333 | E62: ='L5-1'!E22 -> VC Fortutas L5 1 | F62: ='L5-1'!F22 -> VC Olympia L5 2 | G62: ='L5-1'!G22 -> VN52BB-DF | H62: ='L5-1'!H22 -> VELVI | ... N62: ='L5-1'!N22 -> n.v.t.
A63: ='L5-2'!A22 -> 4 | B63: ='L5-2'!B22 -> zondag | C63: ='L5-2'!C22 -> 46327 | D63: ='L5-2'!D22 -> 0.44444444 | E63: ='L5-2'!E22 -> BVC Holyoke L5 2 | F63: ='L5-2'!F22 -> VC Fortutas L5 2 | G63: ='L5-2'!G22 -> VN52BC-CE | H63: ='L5-2'!H22 -> VELVI | ... N63: ='L5-2'!N22 -> n.v.t.
A64: ='L5-2'!A23 -> 4 | B64: ='L5-2'!B23 -> zondag | C64: ='L5-2'!C23 -> 46327 | D64: ='L5-2'!D23 -> 0.47222222 | E64: ='L5-2'!E23 -> VC Fortutas L5 2 | F64: ='L5-2'!F23 -> Tupos L5 3 | G64: ='L5-2'!G23 -> VN52BC-ED | H64: ='L5-2'!H23 -> VELVI | ... N64: ='L5-2'!N23 -> n.v.t.
A65: ='L5-2'!A24 -> 4 | B65: ='L5-2'!B24 -> zondag | C65: ='L5-2'!C24 -> 46327 | D65: ='L5-2'!D24 -> 0.48611111 | E65: ='L5-2'!E24 -> VC Olympia L5 3 | F65: ='L5-2'!F24 -> VC Fortutas L5 2 | G65: ='L5-2'!G24 -> VN52BC-FE | H65: ='L5-2'!H24 -> VELVI | ... N65: ='L5-2'!N24 -> n.v.t.
A66: ='RH2'!A12 -> 2 | B66: ='RH2'!B12 -> donderdag | C66: ='RH2'!C12 -> 46331 | D66: ='RH2'!D12 -> 0.8125 | E66: ='RH2'!E12 -> V.C.M. 1 | F66: ='RH2'!F12 -> VC Fortutas RH2 | G66: ='RH2'!G12 -> 0 | H66: ='RH2'!H12 -> 0 | ... N66: ='RH2'!N12 -> 0
A67: ='RD1'!A12 -> 2 | B67: ='RD1'!B12 -> donderdag | C67: ='RD1'!C12 -> 46331 | D67: ='RD1'!D12 -> 0.83333333 | E67: ='RD1'!E12 -> VC Fortutas RD1 | F67: ='RD1'!F12 -> SV Ludentes D | G67: ='RD1'!G12 -> 0 | H67: ='RD1'!H12 -> 0 | ... N67: ='RD1'!N12 -> 0
A68: ='ND1'!A14 -> 5 | B68: ='ND1'!B14 -> zaterdag | C68: ='ND1'!C14 -> 46333 | D68: ='ND1'!D14 -> 16:00 | E68: ='ND1'!E14 -> VC Trivia DS 4 | F68: ='ND1'!F14 -> VC Fortutas DS 1 | G68: ='ND1'!G14 -> D2M-CD | H68: ='ND1'!H14 -> METSP | ... N68: ='ND1'!N14 -> 0
A69: ='ND2'!A15 -> 5 | B69: ='ND2'!B15 -> zaterdag | C69: ='ND2'!C15 -> 46333 | D69: ='ND2'!D15 -> 16:30 | E69: ='ND2'!E15 -> Bach SV DS 2 | F69: ='ND2'!F15 -> VC Fortutas DS 2 | G69: ='ND2'!G15 -> D3L-CD | H69: ='ND2'!H15 -> ELLSC | ... N69: ='ND2'!N15 -> 0
A70: ='ND3'!A15 -> 5 | B70: ='ND3'!B15 -> zaterdag | C70: ='ND3'!C15 -> 46333 | D70: ='ND3'!D15 -> 12:00 | E70: ='ND3'!E15 -> VC Sittardia DS 1 | F70: ='ND3'!F15 -> VC Fortutas DS 3 | G70: ='ND3'!G15 -> D3M-CD | H70: ='ND3'!H15 -> STDKL | ... N70: ='ND3'!N15 -> 0
A71: ='NH1'!A19 -> 5 | B71: ='NH1'!B19 -> zaterdag | C71: ='NH1'!C19 -> 46333 | D71: ='NH1'!D19 -> 16:00 | E71: ='NH1'!E19 -> Were-Di HS 1 | F71: ='NH1'!F19 -> VC Fortutas HS 1 | G71: ='NH1'!G19 -> H1G-CD | H71: ='NH1'!H19 -> GMTMO | ... N71: ='NH1'!N19 -> 0
A72: ='MC1'!A16 -> 7 | B72: ='MC1'!B16 -> zaterdag | C72: ='MC1'!C16 -> 46333 | D72: ='MC1'!D16 -> 0.5 | E72: ='MC1'!E16 -> Furos XC 1 | F72: ='MC1'!F16 -> VC Fortutas MC 1 | G72: ='MC1'!G16 -> XC3W1-AD | H72: ='MC1'!H16 -> KRDRO | ... N72: ='MC1'!N16 -> 0
A73: ='L2-1'!A20 -> 3 | B73: ='L2-1'!B20 -> zondag | C73: ='L2-1'!C20 -> 46334 | D73: ='L2-1'!D20 -> 0.41666667 | E73: ='L2-1'!E20 -> VC Olympia L2 2 | F73: ='L2-1'!F20 -> VC Fortutas L2 1 | G73: ='L2-1'!G20 -> VN22CJ-BD | H73: ='L2-1'!H20 -> MDOBE | ... M73: ='L2-1'!M20 -> n.v.t.
A74: ='L2-1'!A21 -> 3 | B74: ='L2-1'!B21 -> zondag | C74: ='L2-1'!C21 -> 46334 | D74: ='L2-1'!D21 -> 0.42361111 | E74: ='L2-1'!E21 -> VC Fortutas L2 1 | F74: ='L2-1'!F21 -> VC Olympia L2 1 | G74: ='L2-1'!G21 -> VN22CJ-DA | H74: ='L2-1'!H21 -> MDOBE | ... M74: ='L2-1'!M21 -> n.v.t.
A75: ='L2-1'!A22 -> 3 | B75: ='L2-1'!B22 -> zondag | C75: ='L2-1'!C22 -> 46334 | D75: ='L2-1'!D22 -> 0.4375 | E75: ='L2-1'!E22 -> Olsredlem L2 1 | F75: ='L2-1'!F22 -> VC Fortutas L2 1 | G75: ='L2-1'!G22 -> VN22CJ-ED | H75: ='L2-1'!H22 -> MDOBE | ... M75: ='L2-1'!M22 -> n.v.t.
A76: ='L2-1'!A23 -> 3 | B76: ='L2-1'!B23 -> zondag | C76: ='L2-1'!C23 -> 46334 | D76: ='L2-1'!D23 -> 0.45138889 | E76: ='L2-1'!E23 -> VC Fortutas L2 1 | F76: ='L2-1'!F23 -> VC Olympia L2 5 | G76: ='L2-1'!G23 -> VN22CJ-DC | H76: ='L2-1'!H23 -> MDOBE | ... M76: ='L2-1'!M23 -> n.v.t.
A77: ='RH2'!A13 -> 3 | B77: ='RH2'!B13 -> maandag | C77: ='RH2'!C13 -> 46335 | D77: ='RH2'!D13 -> 0.83333333 | E77: ='RH2'!E13 -> VC Fortutas RH2 | F77: ='RH2'!F13 -> TVC Recreatie | G77: ='RH2'!G13 -> 0 | H77: ='RH2'!H13 -> 0 | ... N77: ='RH2'!N13 -> 0
A78: ='RD1'!A13 -> 3 | B78: ='RD1'!B13 -> woensdag | C78: ='RD1'!C13 -> 46337 | D78: ='RD1'!D13 -> 0.83333333 | E78: ='RD1'!E13 -> Molenbeersel 1 | F78: ='RD1'!F13 -> VC Fortutas RD1 | G78: ='RD1'!G13 -> 0 | H78: ='RD1'!H13 -> 0 | ... N78: ='RD1'!N13 -> 0
A79: ='RH1'!A11 -> 1 | B79: ='RH1'!B11 -> donderdag | C79: ='RH1'!C11 -> 46338 | D79: ='RH1'!D11 -> 0.83333333 | E79: ='RH1'!E11 -> VC Fortutas RH1 | F79: ='RH1'!F11 -> V.C.P. Gem | G79: ='RH1'!G11 -> 0 | H79: ='RH1'!H11 -> 0 | ... N79: ='RH1'!N11 -> 0
A80: ='ND1'!A15 -> 6 | B80: ='ND1'!B15 -> zaterdag | C80: ='ND1'!C15 -> 46340 | D80: ='ND1'!D15 -> 18:00 | E80: ='ND1'!E15 -> VC Fortutas DS 1 | F80: ='ND1'!F15 -> Hovoc DS 3 | G80: ='ND1'!G15 -> D2M-DB | H80: ='ND1'!H15 -> NDWBE | ... N80: ='ND1'!N15 -> 0
A81: ='ND2'!A16 -> 6 | B81: ='ND2'!B16 -> zaterdag | C81: ='ND2'!C16 -> 46340 | D81: ='ND2'!D16 -> 16:00 | E81: ='ND2'!E16 -> VC Fortutas DS 2 | F81: ='ND2'!F16 -> Civitas DS 3 | G81: ='ND2'!G16 -> D3L-DB | H81: ='ND2'!H16 -> NDWBE | ... N81: ='ND2'!N16 -> 0
A82: ='ND3'!A16 -> 6 | B82: ='ND3'!B16 -> zaterdag | C82: ='ND3'!C16 -> 46340 | D82: ='ND3'!D16 -> 18:00 | E82: ='ND3'!E16 -> VC Fortutas DS 3 | F82: ='ND3'!F16 -> Accretos DS 2 | G82: ='ND3'!G16 -> D3M-DB | H82: ='ND3'!H16 -> NDWBE | ... N82: ='ND3'!N16 -> 0
A83: ='NH1'!A20 -> 6 | B83: ='NH1'!B20 -> zaterdag | C83: ='NH1'!C20 -> 46340 | D83: ='NH1'!D20 -> 16:00 | E83: ='NH1'!E20 -> VC Fortutas HS 1 | F83: ='NH1'!F20 -> Civitas HS 2 | G83: ='NH1'!G20 -> H1G-DB | H83: ='NH1'!H20 -> NDWBE | ... N83: ='NH1'!N20 -> 0
A84: ='MB1'!A15 -> 5 | B84: ='MB1'!B15 -> zaterdag | C84: ='MB1'!C15 -> 46340 | D84: ='MB1'!D15 -> 18:00 | E84: ='MB1'!E15 -> VC Fortutas MB 1 | F84: ='MB1'!F15 -> Vakgarage Ernes & Piereij - ADC MB 1 | G84: ='MB1'!G15 -> MB3M1-ED | H84: ='MB1'!H15 -> NDWBE | ... N84: ='MB1'!N15 -> 0
A85: ='MC1'!A17 -> 8 | B85: ='MC1'!B17 -> zaterdag | C85: ='MC1'!C17 -> 46340 | D85: ='MC1'!D17 -> 16:00 | E85: ='MC1'!E17 -> VC Fortutas MC 1 | F85: ='MC1'!F17 -> VC Sittardia XC 1 | G85: ='MC1'!G17 -> XC3W1-DF | H85: ='MC1'!H17 -> NDWBE | ... N85: ='MC1'!N17 -> 0
A86: ='RH1'!A12 -> 2 | B86: ='RH1'!B12 -> woensdag | C86: ='RH1'!C12 -> 46344 | D86: ='RH1'!D12 -> 0.83333333 | E86: ='RH1'!E12 -> Stravoc 2 | F86: ='RH1'!F12 -> VC Fortutas RH1 | G86: ='RH1'!G12 -> 0 | H86: ='RH1'!H12 -> 0 | ... N86: ='RH1'!N12 -> 0
A87: ='ND1'!A16 -> 7 | B87: ='ND1'!B16 -> zaterdag | C87: ='ND1'!C16 -> 46347 | D87: ='ND1'!D16 -> 14:30 | E87: ='ND1'!E16 -> VC Athos '70 DS 2 | F87: ='ND1'!F16 -> VC Fortutas DS 1 | G87: ='ND1'!G16 -> D2M-AD | H87: ='ND1'!H16 -> SVMKR | ... N87: ='ND1'!N16 -> 0
A88: ='MB1'!A16 -> 6 | B88: ='MB1'!B16 -> zaterdag | C88: ='MB1'!C16 -> 46347 | D88: ='MB1'!D16 -> 0.45833333 | E88: ='MB1'!E16 -> Furos MB 1 | F88: ='MB1'!F16 -> VC Fortutas MB 1 | G88: ='MB1'!G16 -> MB3M1-AE | H88: ='MB1'!H16 -> KRDRO | ... N88: ='MB1'!N16 -> 0
A89: ='MC1'!A18 -> 4 | B89: ='MC1'!B18 -> zaterdag | C89: ='MC1'!C18 -> 46347 | D89: ='MC1'!D18 -> 0.63541667 | E89: ='MC1'!E18 -> VC Fortutas MC 1 | F89: ='MC1'!F18 -> Jokers VC XC 3 | G89: ='MC1'!G18 -> XC3W1-DB | H89: ='MC1'!H18 -> NDWBE | ... N89: ='MC1'!N18 -> 0
A90: ='RD1'!A14 -> 4 | B90: ='RD1'!B14 -> maandag | C90: ='RD1'!C14 -> 46349 | D90: ='RD1'!D14 -> 0.83333333 | E90: ='RD1'!E14 -> VC Maasdal | F90: ='RD1'!F14 -> VC Fortutas RD1 | G90: ='RD1'!G14 -> 0 | H90: ='RD1'!H14 -> 0 | ... N90: ='RD1'!N14 -> 0
A91: ='RH2'!A14 -> 4 | B91: ='RH2'!B14 -> dinsdag | C91: ='RH2'!C14 -> 46350 | D91: ='RH2'!D14 -> 0.83333333 | E91: ='RH2'!E14 -> VC Mofert | F91: ='RH2'!F14 -> VC Fortutas RH2 | G91: ='RH2'!G14 -> 0 | H91: ='RH2'!H14 -> 0 | ... N91: ='RH2'!N14 -> 0
A92: ='RH1'!A13 -> 3 | B92: ='RH1'!B13 -> donderdag | C92: ='RH1'!C13 -> 46352 | D92: ='RH1'!D13 -> 0.83333333 | E92: ='RH1'!E13 -> VC Fortutas RH1 | F92: ='RH1'!F13 -> V.C.M. 1 | G92: ='RH1'!G13 -> 0 | H92: ='RH1'!H13 -> 0 | ... N92: ='RH1'!N13 -> 0
A93: ='ND1'!A17 -> 8 | B93: ='ND1'!B17 -> zaterdag | C93: ='ND1'!C17 -> 46354 | D93: ='ND1'!D17 -> 18:00 | E93: ='ND1'!E17 -> VC Fortutas DS 1 | F93: ='ND1'!F17 -> Peelpush DS 5 | G93: ='ND1'!G17 -> D2M-DI | H93: ='ND1'!H17 -> NDWBE | ... N93: ='ND1'!N17 -> 0
A94: ='ND2'!A17 -> 7 | B94: ='ND2'!B17 -> zaterdag | C94: ='ND2'!C17 -> 46354 | D94: ='ND2'!D17 -> 16:00 | E94: ='ND2'!E17 -> VC Fortutas DS 2 | F94: ='ND2'!F17 -> Hovoc DS 5 | G94: ='ND2'!G17 -> D3L-DI | H94: ='ND2'!H17 -> NDWBE | ... N94: ='ND2'!N17 -> 0
A95: ='ND3'!A17 -> 7 | B95: ='ND3'!B17 -> zaterdag | C95: ='ND3'!C17 -> 46354 | D95: ='ND3'!D17 -> 18:00 | E95: ='ND3'!E17 -> VC Fortutas DS 3 | F95: ='ND3'!F17 -> Furos DS 4 | G95: ='ND3'!G17 -> D3M-DI | H95: ='ND3'!H17 -> NDWBE | ... N95: ='ND3'!N17 -> 0
A96: ='NH1'!A21 -> 7 | B96: ='NH1'!B21 -> zaterdag | C96: ='NH1'!C21 -> 46354 | D96: ='NH1'!D21 -> 16:00 | E96: ='NH1'!E21 -> VC Fortutas HS 1 | F96: ='NH1'!F21 -> Nuvo'68 HS 3 | G96: ='NH1'!G21 -> H1G-DI | H96: ='NH1'!H21 -> NDWBE | ... N96: ='NH1'!N21 -> 0
A97: ='MB1'!A17 -> 7 | B97: ='MB1'!B17 -> zaterdag | C97: ='MB1'!C17 -> 46354 | D97: ='MB1'!D17 -> 18:00 | E97: ='MB1'!E17 -> VC Fortutas MB 1 | F97: ='MB1'!F17 -> Hyundai Peter Janssen Stravoc MB 2 | G97: ='MB1'!G17 -> MB3M1-EC | H97: ='MB1'!H17 -> NDWBE | ... N97: ='MB1'!N17 -> 0
A98: ='MC1'!A19 -> 9 | B98: ='MC1'!B19 -> zaterdag | C98: ='MC1'!C19 -> 46354 | D98: ='MC1'!D19 -> 0.5 | E98: ='MC1'!E19 -> VC Sittardia XC 1 | F98: ='MC1'!F19 -> VC Fortutas MC 1 | G98: ='MC1'!G19 -> XC3W1-FD | H98: ='MC1'!H19 -> STDKL | ... N98: ='MC1'!N19 -> 0
A99: ='ND1'!A18 -> 3 | B99: ='ND1'!B18 -> donderdag | C99: ='ND1'!C18 -> 46359 | D99: ='ND1'!D18 -> 20:00 | E99: ='ND1'!E18 -> VC Fortutas DS 1 | F99: ='ND1'!F18 -> Set Up DS 4 | G99: ='ND1'!G18 -> D2M-DG | H99: ='ND1'!H18 -> NDWBE | ... M99: ='ND1'!M18 -> Guus Götzen
A100: ='RH2'!A15 -> 5 | B100: ='RH2'!B15 -> maandag | C100: ='RH2'!C15 -> 46363 | D100: ='RH2'!D15 -> 0.83333333 | E100: ='RH2'!E15 -> VC Fortutas RH2 | F100: ='RH2'!F15 -> VC Maasdal Gem. | G100: ='RH2'!G15 -> 0 | H100: ='RH2'!H15 -> 0 | ... N100: ='RH2'!N15 -> 0
...

Sheet ND1
C1: Dames 1 | D1: A | E1: VC Athos '70 DS2 | F1: G | G1: Set Up DS4
C2: KL. D2M | D2: B | E2: Hovoc DS3 | F2: H | G2: VC Weert DS3
D3: C | E3: VC Trivia DS4 | F3: I | G3: Peelpush DS5
D4: D | E4: VC Fortutas DS1 | F4: J | G4: Livoc Liessel DS1
D5: E | E5: VC Polaris DS3 | F5: K
D6: F | E6: Ledûb Volleybal DS4 | F6: L
A8: volgnr. | B8: dag | C8: datum | D8: tijdstip | E8: team THUIS | F8: team UIT | G8: lettercode | H8: zaalcode | I8: sporthal | J8: plaats | K8: uitslag | L8: scheidsrechter | M8: teller
A11: 1 | B11: =TEXT(C11,"dddd") -> zaterdag | C11: 46298 | D11: 16:00 | E11: Ledûb Volleybal DS 4 | F11: VC Fortutas DS 1 | G11: D2M-FD | H11: BDLZU | I11: Zuiderpoort | J11: Budel | K11: 0-4 | L11: n.v.t. | M11: n.v.t.
A12: 2 | B12: =TEXT(C12,"dddd") -> zaterdag | C12: 46305 | D12: 18:00 | E12: VC Fortutas DS 1 | F12: VC Polaris DS 3 | G12: D2M-DE | H12: NDWBE | I12: Sport- en squashcentrum | J12: Nederweert | K12: 1-3 | L12: Thijs Kessels | M12: Bodine Lempens & Isa van den Haterd
A13: 4 | B13: =TEXT(C13,"dddd") -> zaterdag | C13: 46326 | D13: 18:00 | E13: Livoc Liessel DS 1 | F13: VC Fortutas DS 1 | G13: D2M-JD | H13: LSLSM | I13: De Smeltkroes | J13: Liessel | L13: n.v.t. | M13: n.v.t.
A14: 5 | B14: =TEXT(C14,"dddd") -> zaterdag | C14: 46333 | D14: 16:00 | E14: VC Trivia DS 4 | F14: VC Fortutas DS 1 | G14: D2M-CD | H14: METSP | I14: Sportcentrum De Speulhof | J14: Meterik | L14: n.v.t. | M14: n.v.t.
A15: 6 | B15: =TEXT(C15,"dddd") -> zaterdag | C15: 46340 | D15: 18:00 | E15: VC Fortutas DS 1 | F15: Hovoc DS 3 | G15: D2M-DB | H15: NDWBE | I15: Sport- en squashcentrum | J15: Nederweert | L15: Jules Jacobs | M15: Maud van den Homberg & Tineke Kersten
A16: 7 | B16: =TEXT(C16,"dddd") -> zaterdag | C16: 46347 | D16: 14:30 | E16: VC Athos '70 DS 2 | F16: VC Fortutas DS 1 | G16: D2M-AD | H16: SVMKR | I16: De Kruisweide | J16: Sevenum | L16: n.v.t. | M16: n.v.t.
A17: 8 | B17: =TEXT(C17,"dddd") -> zaterdag | C17: 46354 | D17: 18:00 | E17: VC Fortutas DS 1 | F17: Peelpush DS 5 | G17: D2M-DI | H17: NDWBE | I17: Sport- en squashcentrum | J17: Nederweert | L17: John van Wijk | M17: Renske Janssen & Teun van den Tillaar
A18: 3 | B18: =TEXT(C18,"dddd") -> donderdag | C18: 46359 | D18: 20:00 | E18: VC Fortutas DS 1 | F18: Set Up DS 4 | G18: D2M-DG | H18: NDWBE | I18: Sport- en squashcentrum | J18: Nederweert | L18: Stef Janssen | M18: Guus Götzen
A19: 9 | B19: =TEXT(C19,"dddd") -> zaterdag | C19: 46368 | D19: 13:00 | E19: Van Hoorn Carbide VC Weert DS 3 | F19: VC Fortutas DS 1 | G19: D2M-HD | H19: WRTBR | I19: Aan de bron | J19: Weert | L19: n.v.t. | M19: n.v.t.
A20: 10 | B20: =TEXT(C20,"dddd") -> zaterdag | C20: 46403 | D20: 18:00 | E20: VC Fortutas DS 1 | F20: Ledûb Volleybal DS 4 | G20: D2M-DF | H20: NDWBE | I20: Sport- en squashcentrum | J20: Nederweert | L20: Nel Ronken | M20: Isa van den Haterd & Senna van der Putten
A21: 11 | B21: =TEXT(C21,"dddd") -> zaterdag | C21: 46417 | D21: 15:00 | E21: VC Polaris DS 3 | F21: VC Fortutas DS 1 | G21: D2M-ED | H21: HMDHO | I21: 't Hout | J21: Helmond | L21: n.v.t. | M21: n.v.t.
A22: 12 | B22: =TEXT(C22,"dddd") -> zaterdag | C22: 46438 | D22: 18:00 | E22: VC Fortutas DS 1 | F22: Livoc Liessel DS 1 | G22: D2M-DJ | H22: NDWBE | I22: Sport- en squashcentrum | J22: Nederweert | L22: Thijs Kessels | M22: Lara de Goey & Mees van de Kerkhof
A23: 13 | B23: =TEXT(C23,"dddd") -> zaterdag | C23: 46445 | D23: 18:00 | E23: VC Fortutas DS 1 | F23: VC Trivia DS 4 | G23: D2M-DC | H23: NDWBE | I23: Sport- en squashcentrum | J23: Nederweert | L23: Margo Saes | M23: Tineke Kersten & Mick van de Kerkhof
A24: 14 | B24: =TEXT(C24,"dddd") -> zaterdag | C24: 46459 | D24: 19:00 | E24: Hovoc DS 3 | F24: VC Fortutas DS 1 | G24: D2M-BD | H24: HRTDE | I24: Dendron Sporthal | J24: Horst | L24: n.v.t. | M24: n.v.t.
... A28: 18 | B28: =TEXT(C28,"dddd") -> zaterdag | C28: 46494 | D28: 16:00 | E28: Set Up DS 4 | F28: VC Fortutas DS 1 | G28: D2M-GD | H28: MLOBR | I28: 't Brugeind | J28: Meerlo | L28: n.v.t. | M28: n.v.t.

Sheet ND2
C1: Dames 2 | D1: A | E1: Olsredlem DS3 | F1: G | G1: VC HERO DS3
C2: KL. D3L | D2: B | E2: Civitas DS3 | F2: H | G2: Hovoc DS5
D3: C | E3: Bach SV DS2 | F3: I | G3: Peelpush DS7
D4: D | E4: VC Fortutas DS2 | F4: J
D5: E | E5: VC Olympia DS5 | F5: K
D6: F | E6: Stravoc DS5 | F6: L
A8: volgnr. | B8: dag | C8: datum | D8: tijdstip | E8: team THUIS | F8: team UIT | G8: lettercode | H8: zaalcode | I8: sporthal | J8: plaats | K8: uitslag | L8: scheidsrechter | M8: teller
A11: 1 | B11: =TEXT(C11,"dddd") -> zaterdag | C11: 46291 | D11: 16:00 | E11: VC Fortutas DS 2 | F11: VC HERO DS 3 | G11: D3L-DG | H11: NDWBE | I11: Sport- en squashcentrum | J11: Nederweert | K11: 0-4 | L11: Manon Janssen | M11: Hilde van de Kerkhof
A12: 2 | B12: =TEXT(C12,"dddd") -> zaterdag | C12: 46298 | D12: 14:30 | E12: Hyundai Peter Janssen Stravoc DS 5 | F12: VC Fortutas DS 2 | G12: D3L-FD | H12: STPGR | I12: De Grenslibel | J12: Stramproy | K12: 4-0 | L12: n.v.t. | M12: n.v.t.
A13: 3 | B13: zaterdag | C13: 46305 | D13: 16:00 | E13: VC Fortutas DS 2 | F13: VC Olympia DS 5 | G13: D3L-DE | H13: NDWBE | I13: Sport- en squashcentrum | J13: Nederweert | K13: 0-4 | L13: Gert-Jan Adema | M13: Wendy Gielen & Sam Smolenaers
A14: 4 | B14: =TEXT(C14,"dddd") -> zaterdag | C14: 46326 | D14: 16:00 | E14: Peelpush DS 7 | F14: VC Fortutas DS 2 | G14: D3L-JD | H14: MEIKO | I14: De Korref | J14: Meijel | L14: n.v.t. | M14: n.v.t.
A15: 5 | B15: =TEXT(C15,"dddd") -> zaterdag | C15: 46333 | D15: 16:30 | E15: Bach SV DS 2 | F15: VC Fortutas DS 2 | G15: D3L-CD | H15: ELLSC | I15: Gymzaal Scheyvenstraat | J15: Ell | L15: n.v.t. | M15: n.v.t.
A16: 6 | B16: =TEXT(C16,"dddd") -> zaterdag | C16: 46340 | D16: 16:00 | E16: VC Fortutas DS 2 | F16: Civitas DS 3 | G16: D3L-DB | H16: NDWBE | I16: Sport- en squashcentrum | J16: Nederweert | L16: Gert-Jan Adema | M16: Peter Hoonings & Imke Rademaker
A17: 7 | B17: =TEXT(C17,"dddd") -> zaterdag | C17: 46354 | D17: 16:00 | E17: VC Fortutas DS 2 | F17: Hovoc DS 5 | G17: D3L-DI | H17: NDWBE | I17: Sport- en squashcentrum | J17: Nederweert | L17: Ava Geraats | M17: Pieter Lempens & Sjoukje van Oudheusden
A18: 8 | B18: =TEXT(C18,"dddd") -> zaterdag | C18: 46375 | D18: 16:00 | E18: Olsredlem DS 3 | F18: VC Fortutas DS 2 | G18: D3L-AD | H18: MDOBE | I18: MFC De Zwingel | J18: Melderslo | L18: n.v.t. | M18: n.v.t.
A19: 9 | B19: =TEXT(C19,"dddd") -> zaterdag | C19: 46396 | D19: 16:00 | E19: VC Fortutas DS 2 | F19: Hyundai Peter Janssen Stravoc DS 5 | G19: D3L-DF | H19: NDWBE | I19: Sport- en squashcentrum | J19: Nederweert | L19: Kyra van Schendel | M19: Cobi van Herten & Milou Olislagers
A20: 10 | B20: =TEXT(C20,"dddd") -> zaterdag | C20: 46417 | D20: 19:00 | E20: VC Olympia DS 5 | F20: VC Fortutas DS 2 | G20: D3L-ED | H20: PNGPI | I20: Piushof | J20: Panningen | L20: n.v.t. | M20: n.v.t.
A21: 11 | B21: =TEXT(C21,"dddd") -> zaterdag | C21: 46438 | D21: 16:00 | E21: VC Fortutas DS 2 | F21: Peelpush DS 7 | G21: D3L-DJ | H21: NDWBE | I21: Sport- en squashcentrum | J21: Nederweert | L21: Gert-Jan Adema | M21: Marleen Verdonschot
A22: 12 | B22: =TEXT(C22,"dddd") -> zaterdag | C22: 46445 | D22: 16:00 | E22: VC Fortutas DS 2 | F22: Bach SV DS 2 | G22: D3L-DC | H22: NDWBE | I22: Sport- en squashcentrum | J22: Nederweert | L22: Kelly Nies | M22: Pieter Lempens
A23: 13 | B23: =TEXT(C23,"dddd") -> zaterdag | C23: 46459 | D23: 16:45 | E23: Civitas DS 3 | F23: VC Fortutas DS 2 | G23: D3L-BD | H23: VLOHA | I23: Ruben Kogeldans Sporthal | J23: Venlo | L23: n.v.t. | M23: n.v.t.
A24: 14 | B24: zaterdag | C24: 46466 | D24: 16:00 | E24: VC Fortutas DS 2 | F24: Olsredlem DS 3 | G24: D3L-DA | H24: NDWBE | I24: Sport- en squashcentrum | J24: Nederweert | L24: Rachelle Meijer | M24: Peter Hoonings
A25: 15 | B25: =TEXT(C25,"dddd") -> zaterdag | C25: 46480 | D25: 16:30 | E25: Hovoc DS 5 | F25: VC Fortutas DS 2 | G25: D3L-ID | H25: HRTDE | I25: Dendron Sporthal | J25: Horst | L25: n.v.t. | M25: n.v.t.
A26: 16 | B26: =TEXT(C26,"dddd") -> zaterdag | C26: 46494 | D26: 19:30 | E26: VC HERO DS 3 | F26: VC Fortutas DS 2 | G26: D3L-GD | H26: HENHH | I26: Herteheym | J26: Herten | L26: n.v.t. | M26: n.v.t.

Sheet ND3
C1: Dames 3 | D1: A | E1: Accretos DS2 | F1: G | G1: VC HERO DS5
C2: KL. D3M | D2: B | E2: VC Sittardia DS1 | F2: H | G2: Weert DS5
D3: C | E3: VC Fortutas DS3 | F3: I
D4: D | E4: VC Patrick DS2 | F4: J
D5: E | E5: S'62 DS1 | F5: K
D6: F | E6: Furos DS4 | F6: L
A8: volgnr. | B8: dag | C8: datum | D8: tijdstip | E8: team THUIS | F8: team UIT | G8: lettercode | H8: zaalcode | I8: sporthal | J8: plaats | K8: uitslag | L8: scheidsrechter | M8: teller
A11: 1 | B11: =TEXT(C11,"dddd") -> zaterdag | C11: 46291 | D11: 18:00 | E11: VC Fortutas DS 3 | F11: VC HERO DS 5 | G11: D3M-DG | H11: NDWBE | I11: Sport- en squashcentrum | J11: Nederweert | K11: 46056 | L11: Djez Gruijters | M11: ouders
A12: 2 | B12: =TEXT(C12,"dddd") -> zaterdag | C12: 46298 | D12: 14:00 | E12: S'62 DS 1 | F12: VC Fortutas DS 3 | G12: D3M-FD | H12: SWMSP | I12: Sportcentrum Swalmen | J12: Swalmen | K12: 1-3 | L12: n.v.t. | M12: n.v.t.
A13: 3 | B13: =TEXT(C13,"dddd") -> zaterdag | C13: 46305 | D13: 18:00 | E13: VC Fortutas DS 3 | F13: VC Patrick DS 2 | G13: D3M-DE | H13: NDWBE | I13: Sport- en squashcentrum | J13: Nederweert | K13: 2-3 | L13: Margo Saes | M13: ouders
A14: 4 | B14: =TEXT(C14,"dddd") -> zaterdag | C14: 46326 | D14: 0.625 | E14: VC HERO DS 5 | F14: VC Fortutas DS 3 | G14: D3M-GD-2 | H14: HENHH | I14: Herteheym | J14: Herten | L14: n.v.t. | M14: n.v.t.
A15: 5 | B15: =TEXT(C15,"dddd") -> zaterdag | C15: 46333 | D15: 12:00 | E15: VC Sittardia DS 1 | F15: VC Fortutas DS 3 | G15: D3M-CD | H15: STDKL | I15: Kleesj | J15: Sittard | L15: n.v.t. | M15: n.v.t.
A16: 6 | B16: =TEXT(C16,"dddd") -> zaterdag | C16: 46340 | D16: 18:00 | E16: VC Fortutas DS 3 | F16: Accretos DS 2 | G16: D3M-DB | H16: NDWBE | I16: Sport- en squashcentrum | J16: Nederweert | L16: Djez Gruijters | M16: ouders
A17: 7 | B17: =TEXT(C17,"dddd") -> zaterdag | C17: 46354 | D17: 18:00 | E17: VC Fortutas DS 3 | F17: Furos DS 4 | G17: D3M-DI | H17: NDWBE | I17: Sport- en squashcentrum | J17: Nederweert | L17: Roy Gijsen | M17: ouders
A18: 8 | B18: =TEXT(C18,"dddd") -> zaterdag | C18: 46368 | D18: 15:30 | E18: Van Hoorn Carbide VC Weert DS 5 | F18: VC Fortutas DS 3 | G18: D3M-HD | H18: WRTBR | I18: Aan de bron | J18: Weert | L18: n.v.t. | M18: n.v.t.
A19: 9 | B19: =TEXT(C19,"dddd") -> zaterdag | C19: 46396 | D19: 18:00 | E19: VC Fortutas DS 3 | F19: S'62 DS 1 | G19: D3M-DF | H19: NDWBE | I19: Sport- en squashcentrum | J19: Nederweert | L19: Stef Janssen | M19: ouders
A20: 10 | B20: =TEXT(C20,"dddd") -> zaterdag | C20: 46417 | D20: 15:30 | E20: VC Patrick DS 2 | F20: VC Fortutas DS 3 | G20: D3M-ED | H20: ECHBA | I20: In de Bandert | J20: Echt | L20: n.v.t. | M20: n.v.t.
A21: 11 | B21: =TEXT(C21,"dddd") -> zaterdag | C21: 46445 | D21: 18:00 | E21: VC Fortutas DS 3 | F21: VC Sittardia DS 1 | G21: D3M-DC | H21: NDWBE | I21: Sport- en squashcentrum | J21: Nederweert | L21: Ramino Peters | M21: ouders
A22: 12 | B22: =TEXT(C22,"dddd") -> zaterdag | C22: 46459 | D22: 15:30 | E22: Accretos DS 2 | F22: VC Fortutas DS 3 | G22: D3M-BD | H22: NERMV | I22: Het Maasveld | J22: Neer | L22: n.v.t. | M22: n.v.t.
A23: 13 | B23: zaterdag | C23: 46480 | D23: 0.45833333 | E23: Furos DS 4 | F23: VC Fortutas DS 3 | G23: D3M-ID | H23: KRDRO | I23: Rolduc | J23: Kerkrade | L23: n.v.t. | M23: n.v.t.
A24: 14 | B24: =TEXT(C24,"dddd") -> zaterdag | C24: 46487 | D24: 18:00 | E24: VC Fortutas DS 3 | F24: Van Hoorn Carbide VC Weert DS 5 | G24: D3M-DH | H24: NDWBE | I24: Sport- en squashcentrum | J24: Nederweert | L24: Sander Verstappen | M24: ouders
A25: 15 | B25: =TEXT(C25,"dddd") -> zaterdag | C25: 46494 | D25: 15:00 | E25: VC HERO DS 5 | F25: VC Fortutas DS 3 | G25: D3M-GD | H25: HENHH | I25: Herteheym | J25: Herten | L25: n.v.t. | M25: n.v.t.

Sheet NH1
C1: Heren 1 | D1: A | E1: Civitas HS2 | F1: G | G1: Shock '82 HS1
C2: KL. H1G | D2: B | E2: Were-Di HS1 | F2: H | G2: Nuvo'68 HS3
D3: C | E3: Fortutas HS1 | F3: I | G3: VC Maasdal HS1
D4: D | E4: DKJO HS1 | F4: J
D5: E | E5: Ledûb HS2 | F5: K
D6: F | E6: Nuvoc HS3 | F6: L
A8: volgnr. | B8: dag | C8: datum | D8: tijdstip | E8: team THUIS | F8: team UIT | G8: lettercode | H8: zaalcode | I8: sporthal | J8: plaats | K8: uitslag | L8: scheidsrechter | M8: teller
A9: Beker
A10: A | B10: =TEXT(C10,"dddd") -> zaterdag | C10: 46270 | D10: 16:00 | E10: VC Fortutas HS 1 | F10: VC Landgraaf-VC FUROS HS 2 | G10: BH1B15-AB | H10: NDWBE | I10: Sport- en squashcentrum | J10: Nederweert | K10: 2-3 | L10: Jeroen Eekhout | M10: André Verstappen & Tessa Verstappen
A11: B | B11: =TEXT(C11,"dddd") -> woensdag | C11: 46281 | D11: 20:00 | E11: Fyrfad HS 2 | F11: VC Fortutas HS 1 | G11: BH1B15-CA | H11: MTTUM | I11: Universitair Sportcentrum UM Sports | J11: Maastricht | K11: 46082 | L11: n.v.t. | M11: n.v.t.
A12: C | B12: =TEXT(C12,"dddd") -> zaterdag | C12: 46312 | D12: 0.72916667 | E12: Numidia VC Limax HS 3 | F12: VC Fortutas HS 1 | G12: BH2B01-16 | H12: HENHH | I12: Herteheym | J12: Herten | K12: 3-0 | L12: n.v.t. | M12: n.v.t.
A14: Competitie
A15: 1 | B15: =TEXT(C15,"dddd") -> zaterdag | C15: 46291 | D15: 16:00 | E15: VC Fortutas HS 1 | F15: Nuvoc HS 3 | G15: H1G-DG | H15: NDWBE | I15: Sport- en squashcentrum | J15: Nederweert | K15: 4-0 | L15: John van Wijk | M15: Marleen Verdonschot
A16: 2 | B16: =TEXT(C16,"dddd") -> zaterdag | C16: 46298 | D16: 13:45 | E16: Ledûb Volleybal HS 2 | F16: VC Fortutas HS 1 | G16: H1G-FD | H16: BDLZU | I16: Zuiderpoort | J16: Budel | K16: 3-2 | L16: n.v.t. | M16: n.v.t.
A17: 3 | B17: =TEXT(C17,"dddd") -> zaterdag | C17: 46305 | D17: 16:00 | E17: VC Fortutas HS 1 | F17: DKJO HS 1 | G17: H1G-DE | H17: NDWBE | I17: Sport- en squashcentrum | J17: Nederweert | K17: 4-0 | L17: Roland Verstappen | M17: John van Wijk & Senna van der Putten
A18: 4 | B18: =TEXT(C18,"dddd") -> zaterdag | C18: 46326 | D18: 19:00 | E18: VC Maasdal HS 1 | F18: VC Fortutas HS 1 | G18: H1G-JD | H18: WEMTU | I18: De Tump | J18: Wessem | L18: n.v.t. | M18: n.v.t.
A19: 5 | B19: =TEXT(C19,"dddd") -> zaterdag | C19: 46333 | D19: 16:00 | E19: Were-Di HS 1 | F19: VC Fortutas HS 1 | G19: H1G-CD | H19: GMTMO | I19: Sportcentrum Molenbroek | J19: Gemert | L19: n.v.t. | M19: n.v.t.
A20: 6 | B20: =TEXT(C20,"dddd") -> zaterdag | C20: 46340 | D20: 16:00 | E20: VC Fortutas HS 1 | F20: Civitas HS 2 | G20: H1G-DB | H20: NDWBE | I20: Sport- en squashcentrum | J20: Nederweert | L20: William Uebelgonne | M20: Cobi van Herten & Suus Nelissen
A21: 7 | B21: =TEXT(C21,"dddd") -> zaterdag | C21: 46354 | D21: 16:00 | E21: VC Fortutas HS 1 | F21: Nuvo'68 HS 3 | G21: H1G-DI | H21: NDWBE | I21: Sport- en squashcentrum | J21: Nederweert | L21: Ingrid Strijdveen | M21: Wendy Gielen & Caley-May Meursing
A22: 8 | B22: =TEXT(C22,"dddd") -> zaterdag | C22: 46368 | D22: 19:00 | E22: Shock '82 Cuijk HS 1 | F22: VC Fortutas HS 1 | G22: H1G-HD | H22: CUYKW | I22: LACO Sportcentrum Cuijk | J22: Cuijk | L22: n.v.t. | M22: n.v.t.
A23: 9 | B23: =TEXT(C23,"dddd") -> zaterdag | C23: 46403 | D23: 0.75 | E23: VC Fortutas HS 1 | F23: Ledûb Volleybal HS 2 | G23: H1G-DF | H23: NDWBE | I23: Sport- en squashcentrum | J23: Nederweert | L23: Jeroen Eekhout | M23: Ralf van der Zanden & Rosi Gillessen
A24: 10 | B24: =TEXT(C24,"dddd") -> zaterdag | C24: 46417 | D24: 18:30 | E24: DKJO HS 1 | F24: VC Fortutas HS 1 | G24: H1G-ED | H24: MRLWE | I24: De Weijer | J24: Mierlo | L24: n.v.t. | M24: n.v.t.
A25: 11 | B25: =TEXT(C25,"dddd") -> zaterdag | C25: 46438 | D25: 16:00 | E25: VC Fortutas HS 1 | F25: VC Maasdal HS 1 | G25: H1G-DJ | H25: NDWBE | I25: Sport- en squashcentrum | J25: Nederweert | L25: Roland Verstappen | M25: Melissa Mans & Mein Leenen
A26: 12 | B26: =TEXT(C26,"dddd") -> zaterdag | C26: 46445 | D26: 16:00 | E26: VC Fortutas HS 1 | F26: Were-Di HS 1 | G26: H1G-DC | H26: NDWBE | I26: Sport- en squashcentrum | J26: Nederweert | L26: William Uebelgonne | M26: Bryan Eggels & Madelon Eekhout
A27: 13 | B27: =TEXT(C27,"dddd") -> zaterdag | C27: 46459 | D27: 16:45 | E27: Civitas HS 2 | F27: VC Fortutas HS 1 | G27: H1G-BD | H27: VLOHA | I27: Ruben Kogeldans Sporthal | J27: Venlo | L27: n.v.t. | M27: n.v.t.
A28: 14 | B28: =TEXT(C28,"dddd") -> zaterdag | C28: 46480 | D28: 16:00 | E28: Nuvo'68 HS 3 | F28: VC Fortutas HS 1 | G28: H1G-ID | H28: NNNHO | I28: De Hongerman | J28: Nuenen | L28: n.v.t. | M28: n.v.t.
A29: 15 | B29: =TEXT(C29,"dddd") -> zaterdag | C29: 46487 | D29: 16:00 | E29: VC Fortutas HS 1 | F29: Shock '82 Cuijk HS 1 | G29: H1G-DH | H29: NDWBE | I29: Sport- en squashcentrum | J29: Nederweert | L29: William Uebelgonne | M29: Melissa Mans
A30: 16 | B30: =TEXT(C30,"dddd") -> zaterdag | C30: 46494 | D30: 14:30 | E30: Nuvoc HS 3 | F30: VC Fortutas HS 1 | G30: H1G-GD | H30: VHVNU | I30: Nuvochal | J30: Veldhoven | L30: n.v.t. | M30: n.v.t.

Sheet MB1
C1: Meisjes B1 | D1: A | E1: Furos MB1 | G1: Meisjes B1 | H1: A
C2: MB3M1 | D2: B | E2: Jokers VC MB2 | H2: B
D3: C | E3: Stravoc MB2 | H3: C
D4: D | E4: ADC MB1 | H4: D
D5: E | E5: VC Fortutas MB1 | H5: E
H6: F
A8: volgnr. | B8: dag | C8: datum | D8: tijdstip | E8: team THUIS | F8: team UIT | G8: lettercode | H8: zaalcode | I8: sporthal | J8: plaats | K8: uitslag | L8: scheidsrechter | M8: teller
A10: 1e HELFT
A11: 1 | B11: =TEXT(C11,"dddd") -> zaterdag | C11: 46277 | D11: 12:30 | E11: Jokers VC MB 2 | F11: VC Fortutas MB 1 | G11: MB3M1-BE | H11: MTTHE | I11: De Heeg | J11: Maastricht | K11: 46025 | L11: n.v.t. | M11: n.v.t.
A12: 2 | B12: =TEXT(C12,"dddd") -> zaterdag | C12: 46291 | D12: 18:00 | E12: VC Fortutas MB 1 | F12: Furos MB 1 | G12: MB3M1-EA | H12: NDWBE | I12: Sport- en squashcentrum | J12: Nederweert | K12: 0-4 | L12: Raff Smits | M12: ouders
A13: 3 | B13: =TEXT(C13,"dddd") -> zaterdag | C13: 46305 | D13: 18:00 | E13: VC Fortutas MB 1 | F13: Jokers VC MB 2 | G13: MB3M1-EB | H13: NDWBE | I13: Sport- en squashcentrum | J13: Nederweert | K13: 4-0 | L13: Ramino Peters | M13: ouders
A14: 4 | B14: =TEXT(C14,"dddd") -> zaterdag | C14: 46326 | D14: 13:00 | E14: Vakgarage Ernes & Piereij - ADC MB 1 | F14: VC Fortutas MB 1 | G14: MB3M1-DE | H14: URMOV | I14: Overmunthe | J14: Urmond | L14: n.v.t. | M14: n.v.t.
A15: 5 | B15: =TEXT(C15,"dddd") -> zaterdag | C15: 46340 | D15: 18:00 | E15: VC Fortutas MB 1 | F15: Vakgarage Ernes & Piereij - ADC MB 1 | G15: MB3M1-ED | H15: NDWBE | I15: Sport- en squashcentrum | J15: Nederweert | L15: Rob Janssen | M15: ouders
A16: 6 | B16: =TEXT(C16,"dddd") -> zaterdag | C16: 46347 | D16: 0.45833333 | E16: Furos MB 1 | F16: VC Fortutas MB 1 | G16: MB3M1-AE | H16: KRDRO | I16: Rolduc | J16: Kerkrade | L16: n.v.t. | M16: n.v.t.
A17: 7 | B17: =TEXT(C17,"dddd") -> zaterdag | C17: 46354 | D17: 18:00 | E17: VC Fortutas MB 1 | F17: Hyundai Peter Janssen Stravoc MB 2 | G17: MB3M1-EC | H17: NDWBE | I17: Sport- en squashcentrum | J17: Nederweert | L17: Sander Verstappen | M17: ouders
A18: 8 | B18: =TEXT(C18,"dddd") -> zaterdag | C18: 46368 | D18: 12:30 | E18: Hyundai Peter Janssen Stravoc MB 2 | F18: VC Fortutas MB 1 | G18: MB3M1-CE | H18: STPGR | I18: De Grenslibel | J18: Stramproy | L18: n.v.t. | M18: n.v.t.
A21: 2e HELFT
A22: 9
A23: 10
A24: 11
A25: 12
A26: 13
A27: 14
A28: 15
A29: 16

Sheet MC1
C1: Meisjes C1 | D1: A | E1: Furos XC1 | G1: Meisjes C1 | H1: A
C2: XC3W1 | D2: B | E2: Jokers VC XC3 | H2: B
D3: C | E3: ADC XC2 | H3: C
D4: D | E4: VC Fortutas MC1 | H4: D
D5: E | E5: VC Heerlen MC1 | H5: E
D6: F | E6: VC Sittardia XC1 | H6: F
A8: volgnr. | B8: dag | C8: datum | D8: tijdstip | E8: team THUIS | F8: team UIT | G8: lettercode | H8: zaalcode | I8: sporthal | J8: plaats | K8: uitslag | L8: scheidsrechter | M8: teller
A10: 1e HELFT
A11: 1 | B11: =TEXT(C11,"dddd") -> zaterdag | C11: 46284 | D11: 16:45 | E11: Jokers VC XC 3 | F11: VC Fortutas MC 1 | G11: XC3W1-BD | H11: MTTHE | I11: De Heeg | J11: Maastricht | K11: 0-4 | L11: n.v.t. | M11: n.v.t.
A12: 2 | B12: =TEXT(C12,"dddd") -> zaterdag | C12: 46291 | D12: 16:00 | E12: VC Fortutas MC 1 | F12: VC Heerlen MC 1 | G12: XC3W1-DE | H12: NDWBE | I12: Sport- en squashcentrum | J12: Nederweert | K12: 0-4 | L12: Ralf van der Zanden | M12: ouders
A13: 3 | B13: =TEXT(C13,"dddd") -> zaterdag | C13: 46298 | D13: 13:00 | E13: Vakgarage Ernes & Piereij - ADC XC 2 | F13: VC Fortutas MC 1 | G13: XC3W1-CD | H13: URMOV | I13: Overmunthe | J13: Urmond | K13: 1-3 | L13: n.v.t. | M13: n.v.t.
A14: 5 | B14: =TEXT(C14,"dddd") -> zaterdag | C14: 46312 | D14: 16:00 | E14: VC Fortutas MC 1 | F14: Vakgarage Ernes & Piereij - ADC XC 2 | G14: XC3W1-DC | H14: NDWBE | I14: Sport- en squashcentrum | J14: Nederweert | L14: Jamy Rademakers | M14: ouders
A15: 6 | B15: =TEXT(C15,"dddd") -> zaterdag | C15: 46319 | D15: 16:00 | E15: VC Fortutas MC 1 | F15: Furos XC 1 | G15: XC3W1-DA | H15: NDWBE | I15: Sport- en squashcentrum | J15: Nederweert | L15: John van Wijk | M15: ouders
A16: 7 | B16: =TEXT(C16,"dddd") -> zaterdag | C16: 46333 | D16: 0.5 | E16: Furos XC 1 | F16: VC Fortutas MC 1 | G16: XC3W1-AD | H16: KRDRO | I16: Rolduc | J16: Kerkrade | L16: n.v.t. | M16: n.v.t.
A17: 8 | B17: =TEXT(C17,"dddd") -> zaterdag | C17: 46340 | D17: 16:00 | E17: VC Fortutas MC 1 | F17: VC Sittardia XC 1 | G17: XC3W1-DF | H17: NDWBE | I17: Sport- en squashcentrum | J17: Nederweert | L17: Kelly Nies | M17: ouders
A18: 4 | B18: =TEXT(C18,"dddd") -> zaterdag | C18: 46347 | D18: 0.63541667 | E18: VC Fortutas MC 1 | F18: Jokers VC XC 3 | G18: XC3W1-DB | H18: NDWBE | I18: Sport- en squashcentrum | J18: Nederweert | L18: Roy Gijsen | M18: ouders
A19: 9 | B19: =TEXT(C19,"dddd") -> zaterdag | C19: 46354 | D19: 0.5 | E19: VC Sittardia XC 1 | F19: VC Fortutas MC 1 | G19: XC3W1-FD | H19: STDKL | I19: Kleesj | J19: Sittard | L19: n.v.t. | M19: n.v.t.
A20: 10 | B20: =TEXT(C20,"dddd") -> zaterdag | C20: 46368 | D20: 17:45 | E20: VC Heerlen MC 1 | F20: VC Fortutas MC 1 | G20: XC3W1-ED | H20: HRLGB | I20: A Gene Bek | J20: Heerlen | L20: n.v.t. | M20: n.v.t.
A22: 2e HELFT
A23: 11
A24: 12
A25: 13
A26: 14
A27: 15
A28: 16
A29: 17
A30: 18
A31: 19
A32: 20

Sheet L5-1
A1: L5-1 | B1: A | C1: Accretos L5 2 | D1: G | E1: Olympia L5 2 | G1: A | I1: G
A2: VN52AC | B2: B | C2: VC Fortutas L5 1 | D2: H | E2: BVC Holyoke L5 1 | G2: B | I2: H
A3: VN52BB | B3: C | C3: Tupos L5 3 | D3: I | G3: C | I3: I
B4: D | C4: Revoc/VCB L5 2 | D4: J | G4: D | I4: J
B5: E | C5: Olsredlem L5 1 | G5: E
B6: F | C6: Klaverblad / HHC L5 1 | G6: F
A8: volgnr. | B8: dag | C8: datum | D8: tijdstip | E8: team THUIS | F8: team UIT | G8: lettercode | H8: zaalcode | I8: sporthal | J8: plaats | K8: uitslag | L8: scheidsrechter | M8: teller | N8: Zaalwacht
A10: Blok 1
A11: 1 | B11: =TEXT(C11,"dddd") -> zondag | C11: 46285 | D11: 10:55 | E11: Accretos L5 2 | F11: VC Fortutas L5 1 | G11: VN52AC-AD | H11: BLOKA | I11: De Kazing | J11: Baarlo LB | K11: 4-0 | L11: n.v.t. | M11: n.v.t. | N11: n.v.t.
A12: 1 | B12: =TEXT(C12,"dddd") -> zondag | C12: 46285 | D12: 11:35 | E12: VC Fortutas L5 1 | F12: Olsredlem L5 1 | G12: VN52AC-DB | H12: BLOKA | I12: De Kazing | J12: Baarlo LB | K12: 0-4 | L12: n.v.t. | M12: n.v.t. | N12: n.v.t.
A13: 1 | B13: =TEXT(C13,"dddd") -> zondag | C13: 46285 | D13: 11:55 | E13: Tupos L5 3 | F13: VC Fortutas L5 1 | G13: VN52AC-CD | H13: BLOKA | I13: De Kazing | J13: Baarlo LB | K13: 4-0 | L13: n.v.t. | M13: n.v.t. | N13: n.v.t.
A14: 2 | B14: =TEXT(C14,"dddd") -> zondag | C14: 46299 | D14: 10:55 | E14: VC Fortutas L5 1 | F14: Olsredlem L5 1 | G14: VN52AC-DB-2 | H14: PNGPI | I14: Piushof | J14: Panningen | K14: 46082 | L14: n.v.t. | M14: n.v.t. | N14: n.v.t.
A15: 2 | B15: =TEXT(C15,"dddd") -> zondag | C15: 46299 | D15: 11:35 | E15: Tupos L5 3 | F15: VC Fortutas L5 1 | G15: VN52AC-CD-2 | H15: PNGPI | I15: Piushof | J15: Panningen | K15: 4-0 | L15: n.v.t. | M15: n.v.t. | N15: n.v.t.
A16: 2 | B16: =TEXT(C16,"dddd") -> zondag | C16: 46299 | D16: 11:55 | E16: Revoc/VCB L5 2 | F16: VC Fortutas L5 1 | G16: VN52AC-FD | H16: PNGPI | I16: Piushof | J16: Panningen | K16: 46055 | L16: n.v.t. | M16: n.v.t. | N16: n.v.t.
A17: 3 | B17: =TEXT(C17,"dddd") -> zondag | C17: 46306 | D17: 0.43055556 | E17: Tupos L5 2 | F17: VC Fortutas L5 1 | G17: VN52BB-CD | H17: BLOKA | I17: De Kazing | J17: Baarlo LB | K17: 4-0 | L17: n.v.t. | M17: n.v.t. | N17: n.v.t.
A18: 3 | B18: =TEXT(C18,"dddd") -> zondag | C18: 46306 | D18: 0.44444444 | E18: VC Fortutas L5 1 | F18: KLAVERBLAD / HHC L5 1 | G18: VN52BB-DB | H18: BLOKA | I18: De Kazing | J18: Baarlo LB | K18: 0-4 | L18: n.v.t. | M18: n.v.t. | N18: n.v.t.
A19: 3 | B19: =TEXT(C19,"dddd") -> zondag | C19: 46306 | D19: 0.47222222 | E19: Accretos L5 2 | F19: VC Fortutas L5 1 | G19: VN52BB-AD | H19: BLOKA | I19: De Kazing | J19: Baarlo LB | K19: 4-0 | L19: n.v.t. | M19: n.v.t. | N19: n.v.t.
A20: 4 | B20: =TEXT(C20,"dddd") -> zondag | C20: 46327 | D20: 0.41666667 | E20: VC Fortutas L5 1 | F20: Accretos L5 2 | G20: VN52BB-DA | H20: VELVI | I20: De Vilgaard | J20: Velden | L20: n.v.t. | M20: n.v.t. | N20: n.v.t.
A21: 4 | B21: =TEXT(C21,"dddd") -> zondag | C21: 46327 | D21: 0.43055556 | E21: BVC Holyoke L5 1 | F21: VC Fortutas L5 1 | G21: VN52BB-ED | H21: VELVI | I21: De Vilgaard | J21: Velden | L21: n.v.t. | M21: n.v.t. | N21: n.v.t.
A22: 4 | B22: =TEXT(C22,"dddd") -> zondag | C22: 46327 | D22: 0.45833333 | E22: VC Fortutas L5 1 | F22: VC Olympia L5 2 | G22: VN52BB-DF | H22: VELVI | I22: De Vilgaard | J22: Velden | L22: n.v.t. | M22: n.v.t. | N22: n.v.t.

Sheet L5-2
A1: L5-2 | B1: A | C1: VC Fortutas L5 2 | D1: G | E1: Olsredlem L5 1 | G1: A | I1: G
A2: VN52AD | B2: B | C2: BVC Holyoke L5 1 | D2: H | E2: Tupos L5 3 | G2: B | I2: H
A3: VN52BC | B3: C | C3: Revoc/VCB L5 3 | D3: I | G3: C | I3: I
B4: D | C4: Hovoc L5 2 | D4: J | G4: D | I4: J
B5: E | C5: VC Olympia L5 3 | G5: E
B6: F | C6: Bach SV L5 1 | G6: F
A8: veld | B8: dag | C8: datum | D8: tijdstip | E8: team THUIS | F8: team UIT | G8: lettercode | H8: zaalcode | I8: sporthal | J8: plaats | K8: uitslag | L8: scheidsrechter | M8: teller | N8: Zaalwacht
A10: Blok 1
A11: 1 | B11: =TEXT(C11,"dddd") -> zondag | C11: 46285 | D11: 10:20 | E11: VC Fortutas L5 2 | F11: BVC Holyoke L5 1 | G11: VN52AD-FD | H11: HRTDE | I11: Dendron Sporthal | J11: Horst | K11: 0-4 | L11: n.v.t. | M11: n.v.t. | N11: n.v.t.
A12: 1 | B12: =TEXT(C12,"dddd") -> zondag | C12: 46285 | D12: 11:00 | E12: VC Fortutas L5 2 | F12: Revoc/VCB L5 3 | G12: VN52AD-FG | H12: HRTDE | I12: Dendron Sporthal | J12: Horst | K12: 0-4 | L12: n.v.t. | M12: n.v.t. | N12: n.v.t.
A13: 1 | B13: =TEXT(C13,"dddd") -> zondag | C13: 46285 | D13: 11:40 | E13: Hovoc L5 2 | F13: VC Fortutas L5 2 | G13: VN52AD-AF | H13: HRTDE | I13: Dendron Sporthal | J13: Horst | K13: 4-0 | L13: n.v.t. | M13: n.v.t. | N13: n.v.t.
A14: 1 | B14: =TEXT(C14,"dddd") -> zondag | C14: 46285 | D14: 12:00 | E14: VC Olympia L5 3 | F14: VC Fortutas L5 2 | G14: VN52AD-EF | H14: HRTDE | I14: Dendron Sporthal | J14: Horst | K14: 4-0 | L14: n.v.t. | M14: n.v.t. | N14: n.v.t.
A15: 2 | B15: =TEXT(C15,"dddd") -> zondag | C15: 46299 | D15: 10:00 | E15: VC Fortutas L5 2 | F15: BVC Holyoke L5 1 | G15: VN52AD-FD-2 | H15: GBVHA | I15: 't Haeren | J15: Grubbenvorst | K15: 46055 | L15: n.v.t. | M15: n.v.t. | N15: n.v.t.
A16: 2 | B16: =TEXT(C16,"dddd") -> zondag | C16: 46299 | D16: 10:40 | E16: VC Fortutas L5 2 | F16: Revoc/VCB L5 3 | G16: VN52AD-FG-2 | H16: GBVHA | I16: 't Haeren | J16: Grubbenvorst | K16: 0-4 | L16: n.v.t. | M16: n.v.t. | N16: n.v.t.
A17: 2 | B17: =TEXT(C17,"dddd") -> zondag | C17: 46299 | D17: 11:20 | E17: Hovoc L5 2 | F17: VC Fortutas L5 2 | G17: VN52AD-AF-2 | H17: GBVHA | I17: 't Haeren | J17: Grubbenvorst | K17: 4-0 | L17: n.v.t. | M17: n.v.t. | N17: n.v.t.
A18: 2 | B18: =TEXT(C18,"dddd") -> zondag | C18: 46299 | D18: 11:40 | E18: VC Olympia L5 3 | F18: VC Fortutas L5 2 | G18: VN52AD-EF-2 | H18: GBVHA | I18: 't Haeren | J18: Grubbenvorst | K18: 4-0 | L18: n.v.t. | M18: n.v.t. | N18: n.v.t.
A19: 3 | B19: =TEXT(C19,"dddd") -> zondag | C19: 46306 | D19: 0.45833333 | E19: VC Fortutas L5 2 | F19: VC Olympia L5 3 | G19: VN52BC-EF | H19: BLOKA | I19: De Kazing | J19: Baarlo LB | K19: 4-0 | L19: n.v.t. | M19: n.v.t. | N19: n.v.t.
A20: 3 | B20: =TEXT(C20,"dddd") -> zondag | C20: 46306 | D20: 0.48611111 | E20: VC Fortutas L5 2 | F20: Bach SV L5 1 | G20: VN52BC-EA | H20: BLOKA | I20: De Kazing | J20: Baarlo LB | K20: 0-4 | L20: n.v.t. | M20: n.v.t. | N20: n.v.t.
A21: 3 | B21: =TEXT(C21,"dddd") -> zondag | C21: 46306 | D21: 0.5 | E21: Olsredlem L5 1 | F21: VC Fortutas L5 2 | G21: VN52BC-BE | H21: BLOKA | I21: De Kazing | J21: Baarlo LB | K21: 2-2 | L21: n.v.t. | M21: n.v.t. | N21: n.v.t.
A22: 4 | B22: =TEXT(C22,"dddd") -> zondag | C22: 46327 | D22: 0.44444444 | E22: BVC Holyoke L5 2 | F22: VC Fortutas L5 2 | G22: VN52BC-CE | H22: VELVI | I22: De Vilgaard | J22: Velden | L22: n.v.t. | M22: n.v.t. | N22: n.v.t.
A23: 4 | B23: =TEXT(C23,"dddd") -> zondag | C23: 46327 | D23: 0.47222222 | E23: VC Fortutas L5 2 | F23: Tupos L5 3 | G23: VN52BC-ED | H23: VELVI | I23: De Vilgaard | J23: Velden | L23: n.v.t. | M23: n.v.t. | N23: n.v.t.
A24: 4 | B24: =TEXT(C24,"dddd") -> zondag | C24: 46327 | D24: 0.48611111 | E24: VC Olympia L5 3 | F24: VC Fortutas L5 2 | G24: VN52BC-FE | H24: VELVI | I24: De Vilgaard | J24: Velden | L24: n.v.t. | M24: n.v.t. | N24: n.v.t.

Sheet L2-1
A1: L2-1 | B1: A | D1: G | G1: A | I1: G
A2: VN22 | B2: B | D2: H | G2: B | I2: H
B3: C | D3: I | G3: C | I3: I
B4: D | D4: J | G4: D | I4: J
B5: E | G5: E
B6: F | G6: F
A8: veld | B8: dag | C8: datum | D8: tijdstip | E8: team THUIS | F8: team UIT | G8: lettercode | H8: zaalcode | I8: sporthal | J8: plaats | K8: uitslag | L8: scheidsrechter | M8: teller | N8: Zaalwacht
A11: 1 | B11: =TEXT(C11,"dddd") -> zondag | C11: 46292 | D11: 0.42361111 | E11: VC Fortutas L2 1 | F11: VC LIMAX L2 1 | G11: VN22AI-CD | H11: ELLSC | I11: Gymzaal Scheyvenstraat | J11: Ell | K11: 2-0 | L11: n.v.t. | M11: n.v.t. | N11: n.v.t.
A12: 1 | B12: =TEXT(C12,"dddd") -> zondag | C12: 46292 | D12: 0.43055556 | E12: Bach SV L2 2 | F12: VC Fortutas L2 1 | G12: VN22AI-BC | H12: ELLSC | I12: Gymzaal Scheyvenstraat | J12: Ell | K12: 2-0 | L12: n.v.t. | M12: n.v.t. | N12: n.v.t.
A13: 1 | B13: =TEXT(C13,"dddd") -> zondag | C13: 46292 | D13: 0.44444444 | E13: VC Fortutas L2 1 | F13: Bach SV L2 1 | G13: VN22AI-CA | H13: ELLSC | I13: Gymzaal Scheyvenstraat | J13: Ell | K13: 2-0 | L13: n.v.t. | M13: n.v.t. | N13: n.v.t.
A14: 1 | B14: =TEXT(C14,"dddd") -> zondag | C14: 46292 | D14: 0.46527778 | E14: VC LIMAX L2 1 | F14: VC Fortutas L2 1 | G14: VN22AI-DC | H14: ELLSC | I14: Gymzaal Scheyvenstraat | J14: Ell | K14: 0-2 | L14: n.v.t. | M14: n.v.t. | N14: n.v.t.
A15: 1 | B15: =TEXT(C15,"dddd") -> zondag | C15: 46292 | D15: 0.47222222 | E15: VC Fortutas L2 1 | F15: Bach SV L2 2 | G15: VN22AI-CB | H15: ELLSC | I15: Gymzaal Scheyvenstraat | J15: Ell | K15: 2-0 | L15: n.v.t. | M15: n.v.t. | N15: n.v.t.
A16: 2 | B16: =TEXT(C16,"dddd") -> zondag | C16: 46306 | D16: 0.39583333 | E16: Olsredlem L2 2 | F16: VC Fortutas L2 1 | G16: VN22BH-AE | H16: HRTDE | I16: Dendron Sporthal | J16: Horst | K16: 2-0 | L16: n.v.t. | M16: n.v.t. | N16: n.v.t.
A17: 2 | B17: =TEXT(C17,"dddd") -> zondag | C17: 46306 | D17: 0.40972222 | E17: VC Fortutas L2 1 | F17: Set Up L2 1 | G17: VN22BH-EB | H17: HRTDE | I17: Dendron Sporthal | J17: Horst | K17: 0-2 | L17: n.v.t. | M17: n.v.t. | N17: n.v.t.
A18: 2 | B18: =TEXT(C18,"dddd") -> zondag | C18: 46306 | D18: 0.42361111 | E18: VC Fortutas L2 1 | F18: Revoc/VCB L2 2 | G18: VN22BH-ED | H18: HRTDE | I18: Dendron Sporthal | J18: Horst | K18: 2-0 | L18: n.v.t. | M18: n.v.t. | N18: n.v.t.
A19: 2 | B19: =TEXT(C19,"dddd") -> zondag | C19: 46306 | D19: 0.43055556 | E19: Revoc/VCB L2 1 | F19: VC Fortutas L2 1 | G19: VN22BH-CE | H19: HRTDE | I19: Dendron Sporthal | J19: Horst | K19: 0-2 | L19: n.v.t. | M19: n.v.t. | N19: n.v.t.
A20: 3 | B20: =TEXT(C20,"dddd") -> zondag | C20: 46334 | D20: 0.41666667 | E20: VC Olympia L2 2 | F20: VC Fortutas L2 1 | G20: VN22CJ-BD | H20: MDOBE | I20: MFC De Zwingel | J20: Melderslo | L20: n.v.t. | M20: n.v.t. | N20: n.v.t.
A21: 3 | B21: =TEXT(C21,"dddd") -> zondag | C21: 46334 | D21: 0.42361111 | E21: VC Fortutas L2 1 | F21: VC Olympia L2 1 | G21: VN22CJ-DA | H21: MDOBE | I21: MFC De Zwingel | J21: Melderslo | L21: n.v.t. | M21: n.v.t. | N21: n.v.t.
A22: 3 | B22: =TEXT(C22,"dddd") -> zondag | C22: 46334 | D22: 0.4375 | E22: Olsredlem L2 1 | F22: VC Fortutas L2 1 | G22: VN22CJ-ED | H22: MDOBE | I22: MFC De Zwingel | J22: Melderslo | L22: n.v.t. | M22: n.v.t. | N22: n.v.t.
A23: 3 | B23: =TEXT(C23,"dddd") -> zondag | C23: 46334 | D23: 0.45138889 | E23: VC Fortutas L2 1 | F23: VC Olympia L2 5 | G23: VN22CJ-DC | H23: MDOBE | I23: MFC De Zwingel | J23: Melderslo | L23: n.v.t. | M23: n.v.t. | N23: n.v.t.

Sheet RH1
A1: Recreanten H1 | B1: 1 | C1: VC Fortutas RH1 | D1: 6 | E1: VC Maasdal
A2: 2e klasse | B2: 2 | C2: VCM1 | D2: 7 | E2: VC Mofert
B3: 3 | C3: VCP Gem | D3: 8 | E3: VC Fortutas RH1
B4: 4 | C4: Stravoc 2
B5: 5 | C5: TVC Recreatie
A8: volgnr. | B8: dag | C8: datum | D8: tijdstip | E8: team THUIS | F8: team UIT | G8: lettercode | H8: zaalcode | I8: sporthal | J8: plaats | K8: uitslag | L8: scheidsrechter | M8: teller
A10: 1e HELFT
A11: 1 | B11: =TEXT(C11,"dddd") -> donderdag | C11: 46338 | D11: 0.83333333 | E11: VC Fortutas RH1 | F11: V.C.P. Gem | I11: Sport- en squashcentrum | J11: Nederweert | L11: Rob Princen | M11: n.v.t.
A12: 2 | B12: =TEXT(C12,"dddd") -> woensdag | C12: 46344 | D12: 0.83333333 | E12: Stravoc 2 | F12: VC Fortutas RH1 | I12: De Grenslibel | J12: Stramproy | L12: n.v.t. | M12: n.v.t.
A13: 3 | B13: =TEXT(C13,"dddd") -> donderdag | C13: 46352 | D13: 0.83333333 | E13: VC Fortutas RH1 | F13: V.C.M. 1 | I13: Sport- en squashcentrum | J13: Nederweert | L13: Margo Saes | M13: n.v.t.
A14: 4 | B14: =TEXT(C14,"dddd") -> donderdag | C14: 46366 | D14: 0.875 | E14: TVC Recreatie | F14: VC Fortutas RH1 | I14: De Bongerd | J14: Tongerlo (B) | L14: n.v.t. | M14: n.v.t.
A15: 5 | B15: =TEXT(C15,"dddd") -> maandag | C15: 46370 | D15: 0.83333333 | E15: VC Fortutas RH1 | F15: VC Fortutas RH2 | I15: Sport- en squashcentrum | J15: Nederweert | L15: Henk Janssen | M15: n.v.t.
A16: 6 | B16: =TEXT(C16,"dddd") -> dinsdag | C16: 46392 | D16: 0.83333333 | E16: VC Mofert | F16: VC Fortutas RH1 | I16: De Koeweide | J16: Monfort | L16: n.v.t. | M16: n.v.t.
A17: 7 | B17: =TEXT(C17,"dddd") -> donderdag | C17: 46401 | D17: 0.83333333 | E17: VC Fortutas RH1 | F17: VC Maasdal Gem. | I17: Sport- en squashcentrum | J17: Nederweert | L17: Manon Janssen | M17: n.v.t.
A19: 2e HELFT
A20: 8 | B20: =TEXT(C20,"dddd") -> dinsdag | C20: 46434 | D20: 0.83333333 | E20: V.C.P. Gem. | F20: VC Fortutas RH1 | I20: In de Bandert | J20: Echt | L20: n.v.t. | M20: n.v.t.
A21: 9 | B21: =TEXT(C21,"dddd") -> donderdag | C21: 46443 | D21: 0.83333333 | E21: VC Fortutas RH1 | F21: Stravoc 2 | I21: Sport- en squashcentrum | J21: Nederweert | L21: Gert-Jan Adema | M21: n.v.t.
A22: 10 | B22: =TEXT(C22,"dddd") -> donderdag | C22: 46450 | D22: 0.8125 | E22: V.C.M. 1 | F22: VC Fortutas RH1 | I22: De Smeltkroes | J22: Maarheeze | L22: n.v.t. | M22: n.v.t.
A23: 11 | B23: =TEXT(C23,"dddd") -> donderdag | C23: 46457 | D23: 0.83333333 | E23: VC Fortutas RH1 | F23: TVC Recreatie | I23: Sport- en squashcentrum | J23: Nederweert | L23: Rob Princen | M23: n.v.t.
A24: 12 | B24: =TEXT(C24,"dddd") -> maandag | C24: 46461 | D24: 0.83333333 | E24: VC Fortutas RH2 | F24: VC Fortutas RH1 | I24: Sport- en squashcentrum | J24: Nederweert | L24: Henk Janssen | M24: n.v.t.
A25: 13 | B25: =TEXT(C25,"dddd") -> donderdag | C25: 46471 | D25: 0.83333333 | E25: VC Fortutas RH1 | F25: VC Mofert | I25: Sport- en squashcentrum | J25: Nederweert | L25: Manon Janssen | M25: n.v.t.
A26: 14 | B26: =TEXT(C26,"dddd") -> woensdag | C26: 46477 | D26: 0.8125 | E26: VC Maadal Gem. | F26: VC Fortutas RH1 | I26: Sportzaal | J26: Wessem | L26: n.v.t. | M26: n.v.t.

Sheet RH2
A1: Recreanten H2 | B1: 1 | C1: VC Fortutas RH1 | D1: 6 | E1: VC Maasdal
A2: 2e klasse | B2: 2 | C2: VCM1 | D2: 7 | E2: VC Mofert
B3: 3 | C3: VCP Gem | D3: 8 | E3: VC Fortutas RH1
B4: 4 | C4: Stravoc 2
B5: 5 | C5: TVC Recreatie
A8: volgnr. | B8: dag | C8: datum | D8: tijdstip | E8: team THUIS | F8: team UIT | G8: lettercode | H8: zaalcode | I8: sporthal | J8: plaats | K8: uitslag | L8: scheidsrechter | M8: teller
A10: 1e HELFT
A11: 1 | B11: =TEXT(C11,"dddd") -> maandag | C11: 46321 | D11: 0.83333333 | E11: VC Fortutas RH2 | F11: Stravoc 2 | I11: Sport- en squashcentrum | J11: Nederweert | L11: Henk Janssen | M11: n.v.t.
A12: 2 | B12: =TEXT(C12,"dddd") -> donderdag | C12: 46331 | D12: 0.8125 | E12: V.C.M. 1 | F12: VC Fortutas RH2 | I12: De Smeltkroes | J12: Maarheeze | L12: n.v.t. | M12: n.v.t.
A13: 3 | B13: =TEXT(C13,"dddd") -> maandag | C13: 46335 | D13: 0.83333333 | E13: VC Fortutas RH2 | F13: TVC Recreatie | I13: Sport- en squashcentrum | J13: Nederweert | L13: Henk Janssen | M13: n.v.t.
A14: 4 | B14: =TEXT(C14,"dddd") -> dinsdag | C14: 46350 | D14: 0.83333333 | E14: VC Mofert | F14: VC Fortutas RH2 | I14: De Koeweide | J14: Monfort | L14: n.v.t. | M14: n.v.t.
A15: 5 | B15: =TEXT(C15,"dddd") -> maandag | C15: 46363 | D15: 0.83333333 | E15: VC Fortutas RH2 | F15: VC Maasdal Gem. | I15: Sport- en squashcentrum | J15: Nederweert | L15: Henk Janssen | M15: n.v.t.
A16: 6 | B16: =TEXT(C16,"dddd") -> maandag | C16: 46370 | D16: 0.83333333 | E16: VC Fortutas RH1 | F16: VC Fortutas RH2 | I16: Sport- en squashcentrum | J16: Nederweert | L16: Henk Janssen | M16: n.v.t.
A17: 7 | B17: =TEXT(C17,"dddd") -> dinsdag | C17: 46399 | D17: 0.83333333 | E17: V.C.P. Gem | F17: VC Fortutas RH2 | I17: In de Bandert | J17: Echt | L17: n.v.t. | M17: n.v.t.
A19: 2e HELFT
A20: 8 | B20: =TEXT(C20,"dddd") -> woensdag | C20: 46414 | D20: 0.83333333 | E20: Stravoc 2 | F20: VC Fortutas RH2 | I20: De Grenslibel | J20: Stramproy | L20: n.v.t. | M20: n.v.t.
A21: 9 | B21: =TEXT(C21,"dddd") -> maandag | C21: 46419 | D21: 0.83333333 | E21: VC Fortutas RH2 | F21: V.C.M. 1 | I21: Sport- en squashcentrum | J21: Nederweert | L21: Henk Janssen | M21: n.v.t.
A22: 10 | B22: =TEXT(C22,"dddd") -> donderdag | C22: 46436 | D22: 0.875 | E22: TVC Recreatie | F22: VC Fortutas RH2 | I22: De Bongerd | J22: Tongerlo (B) | L22: n.v.t. | M22: n.v.t.
A23: 11 | B23: =TEXT(C23,"dddd") -> maandag | C23: 46447 | D23: 0.83333333 | E23: VC Fortutas RH2 | F23: VC Mofert | I23: Sport- en squashcentrum | J23: Nederweert | L23: Henk Janssen | M23: n.v.t.
A24: 12 | B24: =TEXT(C24,"dddd") -> woensdag | C24: 46456 | D24: 0.8125 | E24: VC Maasdal Gem. | F24: VC Fortutas RH2 | I24: Sportzaal | J24: Wessem | L24: n.v.t. | M24: n.v.t.
A25: 13 | B25: =TEXT(C25,"dddd") -> maandag | C25: 46461 | D25: 0.83333333 | E25: VC Fortutas RH2 | F25: VC Fortutas RH1 | I25: Sport- en squashcentrum | J25: Nederweert | L25: Henk Janssen | M25: n.v.t.
A26: 14 | B26: =TEXT(C26,"dddd") -> zondag | C26: 46117 | D26: 0.83333333 | E26: VC Fortutas RH2 | F26: V.C.P. Gem. | I26: Sport- en squashcentrum | J26: Nederweert | L26: Henk Janssen | M26: n.v.t.

Sheet RD1
A1: Recreanten D1 | B1: 1 | C1: VC Fortutas RD1 | D1: 6 | E1: Govoc
A2: 2e klasse | B2: 2 | C2: SV Ludentes D | D2: 7 | E2: Molenbeersel 2
B3: 3 | C3: VC Weert/VCB 1 | D3: 8 | E3: Molenbeersel 1
B4: 4 | C4: VC Weert/VCB 2
B5: 5 | C5: VC Maasdal
A8: volgnr. | B8: dag | C8: datum | D8: tijdstip | E8: team THUIS | F8: team UIT | G8: lettercode | H8: zaalcode | I8: sporthal | J8: plaats | K8: uitslag | L8: scheidsrechter | M8: teller
A10: 1e HELFT
A11: 1 | B11: =TEXT(C11,"dddd") -> vrijdag | C11: 46325 | D11: 0.875 | E11: Molenbeersel 2 | F11: VC Fortutas RD1 | I11: Op Sjeure | J11: Molenbeersel (B) | L11: n.v.t. | M11: n.v.t.
A12: 2 | B12: =TEXT(C12,"dddd") -> donderdag | C12: 46331 | D12: 0.83333333 | E12: VC Fortutas RD1 | F12: SV Ludentes D | I12: Sport- en squashcentrum | J12: Nederweert | L12: Fadumo Abdi Omar | M12: n.v.t.
A13: 3 | B13: =TEXT(C13,"dddd") -> woensdag | C13: 46337 | D13: 0.83333333 | E13: Molenbeersel 1 | F13: VC Fortutas RD1 | I13: Op Sjeure | J13: Molenbeersel (B) | L13: n.v.t. | M13: n.v.t.
A14: 4 | B14: =TEXT(C14,"dddd") -> maandag | C14: 46349 | D14: 0.83333333 | E14: VC Maasdal | F14: VC Fortutas RD1 | I14: Sportzaal | J14: Wessem | L14: n.v.t. | M14: n.v.t.
A15: 5 | B15: =TEXT(C15,"dddd") -> maandag | C15: 46370 | D15: 0.83333333 | E15: Govoc | F15: VC Fortutas RD1 | I15: De Vroenhof | J15: Kinrooi (B) | L15: n.v.t. | M15: n.v.t.
A16: 6 | B16: =TEXT(C16,"dddd") -> donderdag | C16: 46394 | D16: 0.83333333 | E16: VC Fortutas RD1 | F16: VC Weert/VCB 1 | I16: Sport- en squashcentrum | J16: Nederweert | L16: Rita de Leeuw | M16: n.v.t.
A17: 7 | B17: =TEXT(C17,"dddd") -> dinsdag | C17: 46399 | D17: 0.78125 | E17: VC Weert/VCB 2 | F17: VC Fortutas RD1 | I17: Aan de Bron | J17: Weert | L17: n.v.t. | M17: n.v.t.
A19: 2e HELFT
A20: 8 | B20: =TEXT(C20,"dddd") -> donderdag | C20: 46415 | D20: 0.83333333 | E20: VC Fortutas RD1 | F20: Molenbeersel 2 | I20: Sport- en squashcentrum | J20: Nederweert | L20: Rita de Leeuw | M20: n.v.t.
A21: 9 | B21: =TEXT(C21,"dddd") -> donderdag | C21: 46422 | D21: 0.83333333 | E21: SV Ludentes D | F21: VC Fortutas RD1 | I21: Roerparel | J21: St. Odiliënberg | L21: n.v.t. | M21: n.v.t.
A22: 10 | B22: =TEXT(C22,"dddd") -> donderdag | C22: 46436 | D22: 0.83333333 | E22: VC Fortutas RD1 | F22: Molenbeersel 1 | I22: Sport- en squashcentrum | J22: Nederweert | L22: Kyra van Schendel | M22: n.v.t.
A23: 11 | B23: =TEXT(C23,"dddd") -> donderdag | C23: 46450 | D23: 0.83333333 | E23: VC Fortutas RD1 | F23: VC Maasdal | I23: Sport- en squashcentrum | J23: Nederweert | L23: Fadumo Abdi Omar | M23: n.v.t.
A24: 12 | B24: =TEXT(C24,"dddd") -> donderdag | C24: 46464 | D24: 0.83333333 | E24: VC Fortutas RD1 | F24: Govoc | I24: Sport- en squashcentrum | J24: Nederweert | L24: Sophie Doensen | M24: n.v.t.
A25: 13 | B25: =TEXT(C25,"dddd") -> dinsdag | C25: 46469 | D25: 0.78125 | E25: VC Weert/VCB 1 | F25: VC Fortutas RD1 | I25: Aan de Bron | J25: Weert | L25: n.v.t. | M25: n.v.t.
A26: 14 | B26: =TEXT(C26,"dddd") -> donderdag | C26: 46478 | D26: 0.83333333 | E26: VC Fortutas RD1 | F26: VC Weert/VCB 2 | I26: Sport- en squashcentrum | J26: Nederweert | L26: Nel Ronken | M26: n.v.t.
